Workbook
Name Active_Duty_Cycle: 'Drive Table'!$D$136
Name CompareWarrYrs: 'Drive Table'!$D$137
Name CostPerKWH: 'Drive Table'!$D$135
Name Day_in_Year: 'Drive Table'!$D$143
Name Days_In_Month: 'Drive Table'!$D$142
Name Days_in_Year: 'Drive Table'!$D$143
Name Hours_In_Day: 'Drive Table'!$D$140
Name Hours_In_Month: 'Drive Table'!$D$141
Name Incremental_Warr_Yr: 'Drive Table'!$D$138
Name Months_In_Year: 'Drive Table'!$D$144
Name Power_On_Hours_Year: 'Drive Table'!$D$139

Sheet Drive Table
A1: SPECIFICATIONS | G1: PERFORMANCE | L1: LONGJEVITY | Q1: POWER USAGE | U1: Actual | W1: Warranty_Normalized_Computed | Z1: TBD | AA1: Energy
A2: Date | B2: Manu | C2: Model | D2: Type | E2: FormFactor | F2: SizTB | G2: RPM | H2: AvgLatency | I2: SeekT | J2: PerfCmp | K2: XferRate | L2: Warnty | M2: CycleCnt | N2: WorkLoad | O2: MTBF | P2: RErrRate | Q2: MaxStartupWatts | R2: Watts Active | S2: Watts Idle | T2: WattsStandby | U2: Cost | V2: $ TB | W2: $+Warr | X2: $PerTB | Y2: $ TB/year | Z2: Comp $/Perf/Size | AA2: Energy$year | AB2: Energy$yearPerTB | AC2: Notes
A3: 43019 | B3: HGST | C3: Deskstar NAS | D3: NAS | E3: 3.5 | F3: 4 | G3: 7200 | I3: 11.99 | J3: =(Table5[[#This Row],[RPM]]/5400-1) -> 0.33333333 | K3: 202 | L3: 3 | M3: 600000 | O3: 1000000 | P3: =10^14 -> 100000000000000 | Q3: =1.2*5+2*12 -> 30 | S3: 7.3 | U3: 133.99 | V3: =Table5[[#This Row],[Cost]]/Table5[[#This Row],[SizTB]] -> 33.4975 | W3: =Table5[[#This Row],[Cost]]+((CompareWarrYrs-Table5[[#This Row],[Warnty]])*(Incremental_Warr_Yr*Table5[[#This Row],[Cost]])) -> 163.4678 | X3: =Table5[[#This Row],[$+Warr]]/Table5[[#This Row],[SizTB]] -> 40.86695 | Y3: =Table5[[#This Row],[$PerTB]]/CompareWarrYrs -> 8.17339 | AC3: HGST drives are now
A4: 43019 | B4: HGST | C4: Deskstar NAS | D4: NAS | E4: 3.5 | F4: 6 | G4: 7200 | I4: 11.99 | J4: =(Table5[[#This Row],[RPM]]/5400-1) -> 0.33333333 | K4: 227 | L4: 3 | M4: 600000 | O4: 1000000 | P4: =10^14 -> 100000000000000 | Q4: =1.2*5+2*12 -> 30 | S4: 7.3 | U4: 194.99 | V4: =Table5[[#This Row],[Cost]]/Table5[[#This Row],[SizTB]] -> 32.498333 | W4: =Table5[[#This Row],[Cost]]+((CompareWarrYrs-Table5[[#This Row],[Warnty]])*(Incremental_Warr_Yr*Table5[[#This Row],[Cost]])) -> 237.8878 | X4: =Table5[[#This Row],[$+Warr]]/Table5[[#This Row],[SizTB]] -> 39.647967 | Y4: =Table5[[#This Row],[$PerTB]]/CompareWarrYrs -> 7.9295933 | AC4: owned by WD
A5: 43019 | B5: HGST | C5: Deskstar NAS | D5: NAS | E5: 3.5 | F5: 8 | G5: 7200 | I5: 11.99 | J5: =(Table5[[#This Row],[RPM]]/5400-1) -> 0.33333333 | K5: 205 | L5: 3 | M5: 600000 | O5: 1000000 | P5: =10^14 -> 100000000000000 | Q5: =1.2*5+2*12 -> 30 | S5: 5.1 | U5: 279.99 | V5: =Table5[[#This Row],[Cost]]/Table5[[#This Row],[SizTB]] -> 34.99875 | W5: =Table5[[#This Row],[Cost]]+((CompareWarrYrs-Table5[[#This Row],[Warnty]])*(Incremental_Warr_Yr*Table5[[#This Row],[Cost]])) -> 341.5878 | X5: =Table5[[#This Row],[$+Warr]]/Table5[[#This Row],[SizTB]] -> 42.698475 | Y5: =Table5[[#This Row],[$PerTB]]/CompareWarrYrs -> 8.539695
A6: 43019 | B6: HGST | C6: Deskstar NAS | D6: NAS | E6: 3.5 | F6: 10 | G6: 7200 | I6: 11.99 | J6: =(Table5[[#This Row],[RPM]]/5400-1) -> 0.33333333 | K6: 240 | L6: 3 | M6: 600000 | O6: 1000000 | P6: =10^14 -> 100000000000000 | Q6: =1.2*5+2*12 -> 30 | S6: 5.1 | U6: 349.99 | V6: =Table5[[#This Row],[Cost]]/Table5[[#This Row],[SizTB]] -> 34.999 | W6: =Table5[[#This Row],[Cost]]+((CompareWarrYrs-Table5[[#This Row],[Warnty]])*(Incremental_Warr_Yr*Table5[[#This Row],[Cost]])) -> 426.9878 | X6: =Table5[[#This Row],[$+Warr]]/Table5[[#This Row],[SizTB]] -> 42.69878 | Y6: =Table5[[#This Row],[$PerTB]]/CompareWarrYrs -> 8.539756
A7: 43005 | B7: HGST | C7: Travelstar 5K100 | E7: 2.5 | F7: 1 | G7: 5400 | H7: 5.5 | I7: 12 | J7: =(Table5[[#This Row],[RPM]]/5400-1) -> 0 | K7: 99 | L7: 3 | M7: 600000 | Q7: 4.5 | R7: 1.6 | S7: 0.8 | T7: 0.2 | U7: 49.99 | V7: =Table5[[#This Row],[Cost]]/Table5[[#This Row],[SizTB]] -> 49.99 | W7: =Table5[[#This Row],[Cost]]+((CompareWarrYrs-Table5[[#This Row],[Warnty]])*(Incremental_Warr_Yr*Table5[[#This Row],[Cost]])) -> 60.9878 | X7: =Table5[[#This Row],[$+Warr]]/Table5[[#This Row],[SizTB]] -> 60.9878 | Y7: =Table5[[#This Row],[$PerTB]]/CompareWarrYrs -> 12.19756
A8: 43005 | B8: HGST | C8: Travelstar 7K100 | E8: 2.5 | F8: 1 | G8: 7200 | H8: 4.2 | I8: 12 | J8: =(Table5[[#This Row],[RPM]]/5400-1) -> 0.33333333 | K8: 128 | L8: 3 | M8: 600000 | Q8: 5.5 | R8: 1.8 | S8: 1 | T8: 0.2 | U8: 54.99 | V8: =Table5[[#This Row],[Cost]]/Table5[[#This Row],[SizTB]] -> 54.99 | W8: =Table5[[#This Row],[Cost]]+((CompareWarrYrs-Table5[[#This Row],[Warnty]])*(Incremental_Warr_Yr*Table5[[#This Row],[Cost]])) -> 67.0878 | X8: =Table5[[#This Row],[$+Warr]]/Table5[[#This Row],[SizTB]] -> 67.0878 | Y8: =Table5[[#This Row],[$PerTB]]/CompareWarrYrs -> 13.41756
A9: 42984 | B9: HGST | C9: Ultrastar 7K6 | D9: NAS | E9: 3.5 | F9: 2 | G9: 7200 | H9: 4.16 | I9: 8 | J9: =(Table5[[#This Row],[RPM]]/5400-1) -> 0.33333333 | K9: 192 | L9: 5 | M9: 600000 | O9: 2000000 | P9: 1e+15 | R9: 9.1 | S9: 7.1 | U9: 149.34 | V9: =Table5[[#This Row],[Cost]]/Table5[[#This Row],[SizTB]] -> 74.67 | W9: =Table5[[#This Row],[Cost]]+((CompareWarrYrs-Table5[[#This Row],[Warnty]])*(Incremental_Warr_Yr*Table5[[#This Row],[Cost]])) -> 149.34 | X9: =Table5[[#This Row],[$+Warr]]/Table5[[#This Row],[SizTB]] -> 74.67 | Y9: =Table5[[#This Row],[$PerTB]]/CompareWarrYrs -> 14.934 | AA9: =(((Table5[[#This Row],[Watts Active]]*Power_On_Hours_Year/1000)*Active_Duty_Cycle)+((Table5[[#This Row],[Watts Idle]]*Power_On_Hours_Year/1000)*(100%-Active_Duty_Cycle)))*CostPerKWH -> 8.2179 | AB9: =Table5[[#This Row],[Energy$year]]/Table5[[#This Row],[SizTB]] -> 4.10895
A10: 42984 | B10: HGST | C10: Ultrastar 7K6 | D10: NAS | E10: 3.5 | F10: 4 | G10: 7200 | H10: 4.16 | I10: 8 | J10: =(Table5[[#This Row],[RPM]]/5400-1) -> 0.33333333 | K10: 192 | L10: 5 | M10: 600000 | O10: 2000000 | P10: 1e+15 | R10: 9.1 | S10: 7.1 | U10: 255.99 | V10: =Table5[[#This Row],[Cost]]/Table5[[#This Row],[SizTB]] -> 63.9975 | W10: =Table5[[#This Row],[Cost]]+((CompareWarrYrs-Table5[[#This Row],[Warnty]])*(Incremental_Warr_Yr*Table5[[#This Row],[Cost]])) -> 255.99 | X10: =Table5[[#This Row],[$+Warr]]/Table5[[#This Row],[SizTB]] -> 63.9975 | Y10: =Table5[[#This Row],[$PerTB]]/CompareWarrYrs -> 12.7995 | AA10: =(((Table5[[#This Row],[Watts Active]]*Power_On_Hours_Year/1000)*Active_Duty_Cycle)+((Table5[[#This Row],[Watts Idle]]*Power_On_Hours_Year/1000)*(100%-Active_Duty_Cycle)))*CostPerKWH -> 8.2179 | AB10: =Table5[[#This Row],[Energy$year]]/Table5[[#This Row],[SizTB]] -> 2.054475
A11: 42984 | B11: HGST | C11: Ultrastar 7K6 | D11: NAS | E11: 3.5 | F11: 5 | G11: 7200 | H11: 4.16 | I11: 8 | J11: =(Table5[[#This Row],[RPM]]/5400-1) -> 0.33333333 | K11: 192 | L11: 5 | M11: 600000 | O11: 2000000 | P11: 1e+15 | R11: 9.1 | S11: 7.1 | U11: 381.42 | V11: =Table5[[#This Row],[Cost]]/Table5[[#This Row],[SizTB]] -> 76.284 | W11: =Table5[[#This Row],[Cost]]+((CompareWarrYrs-Table5[[#This Row],[Warnty]])*(Incremental_Warr_Yr*Table5[[#This Row],[Cost]])) -> 381.42 | X11: =Table5[[#This Row],[$+Warr]]/Table5[[#This Row],[SizTB]] -> 76.284 | Y11: =Table5[[#This Row],[$PerTB]]/CompareWarrYrs -> 15.2568 | AA11: =(((Table5[[#This Row],[Watts Active]]*Power_On_Hours_Year/1000)*Active_Duty_Cycle)+((Table5[[#This Row],[Watts Idle]]*Power_On_Hours_Year/1000)*(100%-Active_Duty_Cycle)))*CostPerKWH -> 8.2179 | AB11: =Table5[[#This Row],[Energy$year]]/Table5[[#This Row],[SizTB]] -> 1.64358
A12: 42984 | B12: HGST | C12: Ultrastar 7K6 | D12: NAS | E12: 3.5 | F12: 6 | G12: 7200 | H12: 4.16 | I12: 8 | J12: =(Table5[[#This Row],[RPM]]/5400-1) -> 0.33333333 | K12: 216 | L12: 5 | M12: 600000 | O12: 2000000 | P12: 1e+15 | R12: 9.1 | S12: 7.1 | U12: 301.53 | V12: =Table5[[#This Row],[Cost]]/Table5[[#This Row],[SizTB]] -> 50.255 | W12: =Table5[[#This Row],[Cost]]+((CompareWarrYrs-Table5[[#This Row],[Warnty]])*(Incremental_Warr_Yr*Table5[[#This Row],[Cost]])) -> 301.53 | X12: =Table5[[#This Row],[$+Warr]]/Table5[[#This Row],[SizTB]] -> 50.255 | Y12: =Table5[[#This Row],[$PerTB]]/CompareWarrYrs -> 10.051 | AA12: =(((Table5[[#This Row],[Watts Active]]*Power_On_Hours_Year/1000)*Active_Duty_Cycle)+((Table5[[#This Row],[Watts Idle]]*Power_On_Hours_Year/1000)*(100%-Active_Duty_Cycle)))*CostPerKWH -> 8.2179 | AB12: =Table5[[#This Row],[Energy$year]]/Table5[[#This Row],[SizTB]] -> 1.36965
A13: 42846 | B13: HGST | C13: Ultrastar Archive Ha10 | E13: 3.5 | F13: 8 | G13: 7200 | J13: =(Table5[[#This Row],[RPM]]/5400-1) -> 0.33333333 | L13: 5 | R13: 7.6 | S13: 5.1 | U13: 373 | V13: =Table5[[#This Row],[Cost]]/Table5[[#This Row],[SizTB]] -> 46.625 | W13: =Table5[[#This Row],[Cost]]+((CompareWarrYrs-Table5[[#This Row],[Warnty]])*(Incremental_Warr_Yr*Table5[[#This Row],[Cost]])) -> 373 | X13: =Table5[[#This Row],[$+Warr]]/Table5[[#This Row],[SizTB]] -> 46.625 | Y13: =Table5[[#This Row],[$PerTB]]/CompareWarrYrs -> 9.325 | AA13: =(((Table5[[#This Row],[Watts Active]]*Power_On_Hours_Year/1000)*Active_Duty_Cycle)+((Table5[[#This Row],[Watts Idle]]*Power_On_Hours_Year/1000)*(100%-Active_Duty_Cycle)))*CostPerKWH -> 6.136032 | AB13: =Table5[[#This Row],[Energy$year]]/Table5[[#This Row],[SizTB]] -> 0.767004 | AC13: Helium filled
A14: 43021 | B14: HGST | C14: Ultrastar C10K1200 | D14: NAS | E14: 2.5 | F14: 1.2 | G14: 10520 | H14: 2.85 | I14: 4.4 | J14: =(Table5[[#This Row],[RPM]]/5400-1) -> 0.94814815 | K14: 224 | L14: 5 | O14: 2000000 | P14: 1e+16 | R14: 6.5 | S14: 4.7 | U14: 180 | V14: =Table5[[#This Row],[Cost]]/Table5[[#This Row],[SizTB]] -> 150 | W14: =Table5[[#This Row],[Cost]]+((CompareWarrYrs-Table5[[#This Row],[Warnty]])*(Incremental_Warr_Yr*Table5[[#This Row],[Cost]])) -> 180 | X14: =Table5[[#This Row],[$+Warr]]/Table5[[#This Row],[SizTB]] -> 150 | Y14: =Table5[[#This Row],[$PerTB]]/CompareWarrYrs -> 30 | AA14: =(((Table5[[#This Row],[Watts Active]]*Power_On_Hours_Year/1000)*Active_Duty_Cycle)+((Table5[[#This Row],[Watts Idle]]*Power_On_Hours_Year/1000)*(100%-Active_Duty_Cycle)))*CostPerKWH -> 5.5443432 | AB14: =Table5[[#This Row],[Energy$year]]/Table5[[#This Row],[SizTB]] -> 4.620286
A15: 43021 | B15: HGST | C15: Ultrastar C10K1800 | D15: NAS | E15: 2.5 | F15: 1.8 | G15: 10520 | H15: 2.85 | I15: 4.4 | J15: =(Table5[[#This Row],[RPM]]/5400-1) -> 0.94814815 | K15: 224 | L15: 5 | O15: 2000000 | P15: 1e+16 | R15: 6.6 | S15: 4.7 | U15: 315 | V15: =Table5[[#This Row],[Cost]]/Table5[[#This Row],[SizTB]] -> 175 | W15: =Table5[[#This Row],[Cost]]+((CompareWarrYrs-Table5[[#This Row],[Warnty]])*(Incremental_Warr_Yr*Table5[[#This Row],[Cost]])) -> 315 | X15: =Table5[[#This Row],[$+Warr]]/Table5[[#This Row],[SizTB]] -> 175 | Y15: =Table5[[#This Row],[$PerTB]]/CompareWarrYrs -> 35 | AA15: =(((Table5[[#This Row],[Watts Active]]*Power_On_Hours_Year/1000)*Active_Duty_Cycle)+((Table5[[#This Row],[Watts Idle]]*Power_On_Hours_Year/1000)*(100%-Active_Duty_Cycle)))*CostPerKWH -> 5.5662576 | AB15: =Table5[[#This Row],[Energy$year]]/Table5[[#This Row],[SizTB]] -> 3.0923653
A16: 43021 | B16: HGST | C16: Ultrastar C15K600 | D16: NAS | E16: 2.5 | F16: 0.6 | G16: 15030 | H16: 1.99 | I16: 3.1 | J16: =(Table5[[#This Row],[RPM]]/5400-1) -> 1.7833333 | K16: 250 | L16: 5 | O16: 2000000 | P16: 1e+17 | R16: 7.5 | S16: 5.8 | U16: 259.99 | V16: =Table5[[#This Row],[Cost]]/Table5[[#This Row],[SizTB]] -> 433.31667 | W16: =Table5[[#This Row],[Cost]]+((CompareWarrYrs-Table5[[#This Row],[Warnty]])*(Incremental_Warr_Yr*Table5[[#This Row],[Cost]])) -> 259.99 | X16: =Table5[[#This Row],[$+Warr]]/Table5[[#This Row],[SizTB]] -> 433.31667 | Y16: =Table5[[#This Row],[$PerTB]]/CompareWarrYrs -> 86.663333 | AA16: =(((Table5[[#This Row],[Watts Active]]*Power_On_Hours_Year/1000)*Active_Duty_Cycle)+((Table5[[#This Row],[Watts Idle]]*Power_On_Hours_Year/1000)*(100%-Active_Duty_Cycle)))*CostPerKWH -> 6.7277208 | AB16: =Table5[[#This Row],[Energy$year]]/Table5[[#This Row],[SizTB]] -> 11.212868
A17: 43019 | B17: HGST | C17: Ultrastar He6 | D17: NAS | E17: 3.5 | F17: 6 | G17: 7200 | H17: 4.16 | I17: 9 | J17: =(Table5[[#This Row],[RPM]]/5400-1) -> 0.33333333 | K17: 195 | L17: 5 | M17: 600000 | N17: 550 | O17: 2500000 | P17: 1e+15 | R17: 7.4 | S17: 5.1 | U17: 179.99 | V17: =Table5[[#This Row],[Cost]]/Table5[[#This Row],[SizTB]] -> 29.998333 | W17: =Table5[[#This Row],[Cost]]+((CompareWarrYrs-Table5[[#This Row],[Warnty]])*(Incremental_Warr_Yr*Table5[[#This Row],[Cost]])) -> 179.99 | X17: =Table5[[#This Row],[$+Warr]]/Table5[[#This Row],[SizTB]] -> 29.998333 | Y17: =Table5[[#This Row],[$PerTB]]/CompareWarrYrs -> 5.9996667 | AA17: =(((Table5[[#This Row],[Watts Active]]*Power_On_Hours_Year/1000)*Active_Duty_Cycle)+((Table5[[#This Row],[Watts Idle]]*Power_On_Hours_Year/1000)*(100%-Active_Duty_Cycle)))*CostPerKWH -> 6.0922032 | AB17: =Table5[[#This Row],[Energy$year]]/Table5[[#This Row],[SizTB]] -> 1.0153672 | AC17: Helium filled
A18: 43019 | B18: HGST | C18: Ultrastar He8 | D18: NAS | E18: 3.5 | F18: 8 | G18: 7200 | H18: 4.16 | I18: 8.5 | J18: =(Table5[[#This Row],[RPM]]/5400-1) -> 0.33333333 | K18: 237 | L18: 5 | M18: 600000 | N18: 550 | O18: 2500000 | P18: 1e+15 | R18: 7.4 | S18: 5.1 | U18: 285 | V18: =Table5[[#This Row],[Cost]]/Table5[[#This Row],[SizTB]] -> 35.625 | W18: =Table5[[#This Row],[Cost]]+((CompareWarrYrs-Table5[[#This Row],[Warnty]])*(Incremental_Warr_Yr*Table5[[#This Row],[Cost]])) -> 285 | X18: =Table5[[#This Row],[$+Warr]]/Table5[[#This Row],[SizTB]] -> 35.625 | Y18: =Table5[[#This Row],[$PerTB]]/CompareWarrYrs -> 7.125 | AA18: =(((Table5[[#This Row],[Watts Active]]*Power_On_Hours_Year/1000)*Active_Duty_Cycle)+((Table5[[#This Row],[Watts Idle]]*Power_On_Hours_Year/1000)*(100%-Active_Duty_Cycle)))*CostPerKWH -> 6.0922032 | AB18: =Table5[[#This Row],[Energy$year]]/Table5[[#This Row],[SizTB]] -> 0.7615254 | AC18: Helium filled
A19: 43005 | B19: HGST | C19: Ultrastar He10 | D19: NAS | E19: 3.5 | F19: 10 | G19: 7200 | H19: 4.16 | I19: 8 | J19: =(Table5[[#This Row],[RPM]]/5400-1) -> 0.33333333 | K19: 237 | L19: 5 | M19: 600000 | N19: 550 | O19: 2500000 | P19: 1e+15 | R19: 6.8 | S19: 5 | U19: 349.99 | V19: =Table5[[#This Row],[Cost]]/Table5[[#This Row],[SizTB]] -> 34.999 | W19: =Table5[[#This Row],[Cost]]+((CompareWarrYrs-Table5[[#This Row],[Warnty]])*(Incremental_Warr_Yr*Table5[[#This Row],[Cost]])) -> 349.99 | X19: =Table5[[#This Row],[$+Warr]]/Table5[[#This Row],[SizTB]] -> 34.999 | Y19: =Table5[[#This Row],[$PerTB]]/CompareWarrYrs -> 6.9998 | AA19: =(((Table5[[#This Row],[Watts Active]]*Power_On_Hours_Year/1000)*Active_Duty_Cycle)+((Table5[[#This Row],[Watts Idle]]*Power_On_Hours_Year/1000)*(100%-Active_Duty_Cycle)))*CostPerKWH -> 5.8730592 | AB19: =Table5[[#This Row],[Energy$year]]/Table5[[#This Row],[SizTB]] -> 0.58730592 | AC19: Helium filled
A20: 43005 | B20: HGST | C20: Ultrastar He12 | D20: NAS | E20: 3.5 | F20: 12 | G20: 7200 | H20: 4.16 | I20: 8.6 | J20: =(Table5[[#This Row],[RPM]]/5400-1) -> 0.33333333 | K20: 243 | L20: 5 | M20: 600000 | N20: 550 | O20: 2500000 | P20: 1e+15 | R20: 7.2 | S20: 5.3 | U20: 619.98 | V20: =Table5[[#This Row],[Cost]]/Table5[[#This Row],[SizTB]] -> 51.665 | W20: =Table5[[#This Row],[Cost]]+((CompareWarrYrs-Table5[[#This Row],[Warnty]])*(Incremental_Warr_Yr*Table5[[#This Row],[Cost]])) -> 619.98 | X20: =Table5[[#This Row],[$+Warr]]/Table5[[#This Row],[SizTB]] -> 51.665 | Y20: =Table5[[#This Row],[$PerTB]]/CompareWarrYrs -> 10.333 | AA20: =(((Table5[[#This Row],[Watts Active]]*Power_On_Hours_Year/1000)*Active_Duty_Cycle)+((Table5[[#This Row],[Watts Idle]]*Power_On_Hours_Year/1000)*(100%-Active_Duty_Cycle)))*CostPerKWH -> 6.2236896 | AB20: =Table5[[#This Row],[Energy$year]]/Table5[[#This Row],[SizTB]] -> 0.5186408 | AC20: Helium filled
A21: 43021 | B21: HGST | C21: Ultrastar Hs14 | E21: 3.5 | F21: 14 | G21: 7200 | H21: 4.16 | I21: 12 | J21: =(Table5[[#This Row],[RPM]]/5400-1) -> 0.33333333 | K21: 233 | L21: 5 | M21: 600000 | N21: 550 | O21: 2500000 | P21: 1e+15 | R21: 6.4 | S21: 5.2 | V21: =Table5[[#This Row],[Cost]]/Table5[[#This Row],[SizTB]] -> 0 | W21: =Table5[[#This Row],[Cost]]+((CompareWarrYrs-Table5[[#This Row],[Warnty]])*(Incremental_Warr_Yr*Table5[[#This Row],[Cost]])) -> 0 | X21: =Table5[[#This Row],[$+Warr]]/Table5[[#This Row],[SizTB]] -> 0 | Y21: =Table5[[#This Row],[$PerTB]]/CompareWarrYrs -> 0 | AA21: =(((Table5[[#This Row],[Watts Active]]*Power_On_Hours_Year/1000)*Active_Duty_Cycle)+((Table5[[#This Row],[Watts Idle]]*Power_On_Hours_Year/1000)*(100%-Active_Duty_Cycle)))*CostPerKWH -> 5.9607168 | AB21: =Table5[[#This Row],[Energy$year]]/Table5[[#This Row],[SizTB]] -> 0.42576549 | AC21: Helium filled, Shingled (SMR)
A22: 42961 | B22: Seagate | C22: Archive | E22: 3.5 | F22: 5 | G22: 5900 | J22: =(Table5[[#This Row],[RPM]]/5400-1) -> 0.092592593 | K22: 146 | L22: 3 | M22: 300000 | N22: 180 | O22: 800000 | P22: =10^14 -> 100000000000000 | Q22: 24 | R22: 5.5 | S22: 3.5 | T22: 0.74 | U22: 192.01 | V22: =Table5[[#This Row],[Cost]]/Table5[[#This Row],[SizTB]] -> 38.402 | W22: =Table5[[#This Row],[Cost]]+((CompareWarrYrs-Table5[[#This Row],[Warnty]])*(Incremental_Warr_Yr*Table5[[#This Row],[Cost]])) -> 234.2522 | X22: =Table5[[#This Row],[$+Warr]]/Table5[[#This Row],[SizTB]] -> 46.85044 | Y22: =Table5[[#This Row],[$PerTB]]/CompareWarrYrs -> 9.370088 | AA22: =(((Table5[[#This Row],[Watts Active]]*Power_On_Hours_Year/1000)*Active_Duty_Cycle)+((Table5[[#This Row],[Watts Idle]]*Power_On_Hours_Year/1000)*(100%-Active_Duty_Cycle)))*CostPerKWH -> 4.273308 | AB22: =Table5[[#This Row],[Energy$year]]/Table5[[#This Row],[SizTB]] -> 0.8546616 | AC22: Shingled Magnetic Recording (SMR)
A23: 42961 | B23: Seagate | C23: Archive | E23: 3.5 | F23: 6 | G23: 5900 | J23: =(Table5[[#This Row],[RPM]]/5400-1) -> 0.092592593 | K23: 150 | L23: 3 | M23: 300000 | N23: 180 | O23: 800000 | P23: =10^14 -> 100000000000000 | Q23: 24 | R23: 7.5 | S23: 5 | T23: 0.99 | U23: 203.47 | V23: =Table5[[#This Row],[Cost]]/Table5[[#This Row],[SizTB]] -> 33.911667 | W23: =Table5[[#This Row],[Cost]]+((CompareWarrYrs-Table5[[#This Row],[Warnty]])*(Incremental_Warr_Yr*Table5[[#This Row],[Cost]])) -> 248.2334 | X23: =Table5[[#This Row],[$+Warr]]/Table5[[#This Row],[SizTB]] -> 41.372233 | Y23: =Table5[[#This Row],[$PerTB]]/CompareWarrYrs -> 8.2744467 | AA23: =(((Table5[[#This Row],[Watts Active]]*Power_On_Hours_Year/1000)*Active_Duty_Cycle)+((Table5[[#This Row],[Watts Idle]]*Power_On_Hours_Year/1000)*(100%-Active_Duty_Cycle)))*CostPerKWH -> 6.02646 | AB23: =Table5[[#This Row],[Energy$year]]/Table5[[#This Row],[SizTB]] -> 1.00441 | AC23: Shingled Magnetic Recording (SMR)
A24: 43019 | B24: Seagate | C24: Archive | E24: 3.5 | F24: 8 | G24: 5900 | J24: =(Table5[[#This Row],[RPM]]/5400-1) -> 0.092592593 | K24: 150 | L24: 3 | M24: 300000 | N24: 180 | O24: 800000 | P24: =10^14 -> 100000000000000 | Q24: 24 | R24: 7.5 | S24: 5 | T24: 0.99 | U24: 229.99 | V24: =Table5[[#This Row],[Cost]]/Table5[[#This Row],[SizTB]] -> 28.74875 | W24: =Table5[[#This Row],[Cost]]+((CompareWarrYrs-Table5[[#This Row],[Warnty]])*(Incremental_Warr_Yr*Table5[[#This Row],[Cost]])) -> 280.5878 | X24: =Table5[[#This Row],[$+Warr]]/Table5[[#This Row],[SizTB]] -> 35.073475 | Y24: =Table5[[#This Row],[$PerTB]]/CompareWarrYrs -> 7.014695 | AA24: =(((Table5[[#This Row],[Watts Active]]*Power_On_Hours_Year/1000)*Active_Duty_Cycle)+((Table5[[#This Row],[Watts Idle]]*Power_On_Hours_Year/1000)*(100%-Active_Duty_Cycle)))*CostPerKWH -> 6.02646 | AB24: =Table5[[#This Row],[Energy$year]]/Table5[[#This Row],[SizTB]] -> 0.7533075 | AC24: Shingled Magnetic Recording (SMR)
A25: 43007 | B25: Seagate | C25: BarraCuda | E25: 3.5 | F25: 1 | G25: 5400 | H25: 4.16 | I25: 9.5 | J25: =(Table5[[#This Row],[RPM]]/5400-1) -> 0 | K25: 210 | L25: 2 | M25: 300000 | N25: 55 | P25: =10^14 -> 100000000000000 | Q25: 24 | R25: 5.3 | S25: 4.6 | T25: 0.94 | U25: 46.99 | V25: =Table5[[#This Row],[Cost]]/Table5[[#This Row],[SizTB]] -> 46.99 | W25: =Table5[[#This Row],[Cost]]+((CompareWarrYrs-Table5[[#This Row],[Warnty]])*(Incremental_Warr_Yr*Table5[[#This Row],[Cost]])) -> 62.4967 | X25: =Table5[[#This Row],[$+Warr]]/Table5[[#This Row],[SizTB]] -> 62.4967 | Y25: =Table5[[#This Row],[$PerTB]]/CompareWarrYrs -> 12.49934 | AA25: =(((Table5[[#This Row],[Watts Active]]*Power_On_Hours_Year/1000)*Active_Duty_Cycle)+((Table5[[#This Row],[Watts Idle]]*Power_On_Hours_Year/1000)*(100%-Active_Duty_Cycle)))*CostPerKWH -> 5.1937128 | AB25: =Table5[[#This Row],[Energy$year]]/Table5[[#This Row],[SizTB]] -> 5.1937128
A26: 43005 | B26: Seagate | C26: BarraCuda | E26: 3.5 | F26: 2 | G26: 5400 | H26: 6 | I26: 15 | J26: =(Table5[[#This Row],[RPM]]/5400-1) -> 0 | K26: 210 | L26: 2 | M26: 600000 | N26: 55 | P26: =10^14 -> 100000000000000 | Q26: =2.5*12 -> 30 | R26: 8 | S26: 5.4 | T26: 0.75 | U26: 66.99 | V26: =Table5[[#This Row],[Cost]]/Table5[[#This Row],[SizTB]] -> 33.495 | W26: =Table5[[#This Row],[Cost]]+((CompareWarrYrs-Table5[[#This Row],[Warnty]])*(Incremental_Warr_Yr*Table5[[#This Row],[Cost]])) -> 89.0967 | X26: =Table5[[#This Row],[$+Warr]]/Table5[[#This Row],[SizTB]] -> 44.54835 | Y26: =Table5[[#This Row],[$PerTB]]/CompareWarrYrs -> 8.90967 | AA26: =(((Table5[[#This Row],[Watts Active]]*Power_On_Hours_Year/1000)*Active_Duty_Cycle)+((Table5[[#This Row],[Watts Idle]]*Power_On_Hours_Year/1000)*(100%-Active_Duty_Cycle)))*CostPerKWH -> 6.4866624 | AB26: =Table5[[#This Row],[Energy$year]]/Table5[[#This Row],[SizTB]] -> 3.2433312
A27: 43014 | B27: Seagate | C27: BarraCuda | E27: 3.5 | F27: 3 | G27: 5400 | H27: 6 | I27: 15 | J27: =(Table5[[#This Row],[RPM]]/5400-1) -> 0 | K27: 210 | L27: 2 | M27: 600000 | N27: 55 | P27: =10^14 -> 100000000000000 | Q27: =2.5*12 -> 30 | R27: 8 | S27: 5.4 | T27: 0.75 | U27: 69.99 | V27: =Table5[[#This Row],[Cost]]/Table5[[#This Row],[SizTB]] -> 23.33 | W27: =Table5[[#This Row],[Cost]]+((CompareWarrYrs-Table5[[#This Row],[Warnty]])*(Incremental_Warr_Yr*Table5[[#This Row],[Cost]])) -> 93.0867 | X27: =Table5[[#This Row],[$+Warr]]/Table5[[#This Row],[SizTB]] -> 31.0289 | Y27: =Table5[[#This Row],[$PerTB]]/CompareWarrYrs -> 6.20578 | AA27: =(((Table5[[#This Row],[Watts Active]]*Power_On_Hours_Year/1000)*Active_Duty_Cycle)+((Table5[[#This Row],[Watts Idle]]*Power_On_Hours_Year/1000)*(100%-Active_Duty_Cycle)))*CostPerKWH -> 6.4866624 | AB27: =Table5[[#This Row],[Energy$year]]/Table5[[#This Row],[SizTB]] -> 2.1622208
A28: 43019 | B28: Seagate | C28: BarraCuda | E28: 3.5 | F28: 4 | G28: 5400 | H28: 6 | I28: 15 | J28: =(Table5[[#This Row],[RPM]]/5400-1) -> 0 | K28: 190 | L28: 2 | M28: 600000 | N28: 55 | P28: =10^14 -> 100000000000000 | Q28: 24 | R28: 5 | S28: 2.5 | T28: 0.25 | U28: 114.99 | V28: =Table5[[#This Row],[Cost]]/Table5[[#This Row],[SizTB]] -> 28.7475 | W28: =Table5[[#This Row],[Cost]]+((CompareWarrYrs-Table5[[#This Row],[Warnty]])*(Incremental_Warr_Yr*Table5[[#This Row],[Cost]])) -> 152.9367 | X28: =Table5[[#This Row],[$+Warr]]/Table5[[#This Row],[SizTB]] -> 38.234175 | Y28: =Table5[[#This Row],[$PerTB]]/CompareWarrYrs -> 7.646835 | AA28: =(((Table5[[#This Row],[Watts Active]]*Power_On_Hours_Year/1000)*Active_Duty_Cycle)+((Table5[[#This Row],[Watts Idle]]*Power_On_Hours_Year/1000)*(100%-Active_Duty_Cycle)))*CostPerKWH -> 3.28716 | AB28: =Table5[[#This Row],[Energy$year]]/Table5[[#This Row],[SizTB]] -> 0.82179
A29: 43019 | B29: Seagate | C29: BarraCuda | E29: 2.5 | F29: 1 | G29: 5400 | J29: =(Table5[[#This Row],[RPM]]/5400-1) -> 0 | K29: 140 | L29: 2 | M29: 600000 | P29: =10^14 -> 100000000000000 | Q29: =1*5 -> 5 | R29: 1.7 | S29: 0.45 | U29: 49.99 | V29: =Table5[[#This Row],[Cost]]/Table5[[#This Row],[SizTB]] -> 49.99 | W29: =Table5[[#This Row],[Cost]]+((CompareWarrYrs-Table5[[#This Row],[Warnty]])*(Incremental_Warr_Yr*Table5[[#This Row],[Cost]])) -> 66.4867 | X29: =Table5[[#This Row],[$+Warr]]/Table5[[#This Row],[SizTB]] -> 66.4867 | Y29: =Table5[[#This Row],[$PerTB]]/CompareWarrYrs -> 13.29734 | AA29: =(((Table5[[#This Row],[Watts Active]]*Power_On_Hours_Year/1000)*Active_Duty_Cycle)+((Table5[[#This Row],[Watts Idle]]*Power_On_Hours_Year/1000)*(100%-Active_Duty_Cycle)))*CostPerKWH -> 0.767004 | AB29: =Table5[[#This Row],[Energy$year]]/Table5[[#This Row],[SizTB]] -> 0.767004
A30: 43019 | B30: Seagate | C30: BarraCuda | E30: 2.5 | F30: 2 | G30: 5400 | J30: =(Table5[[#This Row],[RPM]]/5400-1) -> 0 | K30: 140 | L30: 2 | M30: 600000 | P30: =10^14 -> 100000000000000 | Q30: =1*5 -> 5 | R30: 1.8 | S30: 0.5 | U30: 66.99 | V30: =Table5[[#This Row],[Cost]]/Table5[[#This Row],[SizTB]] -> 33.495 | W30: =Table5[[#This Row],[Cost]]+((CompareWarrYrs-Table5[[#This Row],[Warnty]])*(Incremental_Warr_Yr*Table5[[#This Row],[Cost]])) -> 89.0967 | X30: =Table5[[#This Row],[$+Warr]]/Table5[[#This Row],[SizTB]] -> 44.54835 | Y30: =Table5[[#This Row],[$PerTB]]/CompareWarrYrs -> 8.90967 | AA30: =(((Table5[[#This Row],[Watts Active]]*Power_On_Hours_Year/1000)*Active_Duty_Cycle)+((Table5[[#This Row],[Watts Idle]]*Power_On_Hours_Year/1000)*(100%-Active_Duty_Cycle)))*CostPerKWH -> 0.8327472 | AB30: =Table5[[#This Row],[Energy$year]]/Table5[[#This Row],[SizTB]] -> 0.4163736
A31: 43019 | B31: Seagate | C31: BarraCuda | E31: 2.5 | F31: 3 | G31: 5400 | J31: =(Table5[[#This Row],[RPM]]/5400-1) -> 0 | K31: 140 | L31: 2 | M31: 600000 | P31: =10^14 -> 100000000000000 | Q31: =1.2*5 -> 6 | R31: 2.1 | S31: 1.1 | U31: 89.99 | V31: =Table5[[#This Row],[Cost]]/Table5[[#This Row],[SizTB]] -> 29.996667 | W31: =Table5[[#This Row],[Cost]]+((CompareWarrYrs-Table5[[#This Row],[Warnty]])*(Incremental_Warr_Yr*Table5[[#This Row],[Cost]])) -> 119.6867 | X31: =Table5[[#This Row],[$+Warr]]/Table5[[#This Row],[SizTB]] -> 39.895567 | Y31: =Table5[[#This Row],[$PerTB]]/CompareWarrYrs -> 7.9791133 | AA31: =(((Table5[[#This Row],[Watts Active]]*Power_On_Hours_Year/1000)*Active_Duty_Cycle)+((Table5[[#This Row],[Watts Idle]]*Power_On_Hours_Year/1000)*(100%-Active_Duty_Cycle)))*CostPerKWH -> 1.424436 | AB31: =Table5[[#This Row],[Energy$year]]/Table5[[#This Row],[SizTB]] -> 0.474812
A32: 43019 | B32: Seagate | C32: BarraCuda | E32: 2.5 | F32: 4 | G32: 5400 | J32: =(Table5[[#This Row],[RPM]]/5400-1) -> 0 | K32: 140 | L32: 2 | M32: 600000 | P32: =10^14 -> 100000000000000 | Q32: =1.2*5 -> 6 | R32: 2.1 | S32: 1.1 | U32: 114.99 | V32: =Table5[[#This Row],[Cost]]/Table5[[#This Row],[SizTB]] -> 28.7475 | W32: =Table5[[#This Row],[Cost]]+((CompareWarrYrs-Table5[[#This Row],[Warnty]])*(Incremental_Warr_Yr*Table5[[#This Row],[Cost]])) -> 152.9367 | X32: =Table5[[#This Row],[$+Warr]]/Table5[[#This Row],[SizTB]] -> 38.234175 | Y32: =Table5[[#This Row],[$PerTB]]/CompareWarrYrs -> 7.646835 | AA32: =(((Table5[[#This Row],[Watts Active]]*Power_On_Hours_Year/1000)*Active_Duty_Cycle)+((Table5[[#This Row],[Watts Idle]]*Power_On_Hours_Year/1000)*(100%-Active_Duty_Cycle)))*CostPerKWH -> 1.424436 | AB32: =Table5[[#This Row],[Energy$year]]/Table5[[#This Row],[SizTB]] -> 0.356109
A33: 42947 | B33: Seagate | C33: BarraCuda | E33: 2.5 | F33: 5 | G33: 5400 | J33: =(Table5[[#This Row],[RPM]]/5400-1) -> 0 | K33: 140 | L33: 2 | M33: 600000 | P33: =10^14 -> 100000000000000 | Q33: =1.2*5 -> 6 | R33: 2.1 | S33: 1.1 | U33: 209.99 | V33: =Table5[[#This Row],[Cost]]/Table5[[#This Row],[SizTB]] -> 41.998 | W33: =Table5[[#This Row],[Cost]]+((CompareWarrYrs-Table5[[#This Row],[Warnty]])*(Incremental_Warr_Yr*Table5[[#This Row],[Cost]])) -> 279.2867 | X33: =Table5[[#This Row],[$+Warr]]/Table5[[#This Row],[SizTB]] -> 55.85734 | Y33: =Table5[[#This Row],[$PerTB]]/CompareWarrYrs -> 11.171468 | AA33: =(((Table5[[#This Row],[Watts Active]]*Power_On_Hours_Year/1000)*Active_Duty_Cycle)+((Table5[[#This Row],[Watts Idle]]*Power_On_Hours_Year/1000)*(100%-Active_Duty_Cycle)))*CostPerKWH -> 1.424436 | AB33: =Table5[[#This Row],[Energy$year]]/Table5[[#This Row],[SizTB]] -> 0.2848872
A34: 43019 | B34: Seagate | C34: BarraCuda Pro | E34: 3.5 | F34: 2 | G34: 7200 | H34: 4.16 | J34: =(Table5[[#This Row],[RPM]]/5400-1) -> 0.33333333 | K34: 195 | L34: 5 | M34: 600000 | N34: 180 | P34: 1e+15 | Q34: 24 | R34: 7.5 | S34: 4.5 | T34: 0.8 | U34: 127.99 | V34: =Table5[[#This Row],[Cost]]/Table5[[#This Row],[SizTB]] -> 63.995 | W34: =Table5[[#This Row],[Cost]]+((CompareWarrYrs-Table5[[#This Row],[Warnty]])*(Incremental_Warr_Yr*Table5[[#This Row],[Cost]])) -> 127.99 | X34: =Table5[[#This Row],[$+Warr]]/Table5[[#This Row],[SizTB]] -> 63.995 | Y34: =Table5[[#This Row],[$PerTB]]/CompareWarrYrs -> 12.799 | AA34: =(((Table5[[#This Row],[Watts Active]]*Power_On_Hours_Year/1000)*Active_Duty_Cycle)+((Table5[[#This Row],[Watts Idle]]*Power_On_Hours_Year/1000)*(100%-Active_Duty_Cycle)))*CostPerKWH -> 5.588172 | AB34: =Table5[[#This Row],[Energy$year]]/Table5[[#This Row],[SizTB]] -> 2.794086
A35: 43019 | B35: Seagate | C35: BarraCuda Pro | E35: 3.5 | F35: 4 | G35: 7200 | H35: 4.16 | J35: =(Table5[[#This Row],[RPM]]/5400-1) -> 0.33333333 | K35: 214 | L35: 5 | M35: 600000 | N35: 180 | P35: 1e+15 | Q35: 24 | R35: 6.7 | S35: 6 | T35: 0.6 | U35: 174.99 | V35: =Table5[[#This Row],[Cost]]/Table5[[#This Row],[SizTB]] -> 43.7475 | W35: =Table5[[#This Row],[Cost]]+((CompareWarrYrs-Table5[[#This Row],[Warnty]])*(Incremental_Warr_Yr*Table5[[#This Row],[Cost]])) -> 174.99 | X35: =Table5[[#This Row],[$+Warr]]/Table5[[#This Row],[SizTB]] -> 43.7475 | Y35: =Table5[[#This Row],[$PerTB]]/CompareWarrYrs -> 8.7495 | AA35: =(((Table5[[#This Row],[Watts Active]]*Power_On_Hours_Year/1000)*Active_Duty_Cycle)+((Table5[[#This Row],[Watts Idle]]*Power_On_Hours_Year/1000)*(100%-Active_Duty_Cycle)))*CostPerKWH -> 6.7277208 | AB35: =Table5[[#This Row],[Energy$year]]/Table5[[#This Row],[SizTB]] -> 1.6819302
A36: 42861 | B36: Seagate | C36: BarraCuda Pro | E36: 3.5 | F36: 5 | G36: 7200 | H36: 4.16 | J36: =(Table5[[#This Row],[RPM]]/5400-1) -> 0.33333333 | K36: 220 | L36: 5 | M36: 300000 | N36: 300 | P36: 1e+15 | Q36: =12*1.94 -> 23.28 | R36: 8.37 | S36: 4.42 | T36: 0.8 | U36: 214.99 | V36: =Table5[[#This Row],[Cost]]/Table5[[#This Row],[SizTB]] -> 42.998 | W36: =Table5[[#This Row],[Cost]]+((CompareWarrYrs-Table5[[#This Row],[Warnty]])*(Incremental_Warr_Yr*Table5[[#This Row],[Cost]])) -> 214.99 | X36: =Table5[[#This Row],[$+Warr]]/Table5[[#This Row],[SizTB]] -> 42.998 | Y36: =Table5[[#This Row],[$PerTB]]/CompareWarrYrs -> 8.5996 | AA36: =(((Table5[[#This Row],[Watts Active]]*Power_On_Hours_Year/1000)*Active_Duty_Cycle)+((Table5[[#This Row],[Watts Idle]]*Power_On_Hours_Year/1000)*(100%-Active_Duty_Cycle)))*CostPerKWH -> 5.7087012 | AB36: =Table5[[#This Row],[Energy$year]]/Table5[[#This Row],[SizTB]] -> 1.1417402
A37: 43019 | B37: Seagate | C37: BarraCuda Pro | E37: 3.5 | F37: 6 | G37: 7200 | H37: 4.16 | J37: =(Table5[[#This Row],[RPM]]/5400-1) -> 0.33333333 | K37: 180 | L37: 5 | M37: 300000 | N37: 300 | P37: 1e+15 | Q37: 24 | R37: 9 | S37: 7.2 | T37: 0.6 | U37: 249.99 | V37: =Table5[[#This Row],[Cost]]/Table5[[#This Row],[SizTB]] -> 41.665 | W37: =Table5[[#This Row],[Cost]]+((CompareWarrYrs-Table5[[#This Row],[Warnty]])*(Incremental_Warr_Yr*Table5[[#This Row],[Cost]])) -> 249.99 | X37: =Table5[[#This Row],[$+Warr]]/Table5[[#This Row],[SizTB]] -> 41.665 | Y37: =Table5[[#This Row],[$PerTB]]/CompareWarrYrs -> 8.333 | AA37: =(((Table5[[#This Row],[Watts Active]]*Power_On_Hours_Year/1000)*Active_Duty_Cycle)+((Table5[[#This Row],[Watts Idle]]*Power_On_Hours_Year/1000)*(100%-Active_Duty_Cycle)))*CostPerKWH -> 8.2836432 | AB37: =Table5[[#This Row],[Energy$year]]/Table5[[#This Row],[SizTB]] -> 1.3806072
A38: 43019 | B38: Seagate | C38: BarraCuda Pro | E38: 3.5 | F38: 8 | G38: 7200 | H38: 4.16 | J38: =(Table5[[#This Row],[RPM]]/5400-1) -> 0.33333333 | K38: 220 | L38: 5 | M38: 300000 | N38: 300 | P38: 1e+15 | Q38: =12*2 -> 24 | R38: 6.8 | S38: 4.5 | T38: 0.8 | U38: 324.99 | V38: =Table5[[#This Row],[Cost]]/Table5[[#This Row],[SizTB]] -> 40.62375 | W38: =Table5[[#This Row],[Cost]]+((CompareWarrYrs-Table5[[#This Row],[Warnty]])*(Incremental_Warr_Yr*Table5[[#This Row],[Cost]])) -> 324.99 | X38: =Table5[[#This Row],[$+Warr]]/Table5[[#This Row],[SizTB]] -> 40.62375 | Y38: =Table5[[#This Row],[$PerTB]]/CompareWarrYrs -> 8.12475 | AA38: =(((Table5[[#This Row],[Watts Active]]*Power_On_Hours_Year/1000)*Active_Duty_Cycle)+((Table5[[#This Row],[Watts Idle]]*Power_On_Hours_Year/1000)*(100%-Active_Duty_Cycle)))*CostPerKWH -> 5.4347712 | AB38: =Table5[[#This Row],[Energy$year]]/Table5[[#This Row],[SizTB]] -> 0.6793464
A39: 43019 | B39: Seagate | C39: BarraCuda Pro | E39: 3.5 | F39: 10 | G39: 7200 | H39: 4.16 | J39: =(Table5[[#This Row],[RPM]]/5400-1) -> 0.33333333 | K39: 220 | L39: 5 | M39: 300000 | N39: 300 | P39: 1e+15 | Q39: =12*1.8 -> 21.6 | R39: 6.8 | S39: 4.5 | T39: 0.8 | U39: 424.99 | V39: =Table5[[#This Row],[Cost]]/Table5[[#This Row],[SizTB]] -> 42.499 | W39: =Table5[[#This Row],[Cost]]+((CompareWarrYrs-Table5[[#This Row],[Warnty]])*(Incremental_Warr_Yr*Table5[[#This Row],[Cost]])) -> 424.99 | X39: =Table5[[#This Row],[$+Warr]]/Table5[[#This Row],[SizTB]] -> 42.499 | Y39: =Table5[[#This Row],[$PerTB]]/CompareWarrYrs -> 8.4998 | AA39: =(((Table5[[#This Row],[Watts Active]]*Power_On_Hours_Year/1000)*Active_Duty_Cycle)+((Table5[[#This Row],[Watts Idle]]*Power_On_Hours_Year/1000)*(100%-Active_Duty_Cycle)))*CostPerKWH -> 5.4347712 | AB39: =Table5[[#This Row],[Energy$year]]/Table5[[#This Row],[SizTB]] -> 0.54347712
A40: 43019 | B40: Seagate | C40: BarraCuda Pro | E40: 3.5 | F40: 12 | G40: 7200 | J40: =(Table5[[#This Row],[RPM]]/5400-1) -> 0.33333333 | K40: 250 | L40: 5 | N40: 300 | U40: 524.99 | V40: =Table5[[#This Row],[Cost]]/Table5[[#This Row],[SizTB]] -> 43.749167 | W40: =Table5[[#This Row],[Cost]]+((CompareWarrYrs-Table5[[#This Row],[Warnty]])*(Incremental_Warr_Yr*Table5[[#This Row],[Cost]])) -> 524.99 | X40: =Table5[[#This Row],[$+Warr]]/Table5[[#This Row],[SizTB]] -> 43.749167 | Y40: =Table5[[#This Row],[$PerTB]]/CompareWarrYrs -> 8.7498333
...

Sheet Tables
A1: Type | B1: NAS
A2: FormFactor | B2: 3.5
A3: Warnty | B3: 5
A4: NAS Drives Avg Cost By Size Per Year
A5: Row Labels | B5: Average of $ TB/year
A6: 0.9 | B6: 0
A7: 1 | B7: 18.332
A8: 2 | B8: 13.521683
A9: 3 | B9: 11.486667
A10: 4 | B10: 9.2913333
A11: 5 | B11: 12.8282
A12: 6 | B12: 8.0165611
A13: 8 | B13: 7.7206667
A14: 10 | B14: 8.00292
A15: 12 | B15: 9.1621667
A16: Avg By Size | B16: 10.095487
A19: Type | B19: NAS
A20: FormFactor | B20: 3.5
A21: Warnty | B21: 5
A22: Avg Energy Cost by Size per TB per Year
A23: Row Labels | B23: Cost per TB per year
A24: 0.9 | B24: 7.4021973
A25: 1 | B25: 5.8796335
A26: 2 | B26: 3.2679849
A27: 3 | B27: 2.4712138
A28: 4 | B28: 1.9101139
A29: 5 | B29: 1.7027489
A30: 6 | B30: 1.3453007
A31: 8 | B31: 0.81585485
A32: 10 | B32: 0.55224288
A33: 12 | B33: 0.50646613
A34: Average | B34: 2.0530823
A37: Type | B37: NAS
A38: FormFactor | B38: 3.5
A39: Warnty | B39: 5
A40: Avg Energy Cost by Size per Year
A41: Row Labels | B41: Average of Energy$year
A42: 0.9 | B42: 6.6619776
A43: 1 | B43: 5.8796335
A44: 2 | B44: 6.5359698
...

Sheet Charts
A1: These are incomplete at thi time…

Sheet Database
A1: Date | B1: Manu | C1: Model | D1: Type | E1: SizTB | F1: RPM | G1: AvgLatency | H1: SeekT | I1: PerfCmp | J1: XferRate | K1: Warnty | L1: CycleCnt | M1: WorkLoad | N1: MTBF | O1: RErrRate | P1: MaxStartupWatts | Q1: Watts Active | R1: Watts Idle | S1: WattsStandby | T1: Cost | U1: $ TB | V1: $+Warr | W1: $PerTB | X1: $ TB/year | Y1: Comp $/Perf/Size | Z1: Energy$year | AA1: Energy$yearPerTB | AB1: Notes
D2: NAS | E2: 10 | T2: >100
A4: =DVAR('Drive Table'!$A$2:$AC$125,"Cost",$A$1:$AB$2) -> 1259.7118 | B4: Mean
A5: =DAVERAGE('Drive Table'!$A$2:$AC$125,"Cost",$A$1:$AB$2) -> 388.8375 | B5: Avg
A6: =DMIN('Drive Table'!$A$2:$AC$125,"Cost",$A$1:$AB$2) -> 349.99 | B6: Min
A7: =DMAX('Drive Table'!$A$2:$AC$125,"Cost",$A$1:$AB$2) -> 440.77 | B7: Max
A8: =DCOUNTA('Drive Table'!$A$2:$AC$125,"Cost",$A$1:$AB$2) -> 8 | B8: Qty
