Workbook
Name Active_Duty_Cycle: 'Drive Table'!$D$136
Name CompareWarrYrs: 'Drive Table'!$D$137
Name CostPerKWH: 'Drive Table'!$D$135
Name Day_in_Year: 'Drive Table'!$D$143
Name Days_In_Month: 'Drive Table'!$D$142
Name Days_in_Year: 'Drive Table'!$D$143
Name Hours_In_Day: 'Drive Table'!$D$140
Name Hours_In_Month: 'Drive Table'!$D$141
Name Incremental_Warr_Yr: 'Drive Table'!$D$138
Name Months_In_Year: 'Drive Table'!$D$144
Name Power_On_Hours_Year: 'Drive Table'!$D$139

Sheet Drive Table
A1: SPECIFICATIONS | G1: PERFORMANCE | L1: LONGJEVITY | Q1: POWER USAGE | U1: Actual | W1: Warranty_Normalized_Computed | Z1: TBD | AA1: Energy
A2: Date | B2: Manu | C2: Model | D2: Type | E2: FormFactor | F2: SizTB | G2: RPM | H2: AvgLatency | I2: SeekT | J2: PerfCmp | K2: XferRate | L2: Warnty | M2: CycleCnt | N2: WorkLoad | O2: MTBF | P2: RErrRate | Q2: MaxStartupWatts | R2: Watts Active | S2: Watts Idle | T2: WattsStandby | U2: Cost | V2: $ TB | W2: $+Warr | X2: $PerTB | Y2: $ TB/year | Z2: Comp $/Perf/Size | AA2: Energy$year | AB2: Energy$yearPerTB | AC2: Notes
A3: 43019 | B3: HGST | C3: Deskstar NAS | D3: NAS | E3: 3.5 | F3: 4 | G3: 7200 | I3: 11.99 | J3: =(Table5[[#This Row],[RPM]]/5400-1) -> 0.33333333 | K3: 202 | L3: 3 | M3: 600000 | O3: 1000000 | P3: =10^14 -> 100000000000000 | Q3: =1.2*5+2*12 -> 30 | S3: 7.3 | U3: 133.99 | V3: =Table5[[#This Row],[Cost]]/Table5[[#This Row],[SizTB]] -> 33.4975 | W3: =Table5[[#This Row],[Cost]]+((CompareWarrYrs-Table5[[#This Row],[Warnty]])*(Incremental_Warr_Yr*Table5[[#This Row],[Cost]])) -> 163.4678 | X3: =Table5[[#This Row],[$+Warr]]/Table5[[#This Row],[SizTB]] -> 40.86695 | Y3: =Table5[[#This Row],[$PerTB]]/CompareWarrYrs -> 8.17339 | AC3: HGST drives are now
A4: 43019 | B4: HGST | C4: Deskstar NAS | D4: NAS | E4: 3.5 | F4: 6 | G4: 7200 | I4: 11.99 | J4: =(Table5[[#This Row],[RPM]]/5400-1) -> 0.33333333 | K4: 227 | L4: 3 | M4: 600000 | O4: 1000000 | P4: =10^14 -> 100000000000000 | Q4: =1.2*5+2*12 -> 30 | S4: 7.3 | U4: 194.99 | V4: =Table5[[#This Row],[Cost]]/Table5[[#This Row],[SizTB]] -> 32.498333 | W4: =Table5[[#This Row],[Cost]]+((CompareWarrYrs-Table5[[#This Row],[Warnty]])*(Incremental_Warr_Yr*Table5[[#This Row],[Cost]])) -> 237.8878 | X4: =Table5[[#This Row],[$+Warr]]/Table5[[#This Row],[SizTB]] -> 39.647967 | Y4: =Table5[[#This Row],[$PerTB]]/CompareWarrYrs -> 7.9295933 | AC4: owned by WD
A5: 43019 | B5: HGST | C5: Deskstar NAS | D5: NAS | E5: 3.5 | F5: 8 | G5: 7200 | I5: 11.99 | J5: =(Table5[[#This Row],[RPM]]/5400-1) -> 0.33333333 | K5: 205 | L5: 3 | M5: 600000 | O5: 1000000 | P5: =10^14 -> 100000000000000 | Q5: =1.2*5+2*12 -> 30 | S5: 5.1 | U5: 279.99 | V5: =Table5[[#This Row],[Cost]]/Table5[[#This Row],[SizTB]] -> 34.99875 | W5: =Table5[[#This Row],[Cost]]+((CompareWarrYrs-Table5[[#This Row],[Warnty]])*(Incremental_Warr_Yr*Table5[[#This Row],[Cost]])) -> 341.5878 | X5: =Table5[[#This Row],[$+Warr]]/Table5[[#This Row],[SizTB]] -> 42.698475 | Y5: =Table5[[#This Row],[$PerTB]]/CompareWarrYrs -> 8.539695
A6: 43019 | B6: HGST | C6: Deskstar NAS | D6: NAS | E6: 3.5 | F6: 10 | G6: 7200 | I6: 11.99 | J6: =(Table5[[#This Row],[RPM]]/5400-1) -> 0.33333333 | K6: 240 | L6: 3 | M6: 600000 | O6: 1000000 | P6: =10^14 -> 100000000000000 | Q6: =1.2*5+2*12 -> 30 | S6: 5.1 | U6: 349.99 | V6: =Table5[[#This Row],[Cost]]/Table5[[#This Row],[SizTB]] -> 34.999 | W6: =Table5[[#This Row],[Cost]]+((CompareWarrYrs-Table5[[#This Row],[Warnty]])*(Incremental_Warr_Yr*Table5[[#This Row],[Cost]])) -> 426.9878 | X6: =Table5[[#This Row],[$+Warr]]/Table5[[#This Row],[SizTB]] -> 42.69878 | Y6: =Table5[[#This Row],[$PerTB]]/CompareWarrYrs -> 8.539756
A7: 43005 | B7: HGST | C7: Travelstar 5K100 | E7: 2.5 | F7: 1 | G7: 5400 | H7: 5.5 | I7: 12 | J7: =(Table5[[#This Row],[RPM]]/5400-1) -> 0 | K7: 99 | L7: 3 | M7: 600000 | Q7: 4.5 | R7: 1.6 | S7: 0.8 | T7: 0.2 | U7: 49.99 | V7: =Table5[[#This Row],[Cost]]/Table5[[#This Row],[SizTB]] -> 49.99 | W7: =Table5[[#This Row],[Cost]]+((CompareWarrYrs-Table5[[#This Row],[Warnty]])*(Incremental_Warr_Yr*Table5[[#This Row],[Cost]])) -> 60.9878 | X7: =Table5[[#This Row],[$+Warr]]/Table5[[#This Row],[SizTB]] -> 60.9878 | Y7: =Table5[[#This Row],[$PerTB]]/CompareWarrYrs -> 12.19756
A8: 43005 | B8: HGST | C8: Travelstar 7K100 | E8: 2.5 | F8: 1 | G8: 7200 | H8: 4.2 | I8: 12 | J8: =(Table5[[#This Row],[RPM]]/5400-1) -> 0.33333333 | K8: 128 | L8: 3 | M8: 600000 | Q8: 5.5 | R8: 1.8 | S8: 1 | T8: 0.2 | U8: 54.99 | V8: =Table5[[#This Row],[Cost]]/Table5[[#This Row],[SizTB]] -> 54.99 | W8: =Table5[[#This Row],[Cost]]+((CompareWarrYrs-Table5[[#This Row],[Warnty]])*(Incremental_Warr_Yr*Table5[[#This Row],[Cost]])) -> 67.0878 | X8: =Table5[[#This Row],[$+Warr]]/Table5[[#This Row],[SizTB]] -> 67.0878 | Y8: =Table5[[#This Row],[$PerTB]]/CompareWarrYrs -> 13.41756
A9: 42984 | B9: HGST | C9: Ultrastar 7K6 | D9: NAS | E9: 3.5 | F9: 2 | G9: 7200 | H9: 4.16 | I9: 8 | J9: =(Table5[[#This Row],[RPM]]/5400-1) -> 0.33333333 | K9: 192 | L9: 5 | M9: 600000 | O9: 2000000 | P9: 1e+15 | R9: 9.1 | S9: 7.1 | U9: 149.34 | V9: =Table5[[#This Row],[Cost]]/Table5[[#This Row],[SizTB]] -> 74.67 | W9: =Table5[[#This Row],[Cost]]+((CompareWarrYrs-Table5[[#This Row],[Warnty]])*(Incremental_Warr_Yr*Table5[[#This Row],[Cost]])) -> 149.34 | X9: =Table5[[#This Row],[$+Warr]]/Table5[[#This Row],[SizTB]] -> 74.67 | Y9: =Table5[[#This Row],[$PerTB]]/CompareWarrYrs -> 14.934 | AA9: =(((Table5[[#This Row],[Watts Active]]*Power_On_Hours_Year/1000)*Active_Duty_Cycle)+((Table5[[#This Row],[Watts Idle]]*Power_On_Hours_Year/1000)*(100%-Active_Duty_Cycle)))*CostPerKWH -> 8.2179 | AB9: =Table5[[#This Row],[Energy$year]]/Table5[[#This Row],[SizTB]] -> 4.10895
A10: 42984 | B10: HGST | C10: Ultrastar 7K6 | D10: NAS | E10: 3.5 | F10: 4 | G10: 7200 | H10: 4.16 | I10: 8 | J10: =(Table5[[#This Row],[RPM]]/5400-1) -> 0.33333333 | K10: 192 | L10: 5 | M10: 600000 | O10: 2000000 | P10: 1e+15 | R10: 9.1 | S10: 7.1 | U10: 255.99 | V10: =Table5[[#This Row],[Cost]]/Table5[[#This Row],[SizTB]] -> 63.9975 | W10: =Table5[[#This Row],[Cost]]+((CompareWarrYrs-Table5[[#This Row],[Warnty]])*(Incremental_Warr_Yr*Table5[[#This Row],[Cost]])) -> 255.99 | X10: =Table5[[#This Row],[$+Warr]]/Table5[[#This Row],[SizTB]] -> 63.9975 | Y10: =Table5[[#This Row],[$PerTB]]/CompareWarrYrs -> 12.7995 | AA10: =(((Table5[[#This Row],[Watts Active]]*Power_On_Hours_Year/1000)*Active_Duty_Cycle)+((Table5[[#This Row],[Watts Idle]]*Power_On_Hours_Year/1000)*(100%-Active_Duty_Cycle)))*CostPerKWH -> 8.2179 | AB10: =Table5[[#This Row],[Energy$year]]/Table5[[#This Row],[SizTB]] -> 2.054475
A11: 42984 | B11: HGST | C11: Ultrastar 7K6 | D11: NAS | E11: 3.5 | F11: 5 | G11: 7200 | H11: 4.16 | I11: 8 | J11: =(Table5[[#This Row],[RPM]]/5400-1) -> 0.33333333 | K11: 192 | L11: 5 | M11: 600000 | O11: 2000000 | P11: 1e+15 | R11: 9.1 | S11: 7.1 | U11: 381.42 | V11: =Table5[[#This Row],[Cost]]/Table5[[#This Row],[SizTB]] -> 76.284 | W11: =Table5[[#This Row],[Cost]]+((CompareWarrYrs-Table5[[#This Row],[Warnty]])*(Incremental_Warr_Yr*Table5[[#This Row],[Cost]])) -> 381.42 | X11: =Table5[[#This Row],[$+Warr]]/Table5[[#This Row],[SizTB]] -> 76.284 | Y11: =Table5[[#This Row],[$PerTB]]/CompareWarrYrs -> 15.2568 | AA11: =(((Table5[[#This Row],[Watts Active]]*Power_On_Hours_Year/1000)*Active_Duty_Cycle)+((Table5[[#This Row],[Watts Idle]]*Power_On_Hours_Year/1000)*(100%-Active_Duty_Cycle)))*CostPerKWH -> 8.2179 | AB11: =Table5[[#This Row],[Energy$year]]/Table5[[#This Row],[SizTB]] -> 1.64358
A12: 42984 | B12: HGST | C12: Ultrastar 7K6 | D12: NAS | E12: 3.5 | F12: 6 | G12: 7200 | H12: 4.16 | I12: 8 | J12: =(Table5[[#This Row],[RPM]]/5400-1) -> 0.33333333 | K12: 216 | L12: 5 | M12: 600000 | O12: 2000000 | P12: 1e+15 | R12: 9.1 | S12: 7.1 | U12: 301.53 | V12: =Table5[[#This Row],[Cost]]/Table5[[#This Row],[SizTB]] -> 50.255 | W12: =Table5[[#This Row],[Cost]]+((CompareWarrYrs-Table5[[#This Row],[Warnty]])*(Incremental_Warr_Yr*Table5[[#This Row],[Cost]])) -> 301.53 | X12: =Table5[[#This Row],[$+Warr]]/Table5[[#This Row],[SizTB]] -> 50.255 | Y12: =Table5[[#This Row],[$PerTB]]/CompareWarrYrs -> 10.051 | AA12: =(((Table5[[#This Row],[Watts Active]]*Power_On_Hours_Year/1000)*Active_Duty_Cycle)+((Table5[[#This Row],[Watts Idle]]*Power_On_Hours_Year/1000)*(100%-Active_Duty_Cycle)))*CostPerKWH -> 8.2179 | AB12: =Table5[[#This Row],[Energy$year]]/Table5[[#This Row],[SizTB]] -> 1.36965
A13: 42846 | B13: HGST | C13: Ultrastar Archive Ha10 | E13: 3.5 | F13: 8 | G13: 7200 | J13: =(Table5[[#This Row],[RPM]]/5400-1) -> 0.33333333 | L13: 5 | R13: 7.6 | S13: 5.1 | U13: 373 | V13: =Table5[[#This Row],[Cost]]/Table5[[#This Row],[SizTB]] -> 46.625 | W13: =Table5[[#This Row],[Cost]]+((CompareWarrYrs-Table5[[#This Row],[Warnty]])*(Incremental_Warr_Yr*Table5[[#This Row],[Cost]])) -> 373 | X13: =Table5[[#This Row],[$+Warr]]/Table5[[#This Row],[SizTB]] -> 46.625 | Y13: =Table5[[#This Row],[$PerTB]]/CompareWarrYrs -> 9.325 | AA13: =(((Table5[[#This Row],[Watts Active]]*Power_On_Hours_Year/1000)*Active_Duty_Cycle)+((Table5[[#This Row],[Watts Idle]]*Power_On_Hours_Year/1000)*(100%-Active_Duty_Cycle)))*CostPerKWH -> 6.136032 | AB13: =Table5[[#This Row],[Energy$year]]/Table5[[#This Row],[SizTB]] -> 0.767004 | AC13: Helium filled
A14: 43021 | B14: HGST | C14: Ultrastar C10K1200 | D14: NAS | E14: 2.5 | F14: 1.2 | G14: 10520 | H14: 2.85 | I14: 4.4 | J14: =(Table5[[#This Row],[RPM]]/5400-1) -> 0.94814815 | K14: 224 | L14: 5 | O14: 2000000 | P14: 1e+16 | R14: 6.5 | S14: 4.7 | U14: 180 | V14: =Table5[[#This Row],[Cost]]/Table5[[#This Row],[SizTB]] -> 150 | W14: =Table5[[#This Row],[Cost]]+((CompareWarrYrs-Table5[[#This Row],[Warnty]])*(Incremental_Warr_Yr*Table5[[#This Row],[Cost]])) -> 180 | X14: =Table5[[#This Row],[$+Warr]]/Table5[[#This Row],[SizTB]] -> 150 | Y14: =Table5[[#This Row],[$PerTB]]/CompareWarrYrs -> 30 | AA14: =(((Table5[[#This Row],[Watts Active]]*Power_On_Hours_Year/1000)*Active_Duty_Cycle)+((Table5[[#This Row],[Watts Idle]]*Power_On_Hours_Year/1000)*(100%-Active_Duty_Cycle)))*CostPerKWH -> 5.5443432 | AB14: =Table5[[#This Row],[Energy$year]]/Table5[[#This Row],[SizTB]] -> 4.620286
A15: 43021 | B15: HGST | C15: Ultrastar C10K1800 | D15: NAS | E15: 2.5 | F15: 1.8 | G15: 10520 | H15: 2.85 | I15: 4.4 | J15: =(Table5[[#This Row],[RPM]]/5400-1) -> 0.94814815 | K15: 224 | L15: 5 | O15: 2000000 | P15: 1e+16 | R15: 6.6 | S15: 4.7 | U15: 315 | V15: =Table5[[#This Row],[Cost]]/Table5[[#This Row],[SizTB]] -> 175 | W15: =Table5[[#This Row],[Cost]]+((CompareWarrYrs-Table5[[#This Row],[Warnty]])*(Incremental_Warr_Yr*Table5[[#This Row],[Cost]])) -> 315 | X15: =Table5[[#This Row],[$+Warr]]/Table5[[#This Row],[SizTB]] -> 175 | Y15: =Table5[[#This Row],[$PerTB]]/CompareWarrYrs -> 35 | AA15: =(((Table5[[#This Row],[Watts Active]]*Power_On_Hours_Year/1000)*Active_Duty_Cycle)+((Table5[[#This Row],[Watts Idle]]*Power_On_Hours_Year/1000)*(100%-Active_Duty_Cycle)))*CostPerKWH -> 5.5662576 | AB15: =Table5[[#This Row],[Energy$year]]/Table5[[#This Row],[SizTB]] -> 3.0923653
A16: 43021 | B16: HGST | C16: Ultrastar C15K600 | D16: NAS | E16: 2.5 | F16: 0.6 | G16: 15030 | H16: 1.99 | I16: 3.1 | J16: =(Table5[[#This Row],[RPM]]/5400-1) -> 1.7833333 | K16: 250 | L16: 5 | O16: 2000000 | P16: 1e+17 | R16: 7.5 | S16: 5.8 | U16: 259.99 | V16: =Table5[[#This Row],[Cost]]/Table5[[#This Row],[SizTB]] -> 433.31667 | W16: =Table5[[#This Row],[Cost]]+((CompareWarrYrs-Table5[[#This Row],[Warnty]])*(Incremental_Warr_Yr*Table5[[#This Row],[Cost]])) -> 259.99 | X16: =Table5[[#This Row],[$+Warr]]/Table5[[#This Row],[SizTB]] -> 433.31667 | Y16: =Table5[[#This Row],[$PerTB]]/CompareWarrYrs -> 86.663333 | AA16: =(((Table5[[#This Row],[Watts Active]]*Power_On_Hours_Year/1000)*Active_Duty_Cycle)+((Table5[[#This Row],[Watts Idle]]*Power_On_Hours_Year/1000)*(100%-Active_Duty_Cycle)))*CostPerKWH -> 6.7277208 | AB16: =Table5[[#This Row],[Energy$year]]/Table5[[#This Row],[SizTB]] -> 11.212868
A17: 43019 | B17: HGST | C17: Ultrastar He6 | D17: NAS | E17: 3.5 | F17: 6 | G17: 7200 | H17: 4.16 | I17: 9 | J17: =(Table5[[#This Row],[RPM]]/5400-1) -> 0.33333333 | K17: 195 | L17: 5 | M17: 600000 | N17: 550 | O17: 2500000 | P17: 1e+15 | R17: 7.4 | S17: 5.1 | U17: 179.99 | V17: =Table5[[#This Row],[Cost]]/Table5[[#This Row],[SizTB]] -> 29.998333 | W17: =Table5[[#This Row],[Cost]]+((CompareWarrYrs-Table5[[#This Row],[Warnty]])*(Incremental_Warr_Yr*Table5[[#This Row],[Cost]])) -> 179.99 | X17: =Table5[[#This Row],[$+Warr]]/Table5[[#This Row],[SizTB]] -> 29.998333 | Y17: =Table5[[#This Row],[$PerTB]]/CompareWarrYrs -> 5.9996667 | AA17: =(((Table5[[#This Row],[Watts Active]]*Power_On_Hours_Year/1000)*Active_Duty_Cycle)+((Table5[[#This Row],[Watts Idle]]*Power_On_Hours_Year/1000)*(100%-Active_Duty_Cycle)))*CostPerKWH -> 6.0922032 | AB17: =Table5[[#This Row],[Energy$year]]/Table5[[#This Row],[SizTB]] -> 1.0153672 | AC17: Helium filled
A18: 43019 | B18: HGST | C18: Ultrastar He8 | D18: NAS | E18: 3.5 | F18: 8 | G18: 7200 | H18: 4.16 | I18: 8.5 | J18: =(Table5[[#This Row],[RPM]]/5400-1) -> 0.33333333 | K18: 237 | L18: 5 | M18: 600000 | N18: 550 | O18: 2500000 | P18: 1e+15 | R18: 7.4 | S18: 5.1 | U18: 285 | V18: =Table5[[#This Row],[Cost]]/Table5[[#This Row],[SizTB]] -> 35.625 | W18: =Table5[[#This Row],[Cost]]+((CompareWarrYrs-Table5[[#This Row],[Warnty]])*(Incremental_Warr_Yr*Table5[[#This Row],[Cost]])) -> 285 | X18: =Table5[[#This Row],[$+Warr]]/Table5[[#This Row],[SizTB]] -> 35.625 | Y18: =Table5[[#This Row],[$PerTB]]/CompareWarrYrs -> 7.125 | AA18: =(((Table5[[#This Row],[Watts Active]]*Power_On_Hours_Year/1000)*Active_Duty_Cycle)+((Table5[[#This Row],[Watts Idle]]*Power_On_Hours_Year/1000)*(100%-Active_Duty_Cycle)))*CostPerKWH -> 6.0922032 | AB18: =Table5[[#This Row],[Energy$year]]/Table5[[#This Row],[SizTB]] -> 0.7615254 | AC18: Helium filled
A19: 43005 | B19: HGST | C19: Ultrastar He10 | D19: NAS | E19: 3.5 | F19: 10 | G19: 7200 | H19: 4.16 | I19: 8 | J19: =(Table5[[#This Row],[RPM]]/5400-1) -> 0.33333333 | K19: 237 | L19: 5 | M19: 600000 | N19: 550 | O19: 2500000 | P19: 1e+15 | R19: 6.8 | S19: 5 | U19: 349.99 | V19: =Table5[[#This Row],[Cost]]/Table5[[#This Row],[SizTB]] -> 34.999 | W19: =Table5[[#This Row],[Cost]]+((CompareWarrYrs-Table5[[#This Row],[Warnty]])*(Incremental_Warr_Yr*Table5[[#This Row],[Cost]])) -> 349.99 | X19: =Table5[[#This Row],[$+Warr]]/Table5[[#This Row],[SizTB]] -> 34.999 | Y19: =Table5[[#This Row],[$PerTB]]/CompareWarrYrs -> 6.9998 | AA19: =(((Table5[[#This Row],[Watts Active]]*Power_On_Hours_Year/1000)*Active_Duty_Cycle)+((Table5[[#This Row],[Watts Idle]]*Power_On_Hours_Year/1000)*(100%-Active_Duty_Cycle)))*CostPerKWH -> 5.8730592 | AB19: =Table5[[#This Row],[Energy$year]]/Table5[[#This Row],[SizTB]] -> 0.58730592 | AC19: Helium filled
A20: 43005 | B20: HGST | C20: Ultrastar He12 | D20: NAS | E20: 3.5 | F20: 12 | G20: 7200 | H20: 4.16 | I20: 8.6 | J20: =(Table5[[#This Row],[RPM]]/5400-1) -> 0.33333333 | K20: 243 | L20: 5 | M20: 600000 | N20: 550 | O20: 2500000 | P20: 1e+15 | R20: 7.2 | S20: 5.3 | U20: 619.98 | V20: =Table5[[#This Row],[Cost]]/Table5[[#This Row],[SizTB]] -> 51.665 | W20: =Table5[[#This Row],[Cost]]+((CompareWarrYrs-Table5[[#This Row],[Warnty]])*(Incremental_Warr_Yr*Table5[[#This Row],[Cost]])) -> 619.98 | X20: =Table5[[#This Row],[$+Warr]]/Table5[[#This Row],[SizTB]] -> 51.665 | Y20: =Table5[[#This Row],[$PerTB]]/CompareWarrYrs -> 10.333 | AA20: =(((Table5[[#This Row],[Watts Active]]*Power_On_Hours_Year/1000)*Active_Duty_Cycle)+((Table5[[#This Row],[Watts Idle]]*Power_On_Hours_Year/1000)*(100%-Active_Duty_Cycle)))*CostPerKWH -> 6.2236896 | AB20: =Table5[[#This Row],[Energy$year]]/Table5[[#This Row],[SizTB]] -> 0.5186408 | AC20: Helium filled
A21: 43021 | B21: HGST | C21: Ultrastar Hs14 | E21: 3.5 | F21: 14 | G21: 7200 | H21: 4.16 | I21: 12 | J21: =(Table5[[#This Row],[RPM]]/5400-1) -> 0.33333333 | K21: 233 | L21: 5 | M21: 600000 | N21: 550 | O21: 2500000 | P21: 1e+15 | R21: 6.4 | S21: 5.2 | V21: =Table5[[#This Row],[Cost]]/Table5[[#This Row],[SizTB]] -> 0 | W21: =Table5[[#This Row],[Cost]]+((CompareWarrYrs-Table5[[#This Row],[Warnty]])*(Incremental_Warr_Yr*Table5[[#This Row],[Cost]])) -> 0 | X21: =Table5[[#This Row],[$+Warr]]/Table5[[#This Row],[SizTB]] -> 0 | Y21: =Table5[[#This Row],[$PerTB]]/CompareWarrYrs -> 0 | AA21: =(((Table5[[#This Row],[Watts Active]]*Power_On_Hours_Year/1000)*Active_Duty_Cycle)+((Table5[[#This Row],[Watts Idle]]*Power_On_Hours_Year/1000)*(100%-Active_Duty_Cycle)))*CostPerKWH -> 5.9607168 | AB21: =Table5[[#This Row],[Energy$year]]/Table5[[#This Row],[SizTB]] -> 0.42576549 | AC21: Helium filled, Shingled (SMR)
A22: 42961 | B22: Seagate | C22: Archive | E22: 3.5 | F22: 5 | G22: 5900 | J22: =(Table5[[#This Row],[RPM]]/5400-1) -> 0.092592593 | K22: 146 | L22: 3 | M22: 300000 | N22: 180 | O22: 800000 | P22: =10^14 -> 100000000000000 | Q22: 24 | R22: 5.5 | S22: 3.5 | T22: 0.74 | U22: 192.01 | V22: =Table5[[#This Row],[Cost]]/Table5[[#This Row],[SizTB]] -> 38.402 | W22: =Table5[[#This Row],[Cost]]+((CompareWarrYrs-Table5[[#This Row],[Warnty]])*(Incremental_Warr_Yr*Table5[[#This Row],[Cost]])) -> 234.2522 | X22: =Table5[[#This Row],[$+Warr]]/Table5[[#This Row],[SizTB]] -> 46.85044 | Y22: =Table5[[#This Row],[$PerTB]]/CompareWarrYrs -> 9.370088 | AA22: =(((Table5[[#This Row],[Watts Active]]*Power_On_Hours_Year/1000)*Active_Duty_Cycle)+((Table5[[#This Row],[Watts Idle]]*Power_On_Hours_Year/1000)*(100%-Active_Duty_Cycle)))*CostPerKWH -> 4.273308 | AB22: =Table5[[#This Row],[Energy$year]]/Table5[[#This Row],[SizTB]] -> 0.8546616 | AC22: Shingled Magnetic Recording (SMR)
A23: 42961 | B23: Seagate | C23: Archive | E23: 3.5 | F23: 6 | G23: 5900 | J23: =(Table5[[#This Row],[RPM]]/5400-1) -> 0.092592593 | K23: 150 | L23: 3 | M23: 300000 | N23: 180 | O23: 800000 | P23: =10^14 -> 100000000000000 | Q23: 24 | R23: 7.5 | S23: 5 | T23: 0.99 | U23: 203.47 | V23: =Table5[[#This Row],[Cost]]/Table5[[#This Row],[SizTB]] -> 33.911667 | W23: =Table5[[#This Row],[Cost]]+((CompareWarrYrs-Table5[[#This Row],[Warnty]])*(Incremental_Warr_Yr*Table5[[#This Row],[Cost]])) -> 248.2334 | X23: =Table5[[#This Row],[$+Warr]]/Table5[[#This Row],[SizTB]] -> 41.372233 | Y23: =Table5[[#This Row],[$PerTB]]/CompareWarrYrs -> 8.2744467 | AA23: =(((Table5[[#This Row],[Watts Active]]*Power_On_Hours_Year/1000)*Active_Duty_Cycle)+((Table5[[#This Row],[Watts Idle]]*Power_On_Hours_Year/1000)*(100%-Active_Duty_Cycle)))*CostPerKWH -> 6.02646 | AB23: =Table5[[#This Row],[Energy$year]]/Table5[[#This Row],[SizTB]] -> 1.00441 | AC23: Shingled Magnetic Recording (SMR)
A24: 43019 | B24: Seagate | C24: Archive | E24: 3.5 | F24: 8 | G24: 5900 | J24: =(Table5[[#This Row],[RPM]]/5400-1) -> 0.092592593 | K24: 150 | L24: 3 | M24: 300000 | N24: 180 | O24: 800000 | P24: =10^14 -> 100000000000000 | Q24: 24 | R24: 7.5 | S24: 5 | T24: 0.99 | U24: 229.99 | V24: =Table5[[#This Row],[Cost]]/Table5[[#This Row],[SizTB]] -> 28.74875 | W24: =Table5[[#This Row],[Cost]]+((CompareWarrYrs-Table5[[#This Row],[Warnty]])*(Incremental_Warr_Yr*Table5[[#This Row],[Cost]])) -> 280.5878 | X24: =Table5[[#This Row],[$+Warr]]/Table5[[#This Row],[SizTB]] -> 35.073475 | Y24: =Table5[[#This Row],[$PerTB]]/CompareWarrYrs -> 7.014695 | AA24: =(((Table5[[#This Row],[Watts Active]]*Power_On_Hours_Year/1000)*Active_Duty_Cycle)+((Table5[[#This Row],[Watts Idle]]*Power_On_Hours_Year/1000)*(100%-Active_Duty_Cycle)))*CostPerKWH -> 6.02646 | AB24: =Table5[[#This Row],[Energy$year]]/Table5[[#This Row],[SizTB]] -> 0.7533075 | AC24: Shingled Magnetic Recording (SMR)
A25: 43007 | B25: Seagate | C25: BarraCuda | E25: 3.5 | F25: 1 | G25: 5400 | H25: 4.16 | I25: 9.5 | J25: =(Table5[[#This Row],[RPM]]/5400-1) -> 0 | K25: 210 | L25: 2 | M25: 300000 | N25: 55 | P25: =10^14 -> 100000000000000 | Q25: 24 | R25: 5.3 | S25: 4.6 | T25: 0.94 | U25: 46.99 | V25: =Table5[[#This Row],[Cost]]/Table5[[#This Row],[SizTB]] -> 46.99 | W25: =Table5[[#This Row],[Cost]]+((CompareWarrYrs-Table5[[#This Row],[Warnty]])*(Incremental_Warr_Yr*Table5[[#This Row],[Cost]])) -> 62.4967 | X25: =Table5[[#This Row],[$+Warr]]/Table5[[#This Row],[SizTB]] -> 62.4967 | Y25: =Table5[[#This Row],[$PerTB]]/CompareWarrYrs -> 12.49934 | AA25: =(((Table5[[#This Row],[Watts Active]]*Power_On_Hours_Year/1000)*Active_Duty_Cycle)+((Table5[[#This Row],[Watts Idle]]*Power_On_Hours_Year/1000)*(100%-Active_Duty_Cycle)))*CostPerKWH -> 5.1937128 | AB25: =Table5[[#This Row],[Energy$year]]/Table5[[#This Row],[SizTB]] -> 5.1937128
A26: 43005 | B26: Seagate | C26: BarraCuda | E26: 3.5 | F26: 2 | G26: 5400 | H26: 6 | I26: 15 | J26: =(Table5[[#This Row],[RPM]]/5400-1) -> 0 | K26: 210 | L26: 2 | M26: 600000 | N26: 55 | P26: =10^14 -> 100000000000000 | Q26: =2.5*12 -> 30 | R26: 8 | S26: 5.4 | T26: 0.75 | U26: 66.99 | V26: =Table5[[#This Row],[Cost]]/Table5[[#This Row],[SizTB]] -> 33.495 | W26: =Table5[[#This Row],[Cost]]+((CompareWarrYrs-Table5[[#This Row],[Warnty]])*(Incremental_Warr_Yr*Table5[[#This Row],[Cost]])) -> 89.0967 | X26: =Table5[[#This Row],[$+Warr]]/Table5[[#This Row],[SizTB]] -> 44.54835 | Y26: =Table5[[#This Row],[$PerTB]]/CompareWarrYrs -> 8.90967 | AA26: =(((Table5[[#This Row],[Watts Active]]*Power_On_Hours_Year/1000)*Active_Duty_Cycle)+((Table5[[#This Row],[Watts Idle]]*Power_On_Hours_Year/1000)*(100%-Active_Duty_Cycle)))*CostPerKWH -> 6.4866624 | AB26: =Table5[[#This Row],[Energy$year]]/Table5[[#This Row],[SizTB]] -> 3.2433312
A27: 43014 | B27: Seagate | C27: BarraCuda | E27: 3.5 | F27: 3 | G27: 5400 | H27: 6 | I27: 15 | J27: =(Table5[[#This Row],[RPM]]/5400-1) -> 0 | K27: 210 | L27: 2 | M27: 600000 | N27: 55 | P27: =10^14 -> 100000000000000 | Q27: =2.5*12 -> 30 | R27: 8 | S27: 5.4 | T27: 0.75 | U27: 69.99 | V27: =Table5[[#This Row],[Cost]]/Table5[[#This Row],[SizTB]] -> 23.33 | W27: =Table5[[#This Row],[Cost]]+((CompareWarrYrs-Table5[[#This Row],[Warnty]])*(Incremental_Warr_Yr*Table5[[#This Row],[Cost]])) -> 93.0867 | X27: =Table5[[#This Row],[$+Warr]]/Table5[[#This Row],[SizTB]] -> 31.0289 | Y27: =Table5[[#This Row],[$PerTB]]/CompareWarrYrs -> 6.20578 | AA27: =(((Table5[[#This Row],[Watts Active]]*Power_On_Hours_Year/1000)*Active_Duty_Cycle)+((Table5[[#This Row],[Watts Idle]]*Power_On_Hours_Year/1000)*(100%-Active_Duty_Cycle)))*CostPerKWH -> 6.4866624 | AB27: =Table5[[#This Row],[Energy$year]]/Table5[[#This Row],[SizTB]] -> 2.1622208
A28: 43019 | B28: Seagate | C28: BarraCuda | E28: 3.5 | F28: 4 | G28: 5400 | H28: 6 | I28: 15 | J28: =(Table5[[#This Row],[RPM]]/5400-1) -> 0 | K28: 190 | L28: 2 | M28: 600000 | N28: 55 | P28: =10^14 -> 100000000000000 | Q28: 24 | R28: 5 | S28: 2.5 | T28: 0.25 | U28: 114.99 | V28: =Table5[[#This Row],[Cost]]/Table5[[#This Row],[SizTB]] -> 28.7475 | W28: =Table5[[#This Row],[Cost]]+((CompareWarrYrs-Table5[[#This Row],[Warnty]])*(Incremental_Warr_Yr*Table5[[#This Row],[Cost]])) -> 152.9367 | X28: =Table5[[#This Row],[$+Warr]]/Table5[[#This Row],[SizTB]] -> 38.234175 | Y28: =Table5[[#This Row],[$PerTB]]/CompareWarrYrs -> 7.646835 | AA28: =(((Table5[[#This Row],[Watts Active]]*Power_On_Hours_Year/1000)*Active_Duty_Cycle)+((Table5[[#This Row],[Watts Idle]]*Power_On_Hours_Year/1000)*(100%-Active_Duty_Cycle)))*CostPerKWH -> 3.28716 | AB28: =Table5[[#This Row],[Energy$year]]/Table5[[#This Row],[SizTB]] -> 0.82179
A29: 43019 | B29: Seagate | C29: BarraCuda | E29: 2.5 | F29: 1 | G29: 5400 | J29: =(Table5[[#This Row],[RPM]]/5400-1) -> 0 | K29: 140 | L29: 2 | M29: 600000 | P29: =10^14 -> 100000000000000 | Q29: =1*5 -> 5 | R29: 1.7 | S29: 0.45 | U29: 49.99 | V29: =Table5[[#This Row],[Cost]]/Table5[[#This Row],[SizTB]] -> 49.99 | W29: =Table5[[#This Row],[Cost]]+((CompareWarrYrs-Table5[[#This Row],[Warnty]])*(Incremental_Warr_Yr*Table5[[#This Row],[Cost]])) -> 66.4867 | X29: =Table5[[#This Row],[$+Warr]]/Table5[[#This Row],[SizTB]] -> 66.4867 | Y29: =Table5[[#This Row],[$PerTB]]/CompareWarrYrs -> 13.29734 | AA29: =(((Table5[[#This Row],[Watts Active]]*Power_On_Hours_Year/1000)*Active_Duty_Cycle)+((Table5[[#This Row],[Watts Idle]]*Power_On_Hours_Year/1000)*(100%-Active_Duty_Cycle)))*CostPerKWH -> 0.767004 | AB29: =Table5[[#This Row],[Energy$year]]/Table5[[#This Row],[SizTB]] -> 0.767004
A30: 43019 | B30: Seagate | C30: BarraCuda | E30: 2.5 | F30: 2 | G30: 5400 | J30: =(Table5[[#This Row],[RPM]]/5400-1) -> 0 | K30: 140 | L30: 2 | M30: 600000 | P30: =10^14 -> 100000000000000 | Q30: =1*5 -> 5 | R30: 1.8 | S30: 0.5 | U30: 66.99 | V30: =Table5[[#This Row],[Cost]]/Table5[[#This Row],[SizTB]] -> 33.495 | W30: =Table5[[#This Row],[Cost]]+((CompareWarrYrs-Table5[[#This Row],[Warnty]])*(Incremental_Warr_Yr*Table5[[#This Row],[Cost]])) -> 89.0967 | X30: =Table5[[#This Row],[$+Warr]]/Table5[[#This Row],[SizTB]] -> 44.54835 | Y30: =Table5[[#This Row],[$PerTB]]/CompareWarrYrs -> 8.90967 | AA30: =(((Table5[[#This Row],[Watts Active]]*Power_On_Hours_Year/1000)*Active_Duty_Cycle)+((Table5[[#This Row],[Watts Idle]]*Power_On_Hours_Year/1000)*(100%-Active_Duty_Cycle)))*CostPerKWH -> 0.8327472 | AB30: =Table5[[#This Row],[Energy$year]]/Table5[[#This Row],[SizTB]] -> 0.4163736
A31: 43019 | B31: Seagate | C31: BarraCuda | E31: 2.5 | F31: 3 | G31: 5400 | J31: =(Table5[[#This Row],[RPM]]/5400-1) -> 0 | K31: 140 | L31: 2 | M31: 600000 | P31: =10^14 -> 100000000000000 | Q31: =1.2*5 -> 6 | R31: 2.1 | S31: 1.1 | U31: 89.99 | V31: =Table5[[#This Row],[Cost]]/Table5[[#This Row],[SizTB]] -> 29.996667 | W31: =Table5[[#This Row],[Cost]]+((CompareWarrYrs-Table5[[#This Row],[Warnty]])*(Incremental_Warr_Yr*Table5[[#This Row],[Cost]])) -> 119.6867 | X31: =Table5[[#This Row],[$+Warr]]/Table5[[#This Row],[SizTB]] -> 39.895567 | Y31: =Table5[[#This Row],[$PerTB]]/CompareWarrYrs -> 7.9791133 | AA31: =(((Table5[[#This Row],[Watts Active]]*Power_On_Hours_Year/1000)*Active_Duty_Cycle)+((Table5[[#This Row],[Watts Idle]]*Power_On_Hours_Year/1000)*(100%-Active_Duty_Cycle)))*CostPerKWH -> 1.424436 | AB31: =Table5[[#This Row],[Energy$year]]/Table5[[#This Row],[SizTB]] -> 0.474812
A32: 43019 | B32: Seagate | C32: BarraCuda | E32: 2.5 | F32: 4 | G32: 5400 | J32: =(Table5[[#This Row],[RPM]]/5400-1) -> 0 | K32: 140 | L32: 2 | M32: 600000 | P32: =10^14 -> 100000000000000 | Q32: =1.2*5 -> 6 | R32: 2.1 | S32: 1.1 | U32: 114.99 | V32: =Table5[[#This Row],[Cost]]/Table5[[#This Row],[SizTB]] -> 28.7475 | W32: =Table5[[#This Row],[Cost]]+((CompareWarrYrs-Table5[[#This Row],[Warnty]])*(Incremental_Warr_Yr*Table5[[#This Row],[Cost]])) -> 152.9367 | X32: =Table5[[#This Row],[$+Warr]]/Table5[[#This Row],[SizTB]] -> 38.234175 | Y32: =Table5[[#This Row],[$PerTB]]/CompareWarrYrs -> 7.646835 | AA32: =(((Table5[[#This Row],[Watts Active]]*Power_On_Hours_Year/1000)*Active_Duty_Cycle)+((Table5[[#This Row],[Watts Idle]]*Power_On_Hours_Year/1000)*(100%-Active_Duty_Cycle)))*CostPerKWH -> 1.424436 | AB32: =Table5[[#This Row],[Energy$year]]/Table5[[#This Row],[SizTB]] -> 0.356109
A33: 42947 | B33: Seagate | C33: BarraCuda | E33: 2.5 | F33: 5 | G33: 5400 | J33: =(Table5[[#This Row],[RPM]]/5400-1) -> 0 | K33: 140 | L33: 2 | M33: 600000 | P33: =10^14 -> 100000000000000 | Q33: =1.2*5 -> 6 | R33: 2.1 | S33: 1.1 | U33: 209.99 | V33: =Table5[[#This Row],[Cost]]/Table5[[#This Row],[SizTB]] -> 41.998 | W33: =Table5[[#This Row],[Cost]]+((CompareWarrYrs-Table5[[#This Row],[Warnty]])*(Incremental_Warr_Yr*Table5[[#This Row],[Cost]])) -> 279.2867 | X33: =Table5[[#This Row],[$+Warr]]/Table5[[#This Row],[SizTB]] -> 55.85734 | Y33: =Table5[[#This Row],[$PerTB]]/CompareWarrYrs -> 11.171468 | AA33: =(((Table5[[#This Row],[Watts Active]]*Power_On_Hours_Year/1000)*Active_Duty_Cycle)+((Table5[[#This Row],[Watts Idle]]*Power_On_Hours_Year/1000)*(100%-Active_Duty_Cycle)))*CostPerKWH -> 1.424436 | AB33: =Table5[[#This Row],[Energy$year]]/Table5[[#This Row],[SizTB]] -> 0.2848872
A34: 43019 | B34: Seagate | C34: BarraCuda Pro | E34: 3.5 | F34: 2 | G34: 7200 | H34: 4.16 | J34: =(Table5[[#This Row],[RPM]]/5400-1) -> 0.33333333 | K34: 195 | L34: 5 | M34: 600000 | N34: 180 | P34: 1e+15 | Q34: 24 | R34: 7.5 | S34: 4.5 | T34: 0.8 | U34: 127.99 | V34: =Table5[[#This Row],[Cost]]/Table5[[#This Row],[SizTB]] -> 63.995 | W34: =Table5[[#This Row],[Cost]]+((CompareWarrYrs-Table5[[#This Row],[Warnty]])*(Incremental_Warr_Yr*Table5[[#This Row],[Cost]])) -> 127.99 | X34: =Table5[[#This Row],[$+Warr]]/Table5[[#This Row],[SizTB]] -> 63.995 | Y34: =Table5[[#This Row],[$PerTB]]/CompareWarrYrs -> 12.799 | AA34: =(((Table5[[#This Row],[Watts Active]]*Power_On_Hours_Year/1000)*Active_Duty_Cycle)+((Table5[[#This Row],[Watts Idle]]*Power_On_Hours_Year/1000)*(100%-Active_Duty_Cycle)))*CostPerKWH -> 5.588172 | AB34: =Table5[[#This Row],[Energy$year]]/Table5[[#This Row],[SizTB]] -> 2.794086
A35: 43019 | B35: Seagate | C35: BarraCuda Pro | E35: 3.5 | F35: 4 | G35: 7200 | H35: 4.16 | J35: =(Table5[[#This Row],[RPM]]/5400-1) -> 0.33333333 | K35: 214 | L35: 5 | M35: 600000 | N35: 180 | P35: 1e+15 | Q35: 24 | R35: 6.7 | S35: 6 | T35: 0.6 | U35: 174.99 | V35: =Table5[[#This Row],[Cost]]/Table5[[#This Row],[SizTB]] -> 43.7475 | W35: =Table5[[#This Row],[Cost]]+((CompareWarrYrs-Table5[[#This Row],[Warnty]])*(Incremental_Warr_Yr*Table5[[#This Row],[Cost]])) -> 174.99 | X35: =Table5[[#This Row],[$+Warr]]/Table5[[#This Row],[SizTB]] -> 43.7475 | Y35: =Table5[[#This Row],[$PerTB]]/CompareWarrYrs -> 8.7495 | AA35: =(((Table5[[#This Row],[Watts Active]]*Power_On_Hours_Year/1000)*Active_Duty_Cycle)+((Table5[[#This Row],[Watts Idle]]*Power_On_Hours_Year/1000)*(100%-Active_Duty_Cycle)))*CostPerKWH -> 6.7277208 | AB35: =Table5[[#This Row],[Energy$year]]/Table5[[#This Row],[SizTB]] -> 1.6819302
A36: 42861 | B36: Seagate | C36: BarraCuda Pro | E36: 3.5 | F36: 5 | G36: 7200 | H36: 4.16 | J36: =(Table5[[#This Row],[RPM]]/5400-1) -> 0.33333333 | K36: 220 | L36: 5 | M36: 300000 | N36: 300 | P36: 1e+15 | Q36: =12*1.94 -> 23.28 | R36: 8.37 | S36: 4.42 | T36: 0.8 | U36: 214.99 | V36: =Table5[[#This Row],[Cost]]/Table5[[#This Row],[SizTB]] -> 42.998 | W36: =Table5[[#This Row],[Cost]]+((CompareWarrYrs-Table5[[#This Row],[Warnty]])*(Incremental_Warr_Yr*Table5[[#This Row],[Cost]])) -> 214.99 | X36: =Table5[[#This Row],[$+Warr]]/Table5[[#This Row],[SizTB]] -> 42.998 | Y36: =Table5[[#This Row],[$PerTB]]/CompareWarrYrs -> 8.5996 | AA36: =(((Table5[[#This Row],[Watts Active]]*Power_On_Hours_Year/1000)*Active_Duty_Cycle)+((Table5[[#This Row],[Watts Idle]]*Power_On_Hours_Year/1000)*(100%-Active_Duty_Cycle)))*CostPerKWH -> 5.7087012 | AB36: =Table5[[#This Row],[Energy$year]]/Table5[[#This Row],[SizTB]] -> 1.1417402
A37: 43019 | B37: Seagate | C37: BarraCuda Pro | E37: 3.5 | F37: 6 | G37: 7200 | H37: 4.16 | J37: =(Table5[[#This Row],[RPM]]/5400-1) -> 0.33333333 | K37: 180 | L37: 5 | M37: 300000 | N37: 300 | P37: 1e+15 | Q37: 24 | R37: 9 | S37: 7.2 | T37: 0.6 | U37: 249.99 | V37: =Table5[[#This Row],[Cost]]/Table5[[#This Row],[SizTB]] -> 41.665 | W37: =Table5[[#This Row],[Cost]]+((CompareWarrYrs-Table5[[#This Row],[Warnty]])*(Incremental_Warr_Yr*Table5[[#This Row],[Cost]])) -> 249.99 | X37: =Table5[[#This Row],[$+Warr]]/Table5[[#This Row],[SizTB]] -> 41.665 | Y37: =Table5[[#This Row],[$PerTB]]/CompareWarrYrs -> 8.333 | AA37: =(((Table5[[#This Row],[Watts Active]]*Power_On_Hours_Year/1000)*Active_Duty_Cycle)+((Table5[[#This Row],[Watts Idle]]*Power_On_Hours_Year/1000)*(100%-Active_Duty_Cycle)))*CostPerKWH -> 8.2836432 | AB37: =Table5[[#This Row],[Energy$year]]/Table5[[#This Row],[SizTB]] -> 1.3806072
A38: 43019 | B38: Seagate | C38: BarraCuda Pro | E38: 3.5 | F38: 8 | G38: 7200 | H38: 4.16 | J38: =(Table5[[#This Row],[RPM]]/5400-1) -> 0.33333333 | K38: 220 | L38: 5 | M38: 300000 | N38: 300 | P38: 1e+15 | Q38: =12*2 -> 24 | R38: 6.8 | S38: 4.5 | T38: 0.8 | U38: 324.99 | V38: =Table5[[#This Row],[Cost]]/Table5[[#This Row],[SizTB]] -> 40.62375 | W38: =Table5[[#This Row],[Cost]]+((CompareWarrYrs-Table5[[#This Row],[Warnty]])*(Incremental_Warr_Yr*Table5[[#This Row],[Cost]])) -> 324.99 | X38: =Table5[[#This Row],[$+Warr]]/Table5[[#This Row],[SizTB]] -> 40.62375 | Y38: =Table5[[#This Row],[$PerTB]]/CompareWarrYrs -> 8.12475 | AA38: =(((Table5[[#This Row],[Watts Active]]*Power_On_Hours_Year/1000)*Active_Duty_Cycle)+((Table5[[#This Row],[Watts Idle]]*Power_On_Hours_Year/1000)*(100%-Active_Duty_Cycle)))*CostPerKWH -> 5.4347712 | AB38: =Table5[[#This Row],[Energy$year]]/Table5[[#This Row],[SizTB]] -> 0.6793464
A39: 43019 | B39: Seagate | C39: BarraCuda Pro | E39: 3.5 | F39: 10 | G39: 7200 | H39: 4.16 | J39: =(Table5[[#This Row],[RPM]]/5400-1) -> 0.33333333 | K39: 220 | L39: 5 | M39: 300000 | N39: 300 | P39: 1e+15 | Q39: =12*1.8 -> 21.6 | R39: 6.8 | S39: 4.5 | T39: 0.8 | U39: 424.99 | V39: =Table5[[#This Row],[Cost]]/Table5[[#This Row],[SizTB]] -> 42.499 | W39: =Table5[[#This Row],[Cost]]+((CompareWarrYrs-Table5[[#This Row],[Warnty]])*(Incremental_Warr_Yr*Table5[[#This Row],[Cost]])) -> 424.99 | X39: =Table5[[#This Row],[$+Warr]]/Table5[[#This Row],[SizTB]] -> 42.499 | Y39: =Table5[[#This Row],[$PerTB]]/CompareWarrYrs -> 8.4998 | AA39: =(((Table5[[#This Row],[Watts Active]]*Power_On_Hours_Year/1000)*Active_Duty_Cycle)+((Table5[[#This Row],[Watts Idle]]*Power_On_Hours_Year/1000)*(100%-Active_Duty_Cycle)))*CostPerKWH -> 5.4347712 | AB39: =Table5[[#This Row],[Energy$year]]/Table5[[#This Row],[SizTB]] -> 0.54347712
A40: 43019 | B40: Seagate | C40: BarraCuda Pro | E40: 3.5 | F40: 12 | G40: 7200 | J40: =(Table5[[#This Row],[RPM]]/5400-1) -> 0.33333333 | K40: 250 | L40: 5 | N40: 300 | U40: 524.99 | V40: =Table5[[#This Row],[Cost]]/Table5[[#This Row],[SizTB]] -> 43.749167 | W40: =Table5[[#This Row],[Cost]]+((CompareWarrYrs-Table5[[#This Row],[Warnty]])*(Incremental_Warr_Yr*Table5[[#This Row],[Cost]])) -> 524.99 | X40: =Table5[[#This Row],[$+Warr]]/Table5[[#This Row],[SizTB]] -> 43.749167 | Y40: =Table5[[#This Row],[$PerTB]]/CompareWarrYrs -> 8.7498333
A41: 42981 | B41: Seagate | C41: Constellation ES.3 | D41: NAS | E41: 3.5 | F41: 1 | G41: 7200 | H41: 4.16 | J41: =(Table5[[#This Row],[RPM]]/5400-1) -> 0.33333333 | K41: 175 | L41: 5 | O41: 2000000 | P41: 1e+15 | Q41: =2.6*12 -> 31.2 | R41: 8.08 | S41: 4.45 | T41: 0.8 | U41: 90 | V41: =Table5[[#This Row],[Cost]]/Table5[[#This Row],[SizTB]] -> 90 | W41: =Table5[[#This Row],[Cost]]+((CompareWarrYrs-Table5[[#This Row],[Warnty]])*(Incremental_Warr_Yr*Table5[[#This Row],[Cost]])) -> 90 | X41: =Table5[[#This Row],[$+Warr]]/Table5[[#This Row],[SizTB]] -> 90 | Y41: =Table5[[#This Row],[$PerTB]]/CompareWarrYrs -> 18 | AA41: =(((Table5[[#This Row],[Watts Active]]*Power_On_Hours_Year/1000)*Active_Duty_Cycle)+((Table5[[#This Row],[Watts Idle]]*Power_On_Hours_Year/1000)*(100%-Active_Duty_Cycle)))*CostPerKWH -> 5.6714467 | AB41: =Table5[[#This Row],[Energy$year]]/Table5[[#This Row],[SizTB]] -> 5.6714467
A42: 43019 | B42: Seagate | C42: Constellation ES.3 | D42: NAS | E42: 3.5 | F42: 2 | G42: 7200 | H42: 4.16 | J42: =(Table5[[#This Row],[RPM]]/5400-1) -> 0.33333333 | K42: 175 | L42: 5 | O42: 2000000 | P42: 1e+15 | Q42: =2.6*12 -> 31.2 | R42: 9.42 | S42: 5.17 | T42: =0.15*5+0.01*12 -> 0.87 | U42: 164 | V42: =Table5[[#This Row],[Cost]]/Table5[[#This Row],[SizTB]] -> 82 | W42: =Table5[[#This Row],[Cost]]+((CompareWarrYrs-Table5[[#This Row],[Warnty]])*(Incremental_Warr_Yr*Table5[[#This Row],[Cost]])) -> 164 | X42: =Table5[[#This Row],[$+Warr]]/Table5[[#This Row],[SizTB]] -> 82 | Y42: =Table5[[#This Row],[$PerTB]]/CompareWarrYrs -> 16.4 | AA42: =(((Table5[[#This Row],[Watts Active]]*Power_On_Hours_Year/1000)*Active_Duty_Cycle)+((Table5[[#This Row],[Watts Idle]]*Power_On_Hours_Year/1000)*(100%-Active_Duty_Cycle)))*CostPerKWH -> 6.5962344 | AB42: =Table5[[#This Row],[Energy$year]]/Table5[[#This Row],[SizTB]] -> 3.2981172
A43: 42981 | B43: Seagate | C43: Constellation ES.3 | D43: NAS | E43: 3.5 | F43: 3 | G43: 7200 | H43: 4.16 | J43: =(Table5[[#This Row],[RPM]]/5400-1) -> 0.33333333 | K43: 175 | L43: 5 | O43: 2000000 | P43: 1e+15 | Q43: =2.6*12 -> 31.2 | R43: 11.27 | S43: 6.73 | T43: =0.15*5+0.01*12 -> 0.87 | U43: 129.99 | V43: =Table5[[#This Row],[Cost]]/Table5[[#This Row],[SizTB]] -> 43.33 | W43: =Table5[[#This Row],[Cost]]+((CompareWarrYrs-Table5[[#This Row],[Warnty]])*(Incremental_Warr_Yr*Table5[[#This Row],[Cost]])) -> 129.99 | X43: =Table5[[#This Row],[$+Warr]]/Table5[[#This Row],[SizTB]] -> 43.33 | Y43: =Table5[[#This Row],[$PerTB]]/CompareWarrYrs -> 8.666 | AA43: =(((Table5[[#This Row],[Watts Active]]*Power_On_Hours_Year/1000)*Active_Duty_Cycle)+((Table5[[#This Row],[Watts Idle]]*Power_On_Hours_Year/1000)*(100%-Active_Duty_Cycle)))*CostPerKWH -> 8.3691094 | AB43: =Table5[[#This Row],[Energy$year]]/Table5[[#This Row],[SizTB]] -> 2.7897031
A44: 43019 | B44: Seagate | C44: Constellation ES.3 | D44: NAS | E44: 3.5 | F44: 4 | G44: 7200 | H44: 4.16 | J44: =(Table5[[#This Row],[RPM]]/5400-1) -> 0.33333333 | K44: 175 | L44: 5 | O44: 2000000 | P44: 1e+15 | Q44: =2.6*12 -> 31.2 | R44: 11.27 | S44: 6.73 | T44: =0.15*5+0.01*12 -> 0.87 | U44: 175 | V44: =Table5[[#This Row],[Cost]]/Table5[[#This Row],[SizTB]] -> 43.75 | W44: =Table5[[#This Row],[Cost]]+((CompareWarrYrs-Table5[[#This Row],[Warnty]])*(Incremental_Warr_Yr*Table5[[#This Row],[Cost]])) -> 175 | X44: =Table5[[#This Row],[$+Warr]]/Table5[[#This Row],[SizTB]] -> 43.75 | Y44: =Table5[[#This Row],[$PerTB]]/CompareWarrYrs -> 8.75 | AA44: =(((Table5[[#This Row],[Watts Active]]*Power_On_Hours_Year/1000)*Active_Duty_Cycle)+((Table5[[#This Row],[Watts Idle]]*Power_On_Hours_Year/1000)*(100%-Active_Duty_Cycle)))*CostPerKWH -> 8.3691094 | AB44: =Table5[[#This Row],[Energy$year]]/Table5[[#This Row],[SizTB]] -> 2.0922773
A45: 42971 | B45: Seagate | C45: Enterprise Capacity v5 | D45: NAS | E45: 3.5 | F45: 1 | G45: 7200 | H45: 4.16 | J45: =(Table5[[#This Row],[RPM]]/5400-1) -> 0.33333333 | K45: 215 | L45: 5 | N45: 550 | O45: 2000000 | P45: 1e+15 | R45: 5.91 | S45: 4.25 | U45: 99.99 | V45: =Table5[[#This Row],[Cost]]/Table5[[#This Row],[SizTB]] -> 99.99 | W45: =Table5[[#This Row],[Cost]]+((CompareWarrYrs-Table5[[#This Row],[Warnty]])*(Incremental_Warr_Yr*Table5[[#This Row],[Cost]])) -> 99.99 | X45: =Table5[[#This Row],[$+Warr]]/Table5[[#This Row],[SizTB]] -> 99.99 | Y45: =Table5[[#This Row],[$PerTB]]/CompareWarrYrs -> 19.998 | AA45: =(((Table5[[#This Row],[Watts Active]]*Power_On_Hours_Year/1000)*Active_Duty_Cycle)+((Table5[[#This Row],[Watts Idle]]*Power_On_Hours_Year/1000)*(100%-Active_Duty_Cycle)))*CostPerKWH -> 5.020589 | AB45: =Table5[[#This Row],[Energy$year]]/Table5[[#This Row],[SizTB]] -> 5.020589
A46: 42970 | B46: Seagate | C46: Enterprise Capacity v5 | D46: NAS | E46: 3.5 | F46: 2 | G46: 7200 | H46: 4.16 | J46: =(Table5[[#This Row],[RPM]]/5400-1) -> 0.33333333 | K46: 226 | L46: 5 | N46: 550 | O46: 2000000 | P46: 1e+15 | R46: 5.91 | S46: 4.25 | T46: 0.6 | U46: =119.99*0.9 -> 107.991 | V46: =Table5[[#This Row],[Cost]]/Table5[[#This Row],[SizTB]] -> 53.9955 | W46: =Table5[[#This Row],[Cost]]+((CompareWarrYrs-Table5[[#This Row],[Warnty]])*(Incremental_Warr_Yr*Table5[[#This Row],[Cost]])) -> 107.991 | X46: =Table5[[#This Row],[$+Warr]]/Table5[[#This Row],[SizTB]] -> 53.9955 | Y46: =Table5[[#This Row],[$PerTB]]/CompareWarrYrs -> 10.7991 | AA46: =(((Table5[[#This Row],[Watts Active]]*Power_On_Hours_Year/1000)*Active_Duty_Cycle)+((Table5[[#This Row],[Watts Idle]]*Power_On_Hours_Year/1000)*(100%-Active_Duty_Cycle)))*CostPerKWH -> 5.020589 | AB46: =Table5[[#This Row],[Energy$year]]/Table5[[#This Row],[SizTB]] -> 2.5102945
A47: 42971 | B47: Seagate | C47: Enterprise Capacity v5 | D47: NAS | E47: 3.5 | F47: 3 | G47: 7200 | H47: 4.16 | J47: =(Table5[[#This Row],[RPM]]/5400-1) -> 0.33333333 | K47: 215 | L47: 5 | N47: 550 | O47: 2000000 | P47: 1e+15 | R47: 6.9 | S47: 5.45 | T47: 0.6 | U47: 176.92 | V47: =Table5[[#This Row],[Cost]]/Table5[[#This Row],[SizTB]] -> 58.973333 | W47: =Table5[[#This Row],[Cost]]+((CompareWarrYrs-Table5[[#This Row],[Warnty]])*(Incremental_Warr_Yr*Table5[[#This Row],[Cost]])) -> 176.92 | X47: =Table5[[#This Row],[$+Warr]]/Table5[[#This Row],[SizTB]] -> 58.973333 | Y47: =Table5[[#This Row],[$PerTB]]/CompareWarrYrs -> 11.794667 | AA47: =(((Table5[[#This Row],[Watts Active]]*Power_On_Hours_Year/1000)*Active_Duty_Cycle)+((Table5[[#This Row],[Watts Idle]]*Power_On_Hours_Year/1000)*(100%-Active_Duty_Cycle)))*CostPerKWH -> 6.2894328 | AB47: =Table5[[#This Row],[Energy$year]]/Table5[[#This Row],[SizTB]] -> 2.0964776
A48: 43019 | B48: Seagate | C48: Enterprise Capacity v5 | D48: NAS | E48: 3.5 | F48: 4 | G48: 7200 | H48: 4.16 | J48: =(Table5[[#This Row],[RPM]]/5400-1) -> 0.33333333 | K48: 226 | L48: 5 | N48: 550 | O48: 2000000 | P48: 1e+15 | R48: 6.9 | S48: 5.45 | T48: 0.6 | U48: 154.99 | V48: =Table5[[#This Row],[Cost]]/Table5[[#This Row],[SizTB]] -> 38.7475 | W48: =Table5[[#This Row],[Cost]]+((CompareWarrYrs-Table5[[#This Row],[Warnty]])*(Incremental_Warr_Yr*Table5[[#This Row],[Cost]])) -> 154.99 | X48: =Table5[[#This Row],[$+Warr]]/Table5[[#This Row],[SizTB]] -> 38.7475 | Y48: =Table5[[#This Row],[$PerTB]]/CompareWarrYrs -> 7.7495 | AA48: =(((Table5[[#This Row],[Watts Active]]*Power_On_Hours_Year/1000)*Active_Duty_Cycle)+((Table5[[#This Row],[Watts Idle]]*Power_On_Hours_Year/1000)*(100%-Active_Duty_Cycle)))*CostPerKWH -> 6.2894328 | AB48: =Table5[[#This Row],[Energy$year]]/Table5[[#This Row],[SizTB]] -> 1.5723582
A49: 42993 | B49: Seagate | C49: Enterprise Capacity v5 | D49: NAS | E49: 3.5 | F49: 6 | G49: 7200 | H49: 4.16 | J49: =(Table5[[#This Row],[RPM]]/5400-1) -> 0.33333333 | K49: 226 | L49: 5 | N49: 550 | O49: 2000000 | P49: 1e+15 | R49: 9.8 | S49: 8.15 | T49: 0.6 | U49: =244.99*0.9 -> 220.491 | V49: =Table5[[#This Row],[Cost]]/Table5[[#This Row],[SizTB]] -> 36.7485 | W49: =Table5[[#This Row],[Cost]]+((CompareWarrYrs-Table5[[#This Row],[Warnty]])*(Incremental_Warr_Yr*Table5[[#This Row],[Cost]])) -> 220.491 | X49: =Table5[[#This Row],[$+Warr]]/Table5[[#This Row],[SizTB]] -> 36.7485 | Y49: =Table5[[#This Row],[$PerTB]]/CompareWarrYrs -> 7.3497 | AA49: =(((Table5[[#This Row],[Watts Active]]*Power_On_Hours_Year/1000)*Active_Duty_Cycle)+((Table5[[#This Row],[Watts Idle]]*Power_On_Hours_Year/1000)*(100%-Active_Duty_Cycle)))*CostPerKWH -> 9.2917056 | AB49: =Table5[[#This Row],[Energy$year]]/Table5[[#This Row],[SizTB]] -> 1.5486176
A50: 42970 | B50: Seagate | C50: Enterprise Capacity v5 | D50: NAS | E50: 3.5 | F50: 8 | G50: 7200 | H50: 4.16 | J50: =(Table5[[#This Row],[RPM]]/5400-1) -> 0.33333333 | K50: 249 | L50: 5 | N50: 550 | O50: 2000000 | P50: 1e+15 | R50: 11 | S50: 7.6 | T50: 0.6 | U50: 289.99 | V50: =Table5[[#This Row],[Cost]]/Table5[[#This Row],[SizTB]] -> 36.24875 | W50: =Table5[[#This Row],[Cost]]+((CompareWarrYrs-Table5[[#This Row],[Warnty]])*(Incremental_Warr_Yr*Table5[[#This Row],[Cost]])) -> 289.99 | X50: =Table5[[#This Row],[$+Warr]]/Table5[[#This Row],[SizTB]] -> 36.24875 | Y50: =Table5[[#This Row],[$PerTB]]/CompareWarrYrs -> 7.24975 | AA50: =(((Table5[[#This Row],[Watts Active]]*Power_On_Hours_Year/1000)*Active_Duty_Cycle)+((Table5[[#This Row],[Watts Idle]]*Power_On_Hours_Year/1000)*(100%-Active_Duty_Cycle)))*CostPerKWH -> 9.0725616 | AB50: =Table5[[#This Row],[Energy$year]]/Table5[[#This Row],[SizTB]] -> 1.1340702
A51: 43019 | B51: Seagate | C51: Enterprise Capacity He v6 | D51: NAS | E51: 3.5 | F51: 8 | G51: 7200 | H51: 4.16 | J51: =(Table5[[#This Row],[RPM]]/5400-1) -> 0.33333333 | K51: 237 | L51: 5 | M51: 600000 | N51: 550 | O51: 2500000 | P51: 1e+15 | Q51: 26.21 | R51: 7.8 | S51: 5 | T51: 0.8 | U51: 259.99 | V51: =Table5[[#This Row],[Cost]]/Table5[[#This Row],[SizTB]] -> 32.49875 | W51: =Table5[[#This Row],[Cost]]+((CompareWarrYrs-Table5[[#This Row],[Warnty]])*(Incremental_Warr_Yr*Table5[[#This Row],[Cost]])) -> 259.99 | X51: =Table5[[#This Row],[$+Warr]]/Table5[[#This Row],[SizTB]] -> 32.49875 | Y51: =Table5[[#This Row],[$PerTB]]/CompareWarrYrs -> 6.49975 | AA51: =(((Table5[[#This Row],[Watts Active]]*Power_On_Hours_Year/1000)*Active_Duty_Cycle)+((Table5[[#This Row],[Watts Idle]]*Power_On_Hours_Year/1000)*(100%-Active_Duty_Cycle)))*CostPerKWH -> 6.0922032 | AB51: =Table5[[#This Row],[Energy$year]]/Table5[[#This Row],[SizTB]] -> 0.7615254 | AC51: Helium filled
A52: 43019 | B52: Seagate | C52: Enterprise Capacity He v6 | D52: NAS | E52: 3.5 | F52: 10 | G52: 7200 | H52: 4.16 | J52: =(Table5[[#This Row],[RPM]]/5400-1) -> 0.33333333 | K52: 237 | L52: 5 | M52: 600000 | N52: 550 | O52: 2500000 | P52: 1e+15 | Q52: =0.58*5+1.94*12 -> 26.18 | R52: 7.8 | S52: 5 | T52: 0.8 | U52: 364.99 | V52: =Table5[[#This Row],[Cost]]/Table5[[#This Row],[SizTB]] -> 36.499 | W52: =Table5[[#This Row],[Cost]]+((CompareWarrYrs-Table5[[#This Row],[Warnty]])*(Incremental_Warr_Yr*Table5[[#This Row],[Cost]])) -> 364.99 | X52: =Table5[[#This Row],[$+Warr]]/Table5[[#This Row],[SizTB]] -> 36.499 | Y52: =Table5[[#This Row],[$PerTB]]/CompareWarrYrs -> 7.2998 | AA52: =(((Table5[[#This Row],[Watts Active]]*Power_On_Hours_Year/1000)*Active_Duty_Cycle)+((Table5[[#This Row],[Watts Idle]]*Power_On_Hours_Year/1000)*(100%-Active_Duty_Cycle)))*CostPerKWH -> 6.0922032 | AB52: =Table5[[#This Row],[Energy$year]]/Table5[[#This Row],[SizTB]] -> 0.60922032 | AC52: Helium filled
A53: 43019 | B53: Seagate | C53: Enterprise Capacity He v7 | D53: NAS | E53: 3.5 | F53: 12 | G53: 7200 | H53: 4.16 | J53: =(Table5[[#This Row],[RPM]]/5400-1) -> 0.33333333 | K53: 261 | L53: 5 | M53: 600000 | N53: 550 | O53: 2500000 | P53: 1e+15 | Q53: =0.914*5+1.729*12 -> 25.318 | R53: 7.8 | S53: 5 | T53: 1.15 | U53: 489.22 | V53: =Table5[[#This Row],[Cost]]/Table5[[#This Row],[SizTB]] -> 40.768333 | W53: =Table5[[#This Row],[Cost]]+((CompareWarrYrs-Table5[[#This Row],[Warnty]])*(Incremental_Warr_Yr*Table5[[#This Row],[Cost]])) -> 489.22 | X53: =Table5[[#This Row],[$+Warr]]/Table5[[#This Row],[SizTB]] -> 40.768333 | Y53: =Table5[[#This Row],[$PerTB]]/CompareWarrYrs -> 8.1536667 | AA53: =(((Table5[[#This Row],[Watts Active]]*Power_On_Hours_Year/1000)*Active_Duty_Cycle)+((Table5[[#This Row],[Watts Idle]]*Power_On_Hours_Year/1000)*(100%-Active_Duty_Cycle)))*CostPerKWH -> 6.0922032 | AB53: =Table5[[#This Row],[Energy$year]]/Table5[[#This Row],[SizTB]] -> 0.5076836 | AC53: Helium filled
A54: 43005 | B54: Seagate | C54: Enterprise Capacity | D54: NAS | E54: 2.5 | F54: 1 | G54: 7200 | H54: 4.16 | J54: =(Table5[[#This Row],[RPM]]/5400-1) -> 0.33333333 | K54: 130 | L54: 5 | M54: 300000 | N54: 550 | O54: 2000000 | P54: 1e+15 | Q54: =0.5*5+0.7*12 -> 10.9 | R54: 4.74 | S54: 3.51 | T54: 1.14 | U54: 182.13 | V54: =Table5[[#This Row],[Cost]]/Table5[[#This Row],[SizTB]] -> 182.13 | W54: =Table5[[#This Row],[Cost]]+((CompareWarrYrs-Table5[[#This Row],[Warnty]])*(Incremental_Warr_Yr*Table5[[#This Row],[Cost]])) -> 182.13 | X54: =Table5[[#This Row],[$+Warr]]/Table5[[#This Row],[SizTB]] -> 182.13 | Y54: =Table5[[#This Row],[$PerTB]]/CompareWarrYrs -> 36.426 | AA54: =(((Table5[[#This Row],[Watts Active]]*Power_On_Hours_Year/1000)*Active_Duty_Cycle)+((Table5[[#This Row],[Watts Idle]]*Power_On_Hours_Year/1000)*(100%-Active_Duty_Cycle)))*CostPerKWH -> 4.1155243 | AB54: =Table5[[#This Row],[Energy$year]]/Table5[[#This Row],[SizTB]] -> 4.1155243
A55: 43005 | B55: Seagate | C55: Enterprise Capacity | D55: NAS | E55: 2.5 | F55: 2 | G55: 7200 | H55: 4.16 | J55: =(Table5[[#This Row],[RPM]]/5400-1) -> 0.33333333 | K55: 130 | L55: 5 | M55: 300000 | N55: 550 | O55: 2000000 | P55: 1e+15 | Q55: =0.5*5+0.7*12 -> 10.9 | R55: 5.98 | S55: 3.87 | T55: 1.14 | U55: 329.99 | V55: =Table5[[#This Row],[Cost]]/Table5[[#This Row],[SizTB]] -> 164.995 | W55: =Table5[[#This Row],[Cost]]+((CompareWarrYrs-Table5[[#This Row],[Warnty]])*(Incremental_Warr_Yr*Table5[[#This Row],[Cost]])) -> 329.99 | X55: =Table5[[#This Row],[$+Warr]]/Table5[[#This Row],[SizTB]] -> 164.995 | Y55: =Table5[[#This Row],[$PerTB]]/CompareWarrYrs -> 32.999 | AA55: =(((Table5[[#This Row],[Watts Active]]*Power_On_Hours_Year/1000)*Active_Duty_Cycle)+((Table5[[#This Row],[Watts Idle]]*Power_On_Hours_Year/1000)*(100%-Active_Duty_Cycle)))*CostPerKWH -> 4.7028302 | AB55: =Table5[[#This Row],[Energy$year]]/Table5[[#This Row],[SizTB]] -> 2.3514151
A56: 43019 | B56: Seagate | C56: Enterprise Performance 10K.9 | D56: NAS | E56: 2.5 | F56: 1.8 | G56: 10500 | H56: 2.9 | J56: =(Table5[[#This Row],[RPM]]/5400-1) -> 0.94444444 | K56: 270 | L56: 5 | N56: 550 | O56: 2000000 | P56: 1e+16 | R56: 6.95 | S56: 4.26 | V56: =Table5[[#This Row],[Cost]]/Table5[[#This Row],[SizTB]] -> 0 | W56: =Table5[[#This Row],[Cost]]+((CompareWarrYrs-Table5[[#This Row],[Warnty]])*(Incremental_Warr_Yr*Table5[[#This Row],[Cost]])) -> 0 | X56: =Table5[[#This Row],[$+Warr]]/Table5[[#This Row],[SizTB]] -> 0 | Y56: =Table5[[#This Row],[$PerTB]]/CompareWarrYrs -> 0 | AA56: =(((Table5[[#This Row],[Watts Active]]*Power_On_Hours_Year/1000)*Active_Duty_Cycle)+((Table5[[#This Row],[Watts Idle]]*Power_On_Hours_Year/1000)*(100%-Active_Duty_Cycle)))*CostPerKWH -> 5.2572646 | AB56: =Table5[[#This Row],[Energy$year]]/Table5[[#This Row],[SizTB]] -> 2.9207025 | AC56: 16GiB NAND
A57: 43019 | B57: Seagate | C57: Enterprise Performance 10K.9 | D57: NAS | E57: 2.5 | F57: 2.4 | G57: 10500 | H57: 2.9 | J57: =(Table5[[#This Row],[RPM]]/5400-1) -> 0.94444444 | K57: 270 | L57: 5 | N57: 550 | O57: 2000000 | P57: 1e+16 | R57: 8.57 | S57: 4.9 | V57: =Table5[[#This Row],[Cost]]/Table5[[#This Row],[SizTB]] -> 0 | W57: =Table5[[#This Row],[Cost]]+((CompareWarrYrs-Table5[[#This Row],[Warnty]])*(Incremental_Warr_Yr*Table5[[#This Row],[Cost]])) -> 0 | X57: =Table5[[#This Row],[$+Warr]]/Table5[[#This Row],[SizTB]] -> 0 | Y57: =Table5[[#This Row],[$PerTB]]/CompareWarrYrs -> 0 | AA57: =(((Table5[[#This Row],[Watts Active]]*Power_On_Hours_Year/1000)*Active_Duty_Cycle)+((Table5[[#This Row],[Watts Idle]]*Power_On_Hours_Year/1000)*(100%-Active_Duty_Cycle)))*CostPerKWH -> 6.1732865 | AB57: =Table5[[#This Row],[Energy$year]]/Table5[[#This Row],[SizTB]] -> 2.5722027 | AC57: 16GiB NAND
A58: 43019 | B58: Seagate | C58: Enterprise Performance 15K.6 | D58: NAS | E58: 3.5 | F58: 0.9 | G58: 15000 | H58: 2 | J58: =(Table5[[#This Row],[RPM]]/5400-1) -> 1.7777778 | K58: 215 | L58: 5 | N58: 550 | O58: 2000000 | P58: 1e+16 | R58: 7.6 | S58: 5.7 | V58: =Table5[[#This Row],[Cost]]/Table5[[#This Row],[SizTB]] -> 0 | W58: =Table5[[#This Row],[Cost]]+((CompareWarrYrs-Table5[[#This Row],[Warnty]])*(Incremental_Warr_Yr*Table5[[#This Row],[Cost]])) -> 0 | X58: =Table5[[#This Row],[$+Warr]]/Table5[[#This Row],[SizTB]] -> 0 | Y58: =Table5[[#This Row],[$PerTB]]/CompareWarrYrs -> 0 | AA58: =(((Table5[[#This Row],[Watts Active]]*Power_On_Hours_Year/1000)*Active_Duty_Cycle)+((Table5[[#This Row],[Watts Idle]]*Power_On_Hours_Year/1000)*(100%-Active_Duty_Cycle)))*CostPerKWH -> 6.6619776 | AB58: =Table5[[#This Row],[Energy$year]]/Table5[[#This Row],[SizTB]] -> 7.4021973 | AC58: 8GiB NAND
A59: 43019 | B59: Seagate | C59: FireCuda SSHD | E59: 3.5 | F59: 1 | G59: 7200 | J59: =(Table5[[#This Row],[RPM]]/5400-1) -> 0.33333333 | L59: 5 | Q59: 24 | R59: 5.9 | S59: 4.5 | T59: 0.63 | U59: 75.99 | V59: =Table5[[#This Row],[Cost]]/Table5[[#This Row],[SizTB]] -> 75.99 | W59: =Table5[[#This Row],[Cost]]+((CompareWarrYrs-Table5[[#This Row],[Warnty]])*(Incremental_Warr_Yr*Table5[[#This Row],[Cost]])) -> 75.99 | X59: =Table5[[#This Row],[$+Warr]]/Table5[[#This Row],[SizTB]] -> 75.99 | Y59: =Table5[[#This Row],[$PerTB]]/CompareWarrYrs -> 15.198 | AA59: =(((Table5[[#This Row],[Watts Active]]*Power_On_Hours_Year/1000)*Active_Duty_Cycle)+((Table5[[#This Row],[Watts Idle]]*Power_On_Hours_Year/1000)*(100%-Active_Duty_Cycle)))*CostPerKWH -> 5.2375416 | AB59: =Table5[[#This Row],[Energy$year]]/Table5[[#This Row],[SizTB]] -> 5.2375416 | AC59: 8GiB NAND
A60: 43019 | B60: Seagate | C60: FireCuda SSHD | E60: 3.5 | F60: 2 | G60: 7200 | J60: =(Table5[[#This Row],[RPM]]/5400-1) -> 0.33333333 | L60: 5 | Q60: 24 | R60: 6.7 | S60: 3.36 | T60: 0.75 | U60: 99.99 | V60: =Table5[[#This Row],[Cost]]/Table5[[#This Row],[SizTB]] -> 49.995 | W60: =Table5[[#This Row],[Cost]]+((CompareWarrYrs-Table5[[#This Row],[Warnty]])*(Incremental_Warr_Yr*Table5[[#This Row],[Cost]])) -> 99.99 | X60: =Table5[[#This Row],[$+Warr]]/Table5[[#This Row],[SizTB]] -> 49.995 | Y60: =Table5[[#This Row],[$PerTB]]/CompareWarrYrs -> 9.999 | AA60: =(((Table5[[#This Row],[Watts Active]]*Power_On_Hours_Year/1000)*Active_Duty_Cycle)+((Table5[[#This Row],[Watts Idle]]*Power_On_Hours_Year/1000)*(100%-Active_Duty_Cycle)))*CostPerKWH -> 4.4135602 | AB60: =Table5[[#This Row],[Energy$year]]/Table5[[#This Row],[SizTB]] -> 2.2067801 | AC60: 8GiB NAND
A61: 43005 | B61: Seagate | C61: FireCuda SSHD | E61: 2.5 | F61: 1 | G61: 5400 | J61: =(Table5[[#This Row],[RPM]]/5400-1) -> 0 | L61: 5 | Q61: 5 | R61: 1.7 | S61: 1.45 | U61: 62.99 | V61: =Table5[[#This Row],[Cost]]/Table5[[#This Row],[SizTB]] -> 62.99 | W61: =Table5[[#This Row],[Cost]]+((CompareWarrYrs-Table5[[#This Row],[Warnty]])*(Incremental_Warr_Yr*Table5[[#This Row],[Cost]])) -> 62.99 | X61: =Table5[[#This Row],[$+Warr]]/Table5[[#This Row],[SizTB]] -> 62.99 | Y61: =Table5[[#This Row],[$PerTB]]/CompareWarrYrs -> 12.598 | AA61: =(((Table5[[#This Row],[Watts Active]]*Power_On_Hours_Year/1000)*Active_Duty_Cycle)+((Table5[[#This Row],[Watts Idle]]*Power_On_Hours_Year/1000)*(100%-Active_Duty_Cycle)))*CostPerKWH -> 1.64358 | AB61: =Table5[[#This Row],[Energy$year]]/Table5[[#This Row],[SizTB]] -> 1.64358 | AC61: 8GiB NAND
A62: 43005 | B62: Seagate | C62: FireCuda SSHD | E62: 2.5 | F62: 2 | G62: 5400 | J62: =(Table5[[#This Row],[RPM]]/5400-1) -> 0 | L62: 5 | Q62: 5 | R62: 1.8 | S62: 1.5 | U62: 89.99 | V62: =Table5[[#This Row],[Cost]]/Table5[[#This Row],[SizTB]] -> 44.995 | W62: =Table5[[#This Row],[Cost]]+((CompareWarrYrs-Table5[[#This Row],[Warnty]])*(Incremental_Warr_Yr*Table5[[#This Row],[Cost]])) -> 89.99 | X62: =Table5[[#This Row],[$+Warr]]/Table5[[#This Row],[SizTB]] -> 44.995 | Y62: =Table5[[#This Row],[$PerTB]]/CompareWarrYrs -> 8.999 | AA62: =(((Table5[[#This Row],[Watts Active]]*Power_On_Hours_Year/1000)*Active_Duty_Cycle)+((Table5[[#This Row],[Watts Idle]]*Power_On_Hours_Year/1000)*(100%-Active_Duty_Cycle)))*CostPerKWH -> 1.7093232 | AB62: =Table5[[#This Row],[Energy$year]]/Table5[[#This Row],[SizTB]] -> 0.8546616 | AC62: 8GiB NAND
A63: 43019 | B63: Seagate | C63: IronWolf | D63: NAS | E63: 3.5 | F63: 1 | G63: 5900 | H63: 5.1 | I63: 11.99 | J63: =(Table5[[#This Row],[RPM]]/5400-1) -> 0.092592593 | K63: 180 | L63: 3 | M63: 600000 | N63: 180 | O63: 1000000 | P63: =10^14 -> 100000000000000 | Q63: =12*1.2 -> 14.4 | R63: 3.76 | S63: 2.5 | T63: 0.8 | U63: 64.98 | V63: =Table5[[#This Row],[Cost]]/Table5[[#This Row],[SizTB]] -> 64.98 | W63: =Table5[[#This Row],[Cost]]+((CompareWarrYrs-Table5[[#This Row],[Warnty]])*(Incremental_Warr_Yr*Table5[[#This Row],[Cost]])) -> 79.2756 | X63: =Table5[[#This Row],[$+Warr]]/Table5[[#This Row],[SizTB]] -> 79.2756 | Y63: =Table5[[#This Row],[$PerTB]]/CompareWarrYrs -> 15.85512 | AA63: =(((Table5[[#This Row],[Watts Active]]*Power_On_Hours_Year/1000)*Active_Duty_Cycle)+((Table5[[#This Row],[Watts Idle]]*Power_On_Hours_Year/1000)*(100%-Active_Duty_Cycle)))*CostPerKWH -> 3.0154214 | AB63: =Table5[[#This Row],[Energy$year]]/Table5[[#This Row],[SizTB]] -> 3.0154214 | AC63: 8GiB NAND
A64: 43019 | B64: Seagate | C64: IronWolf | D64: NAS | E64: 3.5 | F64: 2 | G64: 5900 | H64: 5.1 | I64: 11.99 | J64: =(Table5[[#This Row],[RPM]]/5400-1) -> 0.092592593 | K64: 180 | L64: 3 | M64: 600000 | N64: 180 | O64: 1000000 | P64: =10^14 -> 100000000000000 | Q64: =12*2 -> 24 | R64: 4.3 | S64: 3.56 | T64: 0.8 | U64: 84.99 | V64: =Table5[[#This Row],[Cost]]/Table5[[#This Row],[SizTB]] -> 42.495 | W64: =Table5[[#This Row],[Cost]]+((CompareWarrYrs-Table5[[#This Row],[Warnty]])*(Incremental_Warr_Yr*Table5[[#This Row],[Cost]])) -> 103.6878 | X64: =Table5[[#This Row],[$+Warr]]/Table5[[#This Row],[SizTB]] -> 51.8439 | Y64: =Table5[[#This Row],[$PerTB]]/CompareWarrYrs -> 10.36878 | AA64: =(((Table5[[#This Row],[Watts Active]]*Power_On_Hours_Year/1000)*Active_Duty_Cycle)+((Table5[[#This Row],[Watts Idle]]*Power_On_Hours_Year/1000)*(100%-Active_Duty_Cycle)))*CostPerKWH -> 4.0629298 | AB64: =Table5[[#This Row],[Energy$year]]/Table5[[#This Row],[SizTB]] -> 2.0314649
A65: 43019 | B65: Seagate | C65: IronWolf | D65: NAS | E65: 3.5 | F65: 3 | G65: 5900 | H65: 5.1 | I65: 11.99 | J65: =(Table5[[#This Row],[RPM]]/5400-1) -> 0.092592593 | K65: 180 | L65: 3 | M65: 600000 | N65: 180 | O65: 1000000 | P65: =10^14 -> 100000000000000 | Q65: =12*2 -> 24 | R65: 4.8 | S65: 4.8 | T65: 0.6 | U65: 107.99 | V65: =Table5[[#This Row],[Cost]]/Table5[[#This Row],[SizTB]] -> 35.996667 | W65: =Table5[[#This Row],[Cost]]+((CompareWarrYrs-Table5[[#This Row],[Warnty]])*(Incremental_Warr_Yr*Table5[[#This Row],[Cost]])) -> 131.7478 | X65: =Table5[[#This Row],[$+Warr]]/Table5[[#This Row],[SizTB]] -> 43.915933 | Y65: =Table5[[#This Row],[$PerTB]]/CompareWarrYrs -> 8.7831867 | AA65: =(((Table5[[#This Row],[Watts Active]]*Power_On_Hours_Year/1000)*Active_Duty_Cycle)+((Table5[[#This Row],[Watts Idle]]*Power_On_Hours_Year/1000)*(100%-Active_Duty_Cycle)))*CostPerKWH -> 5.259456 | AB65: =Table5[[#This Row],[Energy$year]]/Table5[[#This Row],[SizTB]] -> 1.753152
A66: 43019 | B66: Seagate | C66: IronWolf | D66: NAS | E66: 3.5 | F66: 4 | G66: 5900 | H66: 5.1 | I66: 9.5 | J66: =(Table5[[#This Row],[RPM]]/5400-1) -> 0.092592593 | K66: 180 | L66: 3 | M66: 600000 | N66: 180 | O66: 1000000 | P66: =10^14 -> 100000000000000 | Q66: =12*1.8 -> 21.6 | R66: 4.8 | S66: 3.95 | T66: 0.5 | U66: 129 | V66: =Table5[[#This Row],[Cost]]/Table5[[#This Row],[SizTB]] -> 32.25 | W66: =Table5[[#This Row],[Cost]]+((CompareWarrYrs-Table5[[#This Row],[Warnty]])*(Incremental_Warr_Yr*Table5[[#This Row],[Cost]])) -> 157.38 | X66: =Table5[[#This Row],[$+Warr]]/Table5[[#This Row],[SizTB]] -> 39.345 | Y66: =Table5[[#This Row],[$PerTB]]/CompareWarrYrs -> 7.869 | AA66: =(((Table5[[#This Row],[Watts Active]]*Power_On_Hours_Year/1000)*Active_Duty_Cycle)+((Table5[[#This Row],[Watts Idle]]*Power_On_Hours_Year/1000)*(100%-Active_Duty_Cycle)))*CostPerKWH -> 4.5143664 | AB66: =Table5[[#This Row],[Energy$year]]/Table5[[#This Row],[SizTB]] -> 1.1285916
A67: 43019 | B67: Seagate | C67: IronWolf | D67: NAS | E67: 3.5 | F67: 6 | G67: 7200 | H67: 4 | I67: 9.5 | J67: =(Table5[[#This Row],[RPM]]/5400-1) -> 0.33333333 | K67: 210 | L67: 3 | M67: 600000 | N67: 180 | O67: 1000000 | P67: 1e+15 | Q67: =12*1.8 -> 21.6 | R67: 8.1 | S67: 7.2 | T67: 0.6 | U67: 203.99 | V67: =Table5[[#This Row],[Cost]]/Table5[[#This Row],[SizTB]] -> 33.998333 | W67: =Table5[[#This Row],[Cost]]+((CompareWarrYrs-Table5[[#This Row],[Warnty]])*(Incremental_Warr_Yr*Table5[[#This Row],[Cost]])) -> 248.8678 | X67: =Table5[[#This Row],[$+Warr]]/Table5[[#This Row],[SizTB]] -> 41.477967 | Y67: =Table5[[#This Row],[$PerTB]]/CompareWarrYrs -> 8.2955933 | AA67: =(((Table5[[#This Row],[Watts Active]]*Power_On_Hours_Year/1000)*Active_Duty_Cycle)+((Table5[[#This Row],[Watts Idle]]*Power_On_Hours_Year/1000)*(100%-Active_Duty_Cycle)))*CostPerKWH -> 8.0864136 | AB67: =Table5[[#This Row],[Energy$year]]/Table5[[#This Row],[SizTB]] -> 1.3477356
A68: 43019 | B68: Seagate | C68: IronWolf | D68: NAS | E68: 3.5 | F68: 8 | G68: 7200 | H68: 4 | I68: 9.5 | J68: =(Table5[[#This Row],[RPM]]/5400-1) -> 0.33333333 | K68: 210 | L68: 3 | M68: 600000 | N68: 180 | O68: 1000000 | P68: 1e+15 | Q68: =12*1.8 -> 21.6 | R68: 8.8 | S68: 7.6 | T68: 0.6 | U68: 269.97 | V68: =Table5[[#This Row],[Cost]]/Table5[[#This Row],[SizTB]] -> 33.74625 | W68: =Table5[[#This Row],[Cost]]+((CompareWarrYrs-Table5[[#This Row],[Warnty]])*(Incremental_Warr_Yr*Table5[[#This Row],[Cost]])) -> 329.3634 | X68: =Table5[[#This Row],[$+Warr]]/Table5[[#This Row],[SizTB]] -> 41.170425 | Y68: =Table5[[#This Row],[$PerTB]]/CompareWarrYrs -> 8.234085 | AA68: =(((Table5[[#This Row],[Watts Active]]*Power_On_Hours_Year/1000)*Active_Duty_Cycle)+((Table5[[#This Row],[Watts Idle]]*Power_On_Hours_Year/1000)*(100%-Active_Duty_Cycle)))*CostPerKWH -> 8.5904448 | AB68: =Table5[[#This Row],[Energy$year]]/Table5[[#This Row],[SizTB]] -> 1.0738056
A69: 43019 | B69: Seagate | C69: IronWolf | D69: NAS | E69: 3.5 | F69: 10 | G69: 7200 | J69: =(Table5[[#This Row],[RPM]]/5400-1) -> 0.33333333 | K69: 210 | L69: 3 | M69: 600000 | N69: 180 | O69: 1000000 | P69: 1e+15 | Q69: =12*1.8 -> 21.6 | R69: 7.8 | S69: 5 | T69: 0.8 | U69: 379.99 | V69: =Table5[[#This Row],[Cost]]/Table5[[#This Row],[SizTB]] -> 37.999 | W69: =Table5[[#This Row],[Cost]]+((CompareWarrYrs-Table5[[#This Row],[Warnty]])*(Incremental_Warr_Yr*Table5[[#This Row],[Cost]])) -> 463.5878 | X69: =Table5[[#This Row],[$+Warr]]/Table5[[#This Row],[SizTB]] -> 46.35878 | Y69: =Table5[[#This Row],[$PerTB]]/CompareWarrYrs -> 9.271756 | AA69: =(((Table5[[#This Row],[Watts Active]]*Power_On_Hours_Year/1000)*Active_Duty_Cycle)+((Table5[[#This Row],[Watts Idle]]*Power_On_Hours_Year/1000)*(100%-Active_Duty_Cycle)))*CostPerKWH -> 6.0922032 | AB69: =Table5[[#This Row],[Energy$year]]/Table5[[#This Row],[SizTB]] -> 0.60922032
A70: 43007 | B70: Seagate | C70: IronWolf Pro | D70: NAS | E70: 3.5 | F70: 2 | G70: 7200 | H70: 4.16 | J70: =(Table5[[#This Row],[RPM]]/5400-1) -> 0.33333333 | K70: 195 | L70: 5 | N70: 300 | O70: 1200000 | P70: 1e+15 | Q70: =12*2 -> 24 | R70: 6.5 | S70: 4.61 | T70: 0.8 | U70: 144.99 | V70: =Table5[[#This Row],[Cost]]/Table5[[#This Row],[SizTB]] -> 72.495 | W70: =Table5[[#This Row],[Cost]]+((CompareWarrYrs-Table5[[#This Row],[Warnty]])*(Incremental_Warr_Yr*Table5[[#This Row],[Cost]])) -> 144.99 | X70: =Table5[[#This Row],[$+Warr]]/Table5[[#This Row],[SizTB]] -> 72.495 | Y70: =Table5[[#This Row],[$PerTB]]/CompareWarrYrs -> 14.499 | AA70: =(((Table5[[#This Row],[Watts Active]]*Power_On_Hours_Year/1000)*Active_Duty_Cycle)+((Table5[[#This Row],[Watts Idle]]*Power_On_Hours_Year/1000)*(100%-Active_Duty_Cycle)))*CostPerKWH -> 5.4654514 | AB70: =Table5[[#This Row],[Energy$year]]/Table5[[#This Row],[SizTB]] -> 2.7327257
A71: 43019 | B71: Seagate | C71: IronWolf Pro | D71: NAS | E71: 3.5 | F71: 4 | G71: 7200 | H71: 4.16 | J71: =(Table5[[#This Row],[RPM]]/5400-1) -> 0.33333333 | K71: 214 | L71: 5 | N71: 300 | O71: 1200000 | P71: 1e+15 | Q71: =12*2 -> 24 | R71: 8.5 | S71: 5.45 | T71: 0.6 | U71: 189.99 | V71: =Table5[[#This Row],[Cost]]/Table5[[#This Row],[SizTB]] -> 47.4975 | W71: =Table5[[#This Row],[Cost]]+((CompareWarrYrs-Table5[[#This Row],[Warnty]])*(Incremental_Warr_Yr*Table5[[#This Row],[Cost]])) -> 189.99 | X71: =Table5[[#This Row],[$+Warr]]/Table5[[#This Row],[SizTB]] -> 47.4975 | Y71: =Table5[[#This Row],[$PerTB]]/CompareWarrYrs -> 9.4995 | AA71: =(((Table5[[#This Row],[Watts Active]]*Power_On_Hours_Year/1000)*Active_Duty_Cycle)+((Table5[[#This Row],[Watts Idle]]*Power_On_Hours_Year/1000)*(100%-Active_Duty_Cycle)))*CostPerKWH -> 6.6400632 | AB71: =Table5[[#This Row],[Energy$year]]/Table5[[#This Row],[SizTB]] -> 1.6600158
A72: 43019 | B72: Seagate | C72: IronWolf Pro | D72: NAS | E72: 3.5 | F72: 6 | G72: 7200 | H72: 4.16 | J72: =(Table5[[#This Row],[RPM]]/5400-1) -> 0.33333333 | K72: 214 | L72: 5 | N72: 300 | O72: 1200000 | P72: 1e+15 | Q72: =12*2 -> 24 | R72: 8.1 | S72: 7.5 | T72: 0.6 | U72: 269.99 | V72: =Table5[[#This Row],[Cost]]/Table5[[#This Row],[SizTB]] -> 44.998333 | W72: =Table5[[#This Row],[Cost]]+((CompareWarrYrs-Table5[[#This Row],[Warnty]])*(Incremental_Warr_Yr*Table5[[#This Row],[Cost]])) -> 269.99 | X72: =Table5[[#This Row],[$+Warr]]/Table5[[#This Row],[SizTB]] -> 44.998333 | Y72: =Table5[[#This Row],[$PerTB]]/CompareWarrYrs -> 8.9996667 | AA72: =(((Table5[[#This Row],[Watts Active]]*Power_On_Hours_Year/1000)*Active_Duty_Cycle)+((Table5[[#This Row],[Watts Idle]]*Power_On_Hours_Year/1000)*(100%-Active_Duty_Cycle)))*CostPerKWH -> 8.3493864 | AB72: =Table5[[#This Row],[Energy$year]]/Table5[[#This Row],[SizTB]] -> 1.3915644
A73: 42981 | B73: Seagate | C73: IronWolf Pro | D73: NAS | E73: 3.5 | F73: 8 | G73: 7200 | H73: 4.16 | J73: =(Table5[[#This Row],[RPM]]/5400-1) -> 0.33333333 | K73: 214 | L73: 5 | N73: 300 | O73: 1200000 | P73: 1e+15 | Q73: =12*2 -> 24 | R73: 7.4 | S73: 4.4 | T73: 0.8 | U73: 349.99 | V73: =Table5[[#This Row],[Cost]]/Table5[[#This Row],[SizTB]] -> 43.74875 | W73: =Table5[[#This Row],[Cost]]+((CompareWarrYrs-Table5[[#This Row],[Warnty]])*(Incremental_Warr_Yr*Table5[[#This Row],[Cost]])) -> 349.99 | X73: =Table5[[#This Row],[$+Warr]]/Table5[[#This Row],[SizTB]] -> 43.74875 | Y73: =Table5[[#This Row],[$PerTB]]/CompareWarrYrs -> 8.74975 | AA73: =(((Table5[[#This Row],[Watts Active]]*Power_On_Hours_Year/1000)*Active_Duty_Cycle)+((Table5[[#This Row],[Watts Idle]]*Power_On_Hours_Year/1000)*(100%-Active_Duty_Cycle)))*CostPerKWH -> 5.4786 | AB73: =Table5[[#This Row],[Energy$year]]/Table5[[#This Row],[SizTB]] -> 0.684825
A74: 43019 | B74: Seagate | C74: IronWolf Pro | D74: NAS | E74: 3.5 | F74: 10 | G74: 7200 | H74: 4.16 | J74: =(Table5[[#This Row],[RPM]]/5400-1) -> 0.33333333 | K74: 214 | L74: 5 | N74: 300 | O74: 1200000 | P74: 1e+15 | Q74: 24 | R74: 7.4 | S74: 5 | T74: 0.8 | U74: 429.99 | V74: =Table5[[#This Row],[Cost]]/Table5[[#This Row],[SizTB]] -> 42.999 | W74: =Table5[[#This Row],[Cost]]+((CompareWarrYrs-Table5[[#This Row],[Warnty]])*(Incremental_Warr_Yr*Table5[[#This Row],[Cost]])) -> 429.99 | X74: =Table5[[#This Row],[$+Warr]]/Table5[[#This Row],[SizTB]] -> 42.999 | Y74: =Table5[[#This Row],[$PerTB]]/CompareWarrYrs -> 8.5998 | AA74: =(((Table5[[#This Row],[Watts Active]]*Power_On_Hours_Year/1000)*Active_Duty_Cycle)+((Table5[[#This Row],[Watts Idle]]*Power_On_Hours_Year/1000)*(100%-Active_Duty_Cycle)))*CostPerKWH -> 6.0045456 | AB74: =Table5[[#This Row],[Energy$year]]/Table5[[#This Row],[SizTB]] -> 0.60045456
A75: 42960 | B75: Seagate | C75: Terascale | E75: 3.5 | F75: 4 | G75: 5900 | J75: =(Table5[[#This Row],[RPM]]/5400-1) -> 0.092592593 | L75: 3 | Q75: 24 | R75: 6.49 | S75: 4.59 | T75: 0.77 | U75: 189.99 | V75: =Table5[[#This Row],[Cost]]/Table5[[#This Row],[SizTB]] -> 47.4975 | W75: =Table5[[#This Row],[Cost]]+((CompareWarrYrs-Table5[[#This Row],[Warnty]])*(Incremental_Warr_Yr*Table5[[#This Row],[Cost]])) -> 231.7878 | X75: =Table5[[#This Row],[$+Warr]]/Table5[[#This Row],[SizTB]] -> 57.94695 | Y75: =Table5[[#This Row],[$PerTB]]/CompareWarrYrs -> 11.58939 | AA75: =(((Table5[[#This Row],[Watts Active]]*Power_On_Hours_Year/1000)*Active_Duty_Cycle)+((Table5[[#This Row],[Watts Idle]]*Power_On_Hours_Year/1000)*(100%-Active_Duty_Cycle)))*CostPerKWH -> 5.4457284 | AB75: =Table5[[#This Row],[Energy$year]]/Table5[[#This Row],[SizTB]] -> 1.3614321
A76: 43019 | B76: Toshiba | C76: N300 | D76: NAS | E76: 3.5 | F76: 4 | G76: 7200 | H76: 4.17 | J76: =(Table5[[#This Row],[RPM]]/5400-1) -> 0.33333333 | K76: 200 | L76: 3 | N76: 180 | O76: 1000000 | P76: =10^14 -> 100000000000000 | R76: 9.6 | S76: 5.2 | U76: 129.99 | V76: =Table5[[#This Row],[Cost]]/Table5[[#This Row],[SizTB]] -> 32.4975 | W76: =Table5[[#This Row],[Cost]]+((CompareWarrYrs-Table5[[#This Row],[Warnty]])*(Incremental_Warr_Yr*Table5[[#This Row],[Cost]])) -> 158.5878 | X76: =Table5[[#This Row],[$+Warr]]/Table5[[#This Row],[SizTB]] -> 39.64695 | Y76: =Table5[[#This Row],[$PerTB]]/CompareWarrYrs -> 7.92939 | AA76: =(((Table5[[#This Row],[Watts Active]]*Power_On_Hours_Year/1000)*Active_Duty_Cycle)+((Table5[[#This Row],[Watts Idle]]*Power_On_Hours_Year/1000)*(100%-Active_Duty_Cycle)))*CostPerKWH -> 6.6619776 | AB76: =Table5[[#This Row],[Energy$year]]/Table5[[#This Row],[SizTB]] -> 1.6654944
A77: 43019 | B77: Toshiba | C77: N300 | D77: NAS | E77: 3.5 | F77: 6 | G77: 7200 | H77: 4.17 | J77: =(Table5[[#This Row],[RPM]]/5400-1) -> 0.33333333 | K77: 210 | L77: 3 | N77: 180 | O77: 1000000 | P77: =10^14 -> 100000000000000 | R77: 10.1 | S77: 6.7 | U77: 197.97 | V77: =Table5[[#This Row],[Cost]]/Table5[[#This Row],[SizTB]] -> 32.995 | W77: =Table5[[#This Row],[Cost]]+((CompareWarrYrs-Table5[[#This Row],[Warnty]])*(Incremental_Warr_Yr*Table5[[#This Row],[Cost]])) -> 241.5234 | X77: =Table5[[#This Row],[$+Warr]]/Table5[[#This Row],[SizTB]] -> 40.2539 | Y77: =Table5[[#This Row],[$PerTB]]/CompareWarrYrs -> 8.05078 | AA77: =(((Table5[[#This Row],[Watts Active]]*Power_On_Hours_Year/1000)*Active_Duty_Cycle)+((Table5[[#This Row],[Watts Idle]]*Power_On_Hours_Year/1000)*(100%-Active_Duty_Cycle)))*CostPerKWH -> 8.0864136 | AB77: =Table5[[#This Row],[Energy$year]]/Table5[[#This Row],[SizTB]] -> 1.3477356
A78: 43019 | B78: Toshiba | C78: N300 | D78: NAS | E78: 3.5 | F78: 8 | G78: 7200 | H78: 4.17 | J78: =(Table5[[#This Row],[RPM]]/5400-1) -> 0.33333333 | K78: 240 | L78: 3 | N78: 180 | O78: 1000000 | P78: =10^14 -> 100000000000000 | R78: 9.2 | S78: 6.2 | U78: 269.99 | V78: =Table5[[#This Row],[Cost]]/Table5[[#This Row],[SizTB]] -> 33.74875 | W78: =Table5[[#This Row],[Cost]]+((CompareWarrYrs-Table5[[#This Row],[Warnty]])*(Incremental_Warr_Yr*Table5[[#This Row],[Cost]])) -> 329.3878 | X78: =Table5[[#This Row],[$+Warr]]/Table5[[#This Row],[SizTB]] -> 41.173475 | Y78: =Table5[[#This Row],[$PerTB]]/CompareWarrYrs -> 8.234695 | AA78: =(((Table5[[#This Row],[Watts Active]]*Power_On_Hours_Year/1000)*Active_Duty_Cycle)+((Table5[[#This Row],[Watts Idle]]*Power_On_Hours_Year/1000)*(100%-Active_Duty_Cycle)))*CostPerKWH -> 7.450896 | AB78: =Table5[[#This Row],[Energy$year]]/Table5[[#This Row],[SizTB]] -> 0.931362
A79: 43019 | B79: Toshiba | C79: P300 | E79: 3.5 | F79: 1 | G79: 7200 | H79: 4.17 | J79: =(Table5[[#This Row],[RPM]]/5400-1) -> 0.33333333 | L79: 2 | U79: 49.99 | V79: =Table5[[#This Row],[Cost]]/Table5[[#This Row],[SizTB]] -> 49.99 | W79: =Table5[[#This Row],[Cost]]+((CompareWarrYrs-Table5[[#This Row],[Warnty]])*(Incremental_Warr_Yr*Table5[[#This Row],[Cost]])) -> 66.4867 | X79: =Table5[[#This Row],[$+Warr]]/Table5[[#This Row],[SizTB]] -> 66.4867 | Y79: =Table5[[#This Row],[$PerTB]]/CompareWarrYrs -> 13.29734
A80: 43015 | B80: Toshiba | C80: P300 | E80: 3.5 | F80: 2 | G80: 7200 | H80: 4.17 | J80: =(Table5[[#This Row],[RPM]]/5400-1) -> 0.33333333 | L80: 2 | U80: 71.99 | V80: =Table5[[#This Row],[Cost]]/Table5[[#This Row],[SizTB]] -> 35.995 | W80: =Table5[[#This Row],[Cost]]+((CompareWarrYrs-Table5[[#This Row],[Warnty]])*(Incremental_Warr_Yr*Table5[[#This Row],[Cost]])) -> 95.7467 | X80: =Table5[[#This Row],[$+Warr]]/Table5[[#This Row],[SizTB]] -> 47.87335 | Y80: =Table5[[#This Row],[$PerTB]]/CompareWarrYrs -> 9.57467
A81: 43019 | B81: Toshiba | C81: P300 | E81: 3.5 | F81: 3 | G81: 7200 | H81: 4.17 | J81: =(Table5[[#This Row],[RPM]]/5400-1) -> 0.33333333 | L81: 2 | U81: 89.99 | V81: =Table5[[#This Row],[Cost]]/Table5[[#This Row],[SizTB]] -> 29.996667 | W81: =Table5[[#This Row],[Cost]]+((CompareWarrYrs-Table5[[#This Row],[Warnty]])*(Incremental_Warr_Yr*Table5[[#This Row],[Cost]])) -> 119.6867 | X81: =Table5[[#This Row],[$+Warr]]/Table5[[#This Row],[SizTB]] -> 39.895567 | Y81: =Table5[[#This Row],[$PerTB]]/CompareWarrYrs -> 7.9791133
A82: 43019 | B82: Toshiba | C82: X300 | E82: 3.5 | F82: 4 | G82: 7200 | H82: 4.17 | J82: =(Table5[[#This Row],[RPM]]/5400-1) -> 0.33333333 | L82: 2 | U82: 129.99 | V82: =Table5[[#This Row],[Cost]]/Table5[[#This Row],[SizTB]] -> 32.4975 | W82: =Table5[[#This Row],[Cost]]+((CompareWarrYrs-Table5[[#This Row],[Warnty]])*(Incremental_Warr_Yr*Table5[[#This Row],[Cost]])) -> 172.8867 | X82: =Table5[[#This Row],[$+Warr]]/Table5[[#This Row],[SizTB]] -> 43.221675 | Y82: =Table5[[#This Row],[$PerTB]]/CompareWarrYrs -> 8.644335
A83: 43019 | B83: Toshiba | C83: X300 | E83: 3.5 | F83: 5 | G83: 7200 | H83: 4.17 | J83: =(Table5[[#This Row],[RPM]]/5400-1) -> 0.33333333 | L83: 2 | U83: 141.97 | V83: =Table5[[#This Row],[Cost]]/Table5[[#This Row],[SizTB]] -> 28.394 | W83: =Table5[[#This Row],[Cost]]+((CompareWarrYrs-Table5[[#This Row],[Warnty]])*(Incremental_Warr_Yr*Table5[[#This Row],[Cost]])) -> 188.8201 | X83: =Table5[[#This Row],[$+Warr]]/Table5[[#This Row],[SizTB]] -> 37.76402 | Y83: =Table5[[#This Row],[$PerTB]]/CompareWarrYrs -> 7.552804
A84: 43019 | B84: Toshiba | C84: X300 | E84: 3.5 | F84: 6 | G84: 7200 | H84: 4.17 | J84: =(Table5[[#This Row],[RPM]]/5400-1) -> 0.33333333 | L84: 2 | U84: 189.99 | V84: =Table5[[#This Row],[Cost]]/Table5[[#This Row],[SizTB]] -> 31.665 | W84: =Table5[[#This Row],[Cost]]+((CompareWarrYrs-Table5[[#This Row],[Warnty]])*(Incremental_Warr_Yr*Table5[[#This Row],[Cost]])) -> 252.6867 | X84: =Table5[[#This Row],[$+Warr]]/Table5[[#This Row],[SizTB]] -> 42.11445 | Y84: =Table5[[#This Row],[$PerTB]]/CompareWarrYrs -> 8.42289
A85: 43019 | B85: Toshiba | C85: X300 | E85: 3.5 | F85: 8 | G85: 7200 | H85: 4.17 | J85: =(Table5[[#This Row],[RPM]]/5400-1) -> 0.33333333 | L85: 2 | U85: 254.99 | V85: =Table5[[#This Row],[Cost]]/Table5[[#This Row],[SizTB]] -> 31.87375 | W85: =Table5[[#This Row],[Cost]]+((CompareWarrYrs-Table5[[#This Row],[Warnty]])*(Incremental_Warr_Yr*Table5[[#This Row],[Cost]])) -> 339.1367 | X85: =Table5[[#This Row],[$+Warr]]/Table5[[#This Row],[SizTB]] -> 42.392088 | Y85: =Table5[[#This Row],[$PerTB]]/CompareWarrYrs -> 8.4784175
A86: 43018 | B86: WD | C86: Ae | E86: 3.5 | F86: 6 | G86: 5760 | J86: =(Table5[[#This Row],[RPM]]/5400-1) -> 0.066666667 | K86: 150 | L86: 3 | M86: 300000 | O86: 500000 | P86: =10^14 -> 100000000000000 | R86: 6.5 | S86: 4.8 | U86: 189.99 | V86: =Table5[[#This Row],[Cost]]/Table5[[#This Row],[SizTB]] -> 31.665 | W86: =Table5[[#This Row],[Cost]]+((CompareWarrYrs-Table5[[#This Row],[Warnty]])*(Incremental_Warr_Yr*Table5[[#This Row],[Cost]])) -> 231.7878 | X86: =Table5[[#This Row],[$+Warr]]/Table5[[#This Row],[SizTB]] -> 38.6313 | Y86: =Table5[[#This Row],[$PerTB]]/CompareWarrYrs -> 7.72626 | AA86: =(((Table5[[#This Row],[Watts Active]]*Power_On_Hours_Year/1000)*Active_Duty_Cycle)+((Table5[[#This Row],[Watts Idle]]*Power_On_Hours_Year/1000)*(100%-Active_Duty_Cycle)))*CostPerKWH -> 5.6320008 | AB86: =Table5[[#This Row],[Energy$year]]/Table5[[#This Row],[SizTB]] -> 0.9386668
A87: 43019 | B87: WD | C87: Black | E87: 3.5 | F87: 1 | G87: 7200 | J87: =(Table5[[#This Row],[RPM]]/5400-1) -> 0.33333333 | K87: 150 | L87: 5 | M87: 300000 | P87: =10^14 -> 100000000000000 | R87: 6.8 | S87: 6.1 | T87: 0.8 | U87: 67.99 | V87: =Table5[[#This Row],[Cost]]/Table5[[#This Row],[SizTB]] -> 67.99 | W87: =Table5[[#This Row],[Cost]]+((CompareWarrYrs-Table5[[#This Row],[Warnty]])*(Incremental_Warr_Yr*Table5[[#This Row],[Cost]])) -> 67.99 | X87: =Table5[[#This Row],[$+Warr]]/Table5[[#This Row],[SizTB]] -> 67.99 | Y87: =Table5[[#This Row],[$PerTB]]/CompareWarrYrs -> 13.598 | AA87: =(((Table5[[#This Row],[Watts Active]]*Power_On_Hours_Year/1000)*Active_Duty_Cycle)+((Table5[[#This Row],[Watts Idle]]*Power_On_Hours_Year/1000)*(100%-Active_Duty_Cycle)))*CostPerKWH -> 6.8372928 | AB87: =Table5[[#This Row],[Energy$year]]/Table5[[#This Row],[SizTB]] -> 6.8372928
A88: 43019 | B88: WD | C88: Black | E88: 3.5 | F88: 2 | G88: 7200 | J88: =(Table5[[#This Row],[RPM]]/5400-1) -> 0.33333333 | K88: 164 | L88: 5 | M88: 300000 | P88: =10^14 -> 100000000000000 | R88: 9.5 | S88: 8.1 | T88: 1.3 | U88: 119.99 | V88: =Table5[[#This Row],[Cost]]/Table5[[#This Row],[SizTB]] -> 59.995 | W88: =Table5[[#This Row],[Cost]]+((CompareWarrYrs-Table5[[#This Row],[Warnty]])*(Incremental_Warr_Yr*Table5[[#This Row],[Cost]])) -> 119.99 | X88: =Table5[[#This Row],[$+Warr]]/Table5[[#This Row],[SizTB]] -> 59.995 | Y88: =Table5[[#This Row],[$PerTB]]/CompareWarrYrs -> 11.999 | AA88: =(((Table5[[#This Row],[Watts Active]]*Power_On_Hours_Year/1000)*Active_Duty_Cycle)+((Table5[[#This Row],[Watts Idle]]*Power_On_Hours_Year/1000)*(100%-Active_Duty_Cycle)))*CostPerKWH -> 9.1821336 | AB88: =Table5[[#This Row],[Energy$year]]/Table5[[#This Row],[SizTB]] -> 4.5910668
A89: 43019 | B89: WD | C89: Black | E89: 3.5 | F89: 4 | G89: 7200 | J89: =(Table5[[#This Row],[RPM]]/5400-1) -> 0.33333333 | K89: 202 | L89: 5 | M89: 300000 | P89: =10^14 -> 100000000000000 | R89: 10.6 | S89: 7.6 | T89: 1.6 | U89: 184.99 | V89: =Table5[[#This Row],[Cost]]/Table5[[#This Row],[SizTB]] -> 46.2475 | W89: =Table5[[#This Row],[Cost]]+((CompareWarrYrs-Table5[[#This Row],[Warnty]])*(Incremental_Warr_Yr*Table5[[#This Row],[Cost]])) -> 184.99 | X89: =Table5[[#This Row],[$+Warr]]/Table5[[#This Row],[SizTB]] -> 46.2475 | Y89: =Table5[[#This Row],[$PerTB]]/CompareWarrYrs -> 9.2495 | AA89: =(((Table5[[#This Row],[Watts Active]]*Power_On_Hours_Year/1000)*Active_Duty_Cycle)+((Table5[[#This Row],[Watts Idle]]*Power_On_Hours_Year/1000)*(100%-Active_Duty_Cycle)))*CostPerKWH -> 8.984904 | AB89: =Table5[[#This Row],[Energy$year]]/Table5[[#This Row],[SizTB]] -> 2.246226
A90: 43000 | B90: WD | C90: Black | E90: 3.5 | F90: 5 | G90: 7200 | J90: =(Table5[[#This Row],[RPM]]/5400-1) -> 0.33333333 | K90: 194 | L90: 5 | M90: 300000 | P90: =10^14 -> 100000000000000 | R90: 10.6 | S90: 7.6 | T90: 1.6 | U90: 134.99 | V90: =Table5[[#This Row],[Cost]]/Table5[[#This Row],[SizTB]] -> 26.998 | W90: =Table5[[#This Row],[Cost]]+((CompareWarrYrs-Table5[[#This Row],[Warnty]])*(Incremental_Warr_Yr*Table5[[#This Row],[Cost]])) -> 134.99 | X90: =Table5[[#This Row],[$+Warr]]/Table5[[#This Row],[SizTB]] -> 26.998 | Y90: =Table5[[#This Row],[$PerTB]]/CompareWarrYrs -> 5.3996 | AA90: =(((Table5[[#This Row],[Watts Active]]*Power_On_Hours_Year/1000)*Active_Duty_Cycle)+((Table5[[#This Row],[Watts Idle]]*Power_On_Hours_Year/1000)*(100%-Active_Duty_Cycle)))*CostPerKWH -> 8.984904 | AB90: =Table5[[#This Row],[Energy$year]]/Table5[[#This Row],[SizTB]] -> 1.7969808
A91: 43019 | B91: WD | C91: Black | E91: 3.5 | F91: 6 | G91: 7200 | J91: =(Table5[[#This Row],[RPM]]/5400-1) -> 0.33333333 | K91: 227 | L91: 5 | M91: 300000 | P91: =10^14 -> 100000000000000 | R91: 10.6 | S91: 7.6 | T91: 1.6 | U91: 234.99 | V91: =Table5[[#This Row],[Cost]]/Table5[[#This Row],[SizTB]] -> 39.165 | W91: =Table5[[#This Row],[Cost]]+((CompareWarrYrs-Table5[[#This Row],[Warnty]])*(Incremental_Warr_Yr*Table5[[#This Row],[Cost]])) -> 234.99 | X91: =Table5[[#This Row],[$+Warr]]/Table5[[#This Row],[SizTB]] -> 39.165 | Y91: =Table5[[#This Row],[$PerTB]]/CompareWarrYrs -> 7.833 | AA91: =(((Table5[[#This Row],[Watts Active]]*Power_On_Hours_Year/1000)*Active_Duty_Cycle)+((Table5[[#This Row],[Watts Idle]]*Power_On_Hours_Year/1000)*(100%-Active_Duty_Cycle)))*CostPerKWH -> 8.984904 | AB91: =Table5[[#This Row],[Energy$year]]/Table5[[#This Row],[SizTB]] -> 1.497484
A92: 43000 | B92: WD | C92: Black | E92: 3.5 | F92: 8 | G92: 7200 | J92: =(Table5[[#This Row],[RPM]]/5400-1) -> 0.33333333 | L92: 5 | M92: 300000 | R92: 10.6 | S92: 7.6 | T92: 1.6 | U92: 329.99 | V92: =Table5[[#This Row],[Cost]]/Table5[[#This Row],[SizTB]] -> 41.24875 | W92: =Table5[[#This Row],[Cost]]+((CompareWarrYrs-Table5[[#This Row],[Warnty]])*(Incremental_Warr_Yr*Table5[[#This Row],[Cost]])) -> 329.99 | X92: =Table5[[#This Row],[$+Warr]]/Table5[[#This Row],[SizTB]] -> 41.24875 | Y92: =Table5[[#This Row],[$PerTB]]/CompareWarrYrs -> 8.24975 | AA92: =(((Table5[[#This Row],[Watts Active]]*Power_On_Hours_Year/1000)*Active_Duty_Cycle)+((Table5[[#This Row],[Watts Idle]]*Power_On_Hours_Year/1000)*(100%-Active_Duty_Cycle)))*CostPerKWH -> 8.984904 | AB92: =Table5[[#This Row],[Energy$year]]/Table5[[#This Row],[SizTB]] -> 1.123113
A93: 43018 | B93: WD | C93: Black | E93: 2.5 | F93: 1 | G93: 7200 | J93: =(Table5[[#This Row],[RPM]]/5400-1) -> 0.33333333 | L93: 5 | M93: 600000 | P93: =10^14 -> 100000000000000 | Q93: =1.1*5 -> 5.5 | R93: 1.8 | S93: 0.8 | T93: 0.2 | U93: 69.99 | V93: =Table5[[#This Row],[Cost]]/Table5[[#This Row],[SizTB]] -> 69.99 | W93: =Table5[[#This Row],[Cost]]+((CompareWarrYrs-Table5[[#This Row],[Warnty]])*(Incremental_Warr_Yr*Table5[[#This Row],[Cost]])) -> 69.99 | X93: =Table5[[#This Row],[$+Warr]]/Table5[[#This Row],[SizTB]] -> 69.99 | Y93: =Table5[[#This Row],[$PerTB]]/CompareWarrYrs -> 13.998 | AA93: =(((Table5[[#This Row],[Watts Active]]*Power_On_Hours_Year/1000)*Active_Duty_Cycle)+((Table5[[#This Row],[Watts Idle]]*Power_On_Hours_Year/1000)*(100%-Active_Duty_Cycle)))*CostPerKWH -> 1.09572 | AB93: =Table5[[#This Row],[Energy$year]]/Table5[[#This Row],[SizTB]] -> 1.09572
A94: 43019 | B94: WD | C94: Blue | E94: 3.5 | F94: 1 | G94: 5400 | J94: =(Table5[[#This Row],[RPM]]/5400-1) -> 0 | K94: 150 | L94: 2 | M94: 300000 | P94: =10^14 -> 100000000000000 | U94: 49.99 | V94: =Table5[[#This Row],[Cost]]/Table5[[#This Row],[SizTB]] -> 49.99 | W94: =Table5[[#This Row],[Cost]]+((CompareWarrYrs-Table5[[#This Row],[Warnty]])*(Incremental_Warr_Yr*Table5[[#This Row],[Cost]])) -> 66.4867 | X94: =Table5[[#This Row],[$+Warr]]/Table5[[#This Row],[SizTB]] -> 66.4867 | Y94: =Table5[[#This Row],[$PerTB]]/CompareWarrYrs -> 13.29734
A95: 43019 | B95: WD | C95: Blue | E95: 3.5 | F95: 2 | G95: 5400 | J95: =(Table5[[#This Row],[RPM]]/5400-1) -> 0 | K95: 147 | L95: 2 | M95: 300000 | P95: =10^14 -> 100000000000000 | Q95: =12*1.73 -> 20.76 | R95: 4.1 | S95: 3 | T95: 0.4 | U95: 64.21 | V95: =Table5[[#This Row],[Cost]]/Table5[[#This Row],[SizTB]] -> 32.105 | W95: =Table5[[#This Row],[Cost]]+((CompareWarrYrs-Table5[[#This Row],[Warnty]])*(Incremental_Warr_Yr*Table5[[#This Row],[Cost]])) -> 85.3993 | X95: =Table5[[#This Row],[$+Warr]]/Table5[[#This Row],[SizTB]] -> 42.69965 | Y95: =Table5[[#This Row],[$PerTB]]/CompareWarrYrs -> 8.53993 | AA95: =(((Table5[[#This Row],[Watts Active]]*Power_On_Hours_Year/1000)*Active_Duty_Cycle)+((Table5[[#This Row],[Watts Idle]]*Power_On_Hours_Year/1000)*(100%-Active_Duty_Cycle)))*CostPerKWH -> 3.5282184 | AB95: =Table5[[#This Row],[Energy$year]]/Table5[[#This Row],[SizTB]] -> 1.7641092
A96: 43019 | B96: WD | C96: Blue | E96: 3.5 | F96: 3 | G96: 5400 | J96: =(Table5[[#This Row],[RPM]]/5400-1) -> 0 | K96: 147 | L96: 2 | M96: 300000 | P96: =10^14 -> 100000000000000 | Q96: =12*1.73 -> 20.76 | R96: 4.1 | S96: 3 | T96: 0.4 | U96: 84.99 | V96: =Table5[[#This Row],[Cost]]/Table5[[#This Row],[SizTB]] -> 28.33 | W96: =Table5[[#This Row],[Cost]]+((CompareWarrYrs-Table5[[#This Row],[Warnty]])*(Incremental_Warr_Yr*Table5[[#This Row],[Cost]])) -> 113.0367 | X96: =Table5[[#This Row],[$+Warr]]/Table5[[#This Row],[SizTB]] -> 37.6789 | Y96: =Table5[[#This Row],[$PerTB]]/CompareWarrYrs -> 7.53578 | AA96: =(((Table5[[#This Row],[Watts Active]]*Power_On_Hours_Year/1000)*Active_Duty_Cycle)+((Table5[[#This Row],[Watts Idle]]*Power_On_Hours_Year/1000)*(100%-Active_Duty_Cycle)))*CostPerKWH -> 3.5282184 | AB96: =Table5[[#This Row],[Energy$year]]/Table5[[#This Row],[SizTB]] -> 1.1760728
A97: 43019 | B97: WD | C97: Blue | E97: 3.5 | F97: 4 | G97: 5400 | J97: =(Table5[[#This Row],[RPM]]/5400-1) -> 0 | K97: 150 | L97: 2 | M97: 300000 | P97: =10^14 -> 100000000000000 | Q97: =12*1.75 -> 21 | R97: 5.3 | S97: 3.4 | T97: 0.4 | U97: 117.99 | V97: =Table5[[#This Row],[Cost]]/Table5[[#This Row],[SizTB]] -> 29.4975 | W97: =Table5[[#This Row],[Cost]]+((CompareWarrYrs-Table5[[#This Row],[Warnty]])*(Incremental_Warr_Yr*Table5[[#This Row],[Cost]])) -> 156.9267 | X97: =Table5[[#This Row],[$+Warr]]/Table5[[#This Row],[SizTB]] -> 39.231675 | Y97: =Table5[[#This Row],[$PerTB]]/CompareWarrYrs -> 7.846335 | AA97: =(((Table5[[#This Row],[Watts Active]]*Power_On_Hours_Year/1000)*Active_Duty_Cycle)+((Table5[[#This Row],[Watts Idle]]*Power_On_Hours_Year/1000)*(100%-Active_Duty_Cycle)))*CostPerKWH -> 4.1418216 | AB97: =Table5[[#This Row],[Energy$year]]/Table5[[#This Row],[SizTB]] -> 1.0354554
A98: 42960 | B98: WD | C98: Blue | E98: 3.5 | F98: 5 | G98: 5400 | J98: =(Table5[[#This Row],[RPM]]/5400-1) -> 0 | K98: 170 | L98: 2 | M98: 300000 | P98: =10^14 -> 100000000000000 | Q98: =12*1.75 -> 21 | R98: 5.3 | S98: 3.4 | T98: 0.4 | U98: 235.89 | V98: =Table5[[#This Row],[Cost]]/Table5[[#This Row],[SizTB]] -> 47.178 | W98: =Table5[[#This Row],[Cost]]+((CompareWarrYrs-Table5[[#This Row],[Warnty]])*(Incremental_Warr_Yr*Table5[[#This Row],[Cost]])) -> 313.7337 | X98: =Table5[[#This Row],[$+Warr]]/Table5[[#This Row],[SizTB]] -> 62.74674 | Y98: =Table5[[#This Row],[$PerTB]]/CompareWarrYrs -> 12.549348 | AA98: =(((Table5[[#This Row],[Watts Active]]*Power_On_Hours_Year/1000)*Active_Duty_Cycle)+((Table5[[#This Row],[Watts Idle]]*Power_On_Hours_Year/1000)*(100%-Active_Duty_Cycle)))*CostPerKWH -> 4.1418216 | AB98: =Table5[[#This Row],[Energy$year]]/Table5[[#This Row],[SizTB]] -> 0.82836432
A99: 43019 | B99: WD | C99: Blue | E99: 3.5 | F99: 6 | G99: 5400 | J99: =(Table5[[#This Row],[RPM]]/5400-1) -> 0 | K99: 175 | L99: 2 | M99: 300000 | P99: =10^14 -> 100000000000000 | Q99: =12*1.75 -> 21 | R99: 5.3 | S99: 3.4 | T99: 0.4 | U99: 196.99 | V99: =Table5[[#This Row],[Cost]]/Table5[[#This Row],[SizTB]] -> 32.831667 | W99: =Table5[[#This Row],[Cost]]+((CompareWarrYrs-Table5[[#This Row],[Warnty]])*(Incremental_Warr_Yr*Table5[[#This Row],[Cost]])) -> 261.9967 | X99: =Table5[[#This Row],[$+Warr]]/Table5[[#This Row],[SizTB]] -> 43.666117 | Y99: =Table5[[#This Row],[$PerTB]]/CompareWarrYrs -> 8.7332233 | AA99: =(((Table5[[#This Row],[Watts Active]]*Power_On_Hours_Year/1000)*Active_Duty_Cycle)+((Table5[[#This Row],[Watts Idle]]*Power_On_Hours_Year/1000)*(100%-Active_Duty_Cycle)))*CostPerKWH -> 4.1418216 | AB99: =Table5[[#This Row],[Energy$year]]/Table5[[#This Row],[SizTB]] -> 0.6903036
A100: 42960 | B100: WD | C100: Blue | E100: 2.5 | F100: 1 | G100: 5400 | J100: =(Table5[[#This Row],[RPM]]/5400-1) -> 0 | L100: 2 | M100: 600000 | P100: =10^14 -> 100000000000000 | Q100: 5 | R100: 1.5 | S100: 0.5 | T100: 0.1 | U100: 55.99 | V100: =Table5[[#This Row],[Cost]]/Table5[[#This Row],[SizTB]] -> 55.99 | W100: =Table5[[#This Row],[Cost]]+((CompareWarrYrs-Table5[[#This Row],[Warnty]])*(Incremental_Warr_Yr*Table5[[#This Row],[Cost]])) -> 74.4667 | X100: =Table5[[#This Row],[$+Warr]]/Table5[[#This Row],[SizTB]] -> 74.4667 | Y100: =Table5[[#This Row],[$PerTB]]/CompareWarrYrs -> 14.89334 | AA100: =(((Table5[[#This Row],[Watts Active]]*Power_On_Hours_Year/1000)*Active_Duty_Cycle)+((Table5[[#This Row],[Watts Idle]]*Power_On_Hours_Year/1000)*(100%-Active_Duty_Cycle)))*CostPerKWH -> 0.767004 | AB100: =Table5[[#This Row],[Energy$year]]/Table5[[#This Row],[SizTB]] -> 0.767004
...

Sheet Tables
A1: Type | B1: NAS
A2: FormFactor | B2: 3.5
A3: Warnty | B3: 5
A4: NAS Drives Avg Cost By Size Per Year
A5: Row Labels | B5: Average of $ TB/year
A6: 0.9 | B6: 0
A7: 1 | B7: 18.332
A8: 2 | B8: 13.521683
A9: 3 | B9: 11.486667
A10: 4 | B10: 9.2913333
A11: 5 | B11: 12.8282
A12: 6 | B12: 8.0165611
A13: 8 | B13: 7.7206667
A14: 10 | B14: 8.00292
A15: 12 | B15: 9.1621667
A16: Avg By Size | B16: 10.095487
A19: Type | B19: NAS
A20: FormFactor | B20: 3.5
A21: Warnty | B21: 5
A22: Avg Energy Cost by Size per TB per Year
A23: Row Labels | B23: Cost per TB per year
A24: 0.9 | B24: 7.4021973
A25: 1 | B25: 5.8796335
A26: 2 | B26: 3.2679849
A27: 3 | B27: 2.4712138
A28: 4 | B28: 1.9101139
A29: 5 | B29: 1.7027489
A30: 6 | B30: 1.3453007
A31: 8 | B31: 0.81585485
A32: 10 | B32: 0.55224288
A33: 12 | B33: 0.50646613
A34: Average | B34: 2.0530823
A37: Type | B37: NAS
A38: FormFactor | B38: 3.5
A39: Warnty | B39: 5
A40: Avg Energy Cost by Size per Year
A41: Row Labels | B41: Average of Energy$year
A42: 0.9 | B42: 6.6619776
A43: 1 | B43: 5.8796335
A44: 2 | B44: 6.5359698
A45: 3 | B45: 7.4136415
A46: 4 | B46: 7.6404556
A47: 5 | B47: 8.5137444
A48: 6 | B48: 8.071804
A49: 8 | B49: 6.5268388
A50: 10 | B50: 5.5224288
A51: 12 | B51: 6.0775936
A52: Average | B52: 6.879625
A56: Type | B56: NAS
A57: FormFactor | B57: 3.5
A58: Warnty | B58: 5
A59: 3.5" NAS Drives Avg Cost by RPM by Manu
A60: Row Labels | B60: Average of $PerTB
A61: 7200 | B61: 51.739371
A62: HGST | B62: 52.186729
A63: Seagate | B63: 52.516014
A64: WD | B64: 50.485196
A65: 15000 | B65: 0
A66: Seagate | B66: 0
A67: Grand Total | B67: 50.477435

Sheet Charts
A1: These are incomplete at thi time…

Sheet Database
A1: Date | B1: Manu | C1: Model | D1: Type | E1: SizTB | F1: RPM | G1: AvgLatency | H1: SeekT | I1: PerfCmp | J1: XferRate | K1: Warnty | L1: CycleCnt | M1: WorkLoad | N1: MTBF | O1: RErrRate | P1: MaxStartupWatts | Q1: Watts Active | R1: Watts Idle | S1: WattsStandby | T1: Cost | U1: $ TB | V1: $+Warr | W1: $PerTB | X1: $ TB/year | Y1: Comp $/Perf/Size | Z1: Energy$year | AA1: Energy$yearPerTB | AB1: Notes
D2: NAS | E2: 10 | T2: >100
A4: =DVAR('Drive Table'!$A$2:$AC$125,"Cost",$A$1:$AB$2) -> 1259.7118 | B4: Mean
A5: =DAVERAGE('Drive Table'!$A$2:$AC$125,"Cost",$A$1:$AB$2) -> 388.8375 | B5: Avg
A6: =DMIN('Drive Table'!$A$2:$AC$125,"Cost",$A$1:$AB$2) -> 349.99 | B6: Min
A7: =DMAX('Drive Table'!$A$2:$AC$125,"Cost",$A$1:$AB$2) -> 440.77 | B7: Max
A8: =DCOUNTA('Drive Table'!$A$2:$AC$125,"Cost",$A$1:$AB$2) -> 8 | B8: Qty
