Workbook
Name Active_Duty_Cycle: 'Drive Table'!$D$160
Name CompareWarrYrs: 'Drive Table'!$D$161
Name CostPerKWH: 'Drive Table'!$D$159
Name Day_in_Year: 'Drive Table'!$D$167
Name Days_In_Month: 'Drive Table'!$D$166
Name Days_in_Year: 'Drive Table'!$D$167
Name Exchange_Rate: 'Drive Table'!$D$169
Name Hours_In_Day: 'Drive Table'!$D$164
Name Hours_In_Month: 'Drive Table'!$D$165
Name Incremental_Warr_Yr: 'Drive Table'!$D$162
Name Months_In_Year: 'Drive Table'!$D$168
Name Power_On_Hours_Year: 'Drive Table'!$D$163

Sheet Drive Table
A1: SPECIFICATIONS | G1: PERFORMANCE | L1: DURABILITY | Q1: POWER USAGE | W1: ACTUAL COST | Y1: Warranty_Normalized_Computed | AC1: ACOUSTICS*
A2: Date | B2: Manu | C2: Model | D2: Type | E2: FormFactor | F2: SizTB | G2: RPM | H2: AvgLatency | I2: SeekT | J2: PerfCmp | K2: XferRate | L2: Warranty | M2: CycleCnt | N2: WorkLoad | O2: MTBF | P2: RErrRate | Q2: MaxStartupWatts | R2: Watts Active | S2: Watts Idle | T2: WattsStandby | U2: Energy$year | V2: Energy$yearPerTB | W2: Cost | X2: $ TB | Y2: $+Warr | Z2: $PerTB | AA2: $ TB/year | AB2: $TB/Yr+Power | AC2: DBA_Idle | AD2: DBA_Seek | AE2: Notes
A3: 43320 | B3: HGST | C3: Deskstar NAS | D3: NAS | E3: 3.5 | F3: 4 | G3: 7200 | I3: 11.99 | J3: =(Table5[[#This Row],[RPM]]/5400-1) -> 0.33333333 | K3: 202 | L3: 3 | M3: 600000 | O3: 1000000 | P3: =10^14 -> 100000000000000 | Q3: =1.2*5+2*12 -> 30 | S3: 7.3 | U3: ="" | V3: ="" | W3: 99.99 | X3: =IF(Table5[[#This Row],[Cost]],Table5[[#This Row],[Cost]]/Table5[[#This Row],[SizTB]]*Exchange_Rate,"") -> 24.9975 | Y3: =Table5[[#This Row],[Cost]]+((CompareWarrYrs-Table5[[#This Row],[Warranty]])*(Incremental_Warr_Yr*Table5[[#This Row],[Cost]]))*Exchange_Rate -> 121.9878 | Z3: =IF(Table5[[#This Row],[$+Warr]],Table5[[#This Row],[$+Warr]]/Table5[[#This Row],[SizTB]],"") -> 30.49695 | AA3: =IFERROR(Table5[[#This Row],[$PerTB]]/CompareWarrYrs,"") -> 6.09939 | AB3: =IF(OR(Table5[[#This Row],[$ TB/year]]="",Table5[[#This Row],[Energy$yearPerTB]]=""),"",Table5[[#This Row],[$ TB/year]]+Table5[[#This Row],[Energy$yearPerTB]]) | AC3: 29 | AE3: Enterprise HGST drives are now
A4: 43321 | B4: HGST | C4: Deskstar NAS | D4: NAS | E4: 3.5 | F4: 6 | G4: 7200 | I4: 11.99 | J4: =(Table5[[#This Row],[RPM]]/5400-1) -> 0.33333333 | K4: 227 | L4: 3 | M4: 600000 | O4: 1000000 | P4: =10^14 -> 100000000000000 | Q4: =1.2*5+2*12 -> 30 | S4: 7.3 | U4: ="" | V4: ="" | W4: 157.99 | X4: =IF(Table5[[#This Row],[Cost]],Table5[[#This Row],[Cost]]/Table5[[#This Row],[SizTB]]*Exchange_Rate,"") -> 26.331667 | Y4: =Table5[[#This Row],[Cost]]+((CompareWarrYrs-Table5[[#This Row],[Warranty]])*(Incremental_Warr_Yr*Table5[[#This Row],[Cost]]))*Exchange_Rate -> 192.7478 | Z4: =IF(Table5[[#This Row],[$+Warr]],Table5[[#This Row],[$+Warr]]/Table5[[#This Row],[SizTB]],"") -> 32.124633 | AA4: =IFERROR(Table5[[#This Row],[$PerTB]]/CompareWarrYrs,"") -> 6.4249267 | AB4: =IF(OR(Table5[[#This Row],[$ TB/year]]="",Table5[[#This Row],[Energy$yearPerTB]]=""),"",Table5[[#This Row],[$ TB/year]]+Table5[[#This Row],[Energy$yearPerTB]]) | AC4: 29 | AE4: owned by WD
A5: 43301 | B5: HGST | C5: Deskstar NAS | D5: NAS | E5: 3.5 | F5: 8 | G5: 7200 | I5: 11.99 | J5: =(Table5[[#This Row],[RPM]]/5400-1) -> 0.33333333 | K5: 205 | L5: 3 | M5: 600000 | O5: 1000000 | P5: =10^14 -> 100000000000000 | Q5: =1.2*5+2*12 -> 30 | S5: 5.1 | U5: ="" | V5: ="" | W5: 219.99 | X5: =IF(Table5[[#This Row],[Cost]],Table5[[#This Row],[Cost]]/Table5[[#This Row],[SizTB]]*Exchange_Rate,"") -> 27.49875 | Y5: =Table5[[#This Row],[Cost]]+((CompareWarrYrs-Table5[[#This Row],[Warranty]])*(Incremental_Warr_Yr*Table5[[#This Row],[Cost]]))*Exchange_Rate -> 268.3878 | Z5: =IF(Table5[[#This Row],[$+Warr]],Table5[[#This Row],[$+Warr]]/Table5[[#This Row],[SizTB]],"") -> 33.548475 | AA5: =IFERROR(Table5[[#This Row],[$PerTB]]/CompareWarrYrs,"") -> 6.709695 | AB5: =IF(OR(Table5[[#This Row],[$ TB/year]]="",Table5[[#This Row],[Energy$yearPerTB]]=""),"",Table5[[#This Row],[$ TB/year]]+Table5[[#This Row],[Energy$yearPerTB]]) | AC5: 29
A6: 43334 | B6: HGST | C6: Deskstar NAS | D6: NAS | E6: 3.5 | F6: 10 | G6: 7200 | I6: 11.99 | J6: =(Table5[[#This Row],[RPM]]/5400-1) -> 0.33333333 | K6: 240 | L6: 3 | M6: 600000 | O6: 1000000 | P6: =10^14 -> 100000000000000 | Q6: =1.2*5+2*12 -> 30 | S6: 5.1 | U6: ="" | V6: ="" | W6: 289.99 | X6: =IF(Table5[[#This Row],[Cost]],Table5[[#This Row],[Cost]]/Table5[[#This Row],[SizTB]]*Exchange_Rate,"") -> 28.999 | Y6: =Table5[[#This Row],[Cost]]+((CompareWarrYrs-Table5[[#This Row],[Warranty]])*(Incremental_Warr_Yr*Table5[[#This Row],[Cost]]))*Exchange_Rate -> 353.7878 | Z6: =IF(Table5[[#This Row],[$+Warr]],Table5[[#This Row],[$+Warr]]/Table5[[#This Row],[SizTB]],"") -> 35.37878 | AA6: =IFERROR(Table5[[#This Row],[$PerTB]]/CompareWarrYrs,"") -> 7.075756 | AB6: =IF(OR(Table5[[#This Row],[$ TB/year]]="",Table5[[#This Row],[Energy$yearPerTB]]=""),"",Table5[[#This Row],[$ TB/year]]+Table5[[#This Row],[Energy$yearPerTB]]) | AC6: 29
A7: 43298 | B7: HGST | C7: Travelstar 5K1000 | D7: LT | E7: 2.5 | F7: 1 | G7: 5400 | H7: 5.5 | I7: 12 | J7: =(Table5[[#This Row],[RPM]]/5400-1) -> 0 | K7: 99 | L7: 3 | M7: 600000 | Q7: 4.5 | R7: 1.6 | S7: 0.8 | T7: 0.2 | U7: =(((Table5[[#This Row],[Watts Active]]*Power_On_Hours_Year/1000)*Active_Duty_Cycle)+((Table5[[#This Row],[Watts Idle]]*Power_On_Hours_Year/1000)*(100%-Active_Duty_Cycle)))*CostPerKWH -> 1.0518912 | V7: =Table5[Energy$year]/Table5[[#This Row],[SizTB]] -> 1.0518912 | W7: 48.99 | X7: =IF(Table5[[#This Row],[Cost]],Table5[[#This Row],[Cost]]/Table5[[#This Row],[SizTB]]*Exchange_Rate,"") -> 48.99 | Y7: =Table5[[#This Row],[Cost]]+((CompareWarrYrs-Table5[[#This Row],[Warranty]])*(Incremental_Warr_Yr*Table5[[#This Row],[Cost]]))*Exchange_Rate -> 59.7678 | Z7: =IF(Table5[[#This Row],[$+Warr]],Table5[[#This Row],[$+Warr]]/Table5[[#This Row],[SizTB]],"") -> 59.7678 | AA7: =IFERROR(Table5[[#This Row],[$PerTB]]/CompareWarrYrs,"") -> 11.95356 | AB7: =IF(OR(Table5[[#This Row],[$ TB/year]]="",Table5[[#This Row],[Energy$yearPerTB]]=""),"",Table5[[#This Row],[$ TB/year]]+Table5[[#This Row],[Energy$yearPerTB]]) -> 13.005451
A8: 43298 | B8: HGST | C8: Travelstar 7K1000 | D8: LT | E8: 2.5 | F8: 1 | G8: 7200 | H8: 4.2 | I8: 12 | J8: =(Table5[[#This Row],[RPM]]/5400-1) -> 0.33333333 | K8: 128 | L8: 3 | M8: 600000 | Q8: 5.5 | R8: 2.7 | S8: 2 | T8: 0.2 | U8: =(((Table5[[#This Row],[Watts Active]]*Power_On_Hours_Year/1000)*Active_Duty_Cycle)+((Table5[[#This Row],[Watts Idle]]*Power_On_Hours_Year/1000)*(100%-Active_Duty_Cycle)))*CostPerKWH -> 2.3448408 | V8: =Table5[Energy$year]/Table5[[#This Row],[SizTB]] -> 2.3448408 | W8: 58.75 | X8: =IF(Table5[[#This Row],[Cost]],Table5[[#This Row],[Cost]]/Table5[[#This Row],[SizTB]]*Exchange_Rate,"") -> 58.75 | Y8: =Table5[[#This Row],[Cost]]+((CompareWarrYrs-Table5[[#This Row],[Warranty]])*(Incremental_Warr_Yr*Table5[[#This Row],[Cost]]))*Exchange_Rate -> 71.675 | Z8: =IF(Table5[[#This Row],[$+Warr]],Table5[[#This Row],[$+Warr]]/Table5[[#This Row],[SizTB]],"") -> 71.675 | AA8: =IFERROR(Table5[[#This Row],[$PerTB]]/CompareWarrYrs,"") -> 14.335 | AB8: =IF(OR(Table5[[#This Row],[$ TB/year]]="",Table5[[#This Row],[Energy$yearPerTB]]=""),"",Table5[[#This Row],[$ TB/year]]+Table5[[#This Row],[Energy$yearPerTB]]) -> 16.679841
A9: 43094 | B9: HGST | C9: Ultrastar 7K2000 | D9: NAS | E9: 3.5 | F9: 1 | G9: 7200 | H9: 4.2 | I9: 8.3 | J9: =(Table5[[#This Row],[RPM]]/5400-1) -> 0.33333333 | K9: 175 | L9: 5 | M9: 600000 | N9: 550 | O9: 2000000 | P9: 1e+15 | R9: 8.1 | S9: 5.9 | U9: =(((Table5[[#This Row],[Watts Active]]*Power_On_Hours_Year/1000)*Active_Duty_Cycle)+((Table5[[#This Row],[Watts Idle]]*Power_On_Hours_Year/1000)*(100%-Active_Duty_Cycle)))*CostPerKWH -> 6.9468648 | V9: =Table5[Energy$year]/Table5[[#This Row],[SizTB]] -> 6.9468648 | W9: 53.9 | X9: =IF(Table5[[#This Row],[Cost]],Table5[[#This Row],[Cost]]/Table5[[#This Row],[SizTB]]*Exchange_Rate,"") -> 53.9 | Y9: =Table5[[#This Row],[Cost]]+((CompareWarrYrs-Table5[[#This Row],[Warranty]])*(Incremental_Warr_Yr*Table5[[#This Row],[Cost]]))*Exchange_Rate -> 53.9 | Z9: =IF(Table5[[#This Row],[$+Warr]],Table5[[#This Row],[$+Warr]]/Table5[[#This Row],[SizTB]],"") -> 53.9 | AA9: =IFERROR(Table5[[#This Row],[$PerTB]]/CompareWarrYrs,"") -> 10.78 | AB9: =IF(OR(Table5[[#This Row],[$ TB/year]]="",Table5[[#This Row],[Energy$yearPerTB]]=""),"",Table5[[#This Row],[$ TB/year]]+Table5[[#This Row],[Energy$yearPerTB]]) -> 17.726865
A10: 43094 | B10: HGST | C10: Ultrastar 7K2000 | D10: NAS | E10: 3.5 | F10: 2 | G10: 7200 | H10: 4.2 | I10: 8.3 | J10: =(Table5[[#This Row],[RPM]]/5400-1) -> 0.33333333 | K10: 175 | L10: 5 | M10: 600000 | N10: 550 | O10: 2000000 | P10: 1e+15 | R10: 8.1 | S10: 5.9 | U10: =(((Table5[[#This Row],[Watts Active]]*Power_On_Hours_Year/1000)*Active_Duty_Cycle)+((Table5[[#This Row],[Watts Idle]]*Power_On_Hours_Year/1000)*(100%-Active_Duty_Cycle)))*CostPerKWH -> 6.9468648 | V10: =Table5[Energy$year]/Table5[[#This Row],[SizTB]] -> 3.4734324 | W10: 121.38 | X10: =IF(Table5[[#This Row],[Cost]],Table5[[#This Row],[Cost]]/Table5[[#This Row],[SizTB]]*Exchange_Rate,"") -> 60.69 | Y10: =Table5[[#This Row],[Cost]]+((CompareWarrYrs-Table5[[#This Row],[Warranty]])*(Incremental_Warr_Yr*Table5[[#This Row],[Cost]]))*Exchange_Rate -> 121.38 | Z10: =IF(Table5[[#This Row],[$+Warr]],Table5[[#This Row],[$+Warr]]/Table5[[#This Row],[SizTB]],"") -> 60.69 | AA10: =IFERROR(Table5[[#This Row],[$PerTB]]/CompareWarrYrs,"") -> 12.138 | AB10: =IF(OR(Table5[[#This Row],[$ TB/year]]="",Table5[[#This Row],[Energy$yearPerTB]]=""),"",Table5[[#This Row],[$ TB/year]]+Table5[[#This Row],[Energy$yearPerTB]]) -> 15.611432
A11: 43298 | B11: HGST | C11: Ultrastar 7K4000 | D11: NAS | E11: 3.5 | F11: 2 | G11: 7200 | I11: 8 | J11: =(Table5[[#This Row],[RPM]]/5400-1) -> 0.33333333 | K11: 171 | L11: 5 | M11: 600000 | O11: 2000000 | P11: 1e+15 | Q11: =2*12+1.2*5 -> 30 | R11: 11.4 | S11: 6.9 | U11: =(((Table5[[#This Row],[Watts Active]]*Power_On_Hours_Year/1000)*Active_Duty_Cycle)+((Table5[[#This Row],[Watts Idle]]*Power_On_Hours_Year/1000)*(100%-Active_Duty_Cycle)))*CostPerKWH -> 8.546616 | V11: =Table5[Energy$year]/Table5[[#This Row],[SizTB]] -> 4.273308 | W11: 120.89 | X11: =IF(Table5[[#This Row],[Cost]],Table5[[#This Row],[Cost]]/Table5[[#This Row],[SizTB]]*Exchange_Rate,"") -> 60.445 | Y11: =Table5[[#This Row],[Cost]]+((CompareWarrYrs-Table5[[#This Row],[Warranty]])*(Incremental_Warr_Yr*Table5[[#This Row],[Cost]])) -> 120.89 | Z11: =IF(Table5[[#This Row],[$+Warr]],Table5[[#This Row],[$+Warr]]/Table5[[#This Row],[SizTB]],"") -> 60.445 | AA11: =IFERROR(Table5[[#This Row],[$PerTB]]/CompareWarrYrs,"") -> 12.089 | AB11: =IF(OR(Table5[[#This Row],[$ TB/year]]="",Table5[[#This Row],[Energy$yearPerTB]]=""),"",Table5[[#This Row],[$ TB/year]]+Table5[[#This Row],[Energy$yearPerTB]]) -> 16.362308
A12: 43284 | B12: HGST | C12: Ultrastar 7K4000 | D12: NAS | E12: 3.5 | F12: 3 | G12: 7200 | I12: 8 | J12: =(Table5[[#This Row],[RPM]]/5400-1) -> 0.33333333 | K12: 171 | L12: 5 | M12: 600000 | O12: 2000000 | P12: 1e+15 | Q12: =2*12+1.2*5 -> 30 | R12: 11.4 | S12: 6.9 | U12: =(((Table5[[#This Row],[Watts Active]]*Power_On_Hours_Year/1000)*Active_Duty_Cycle)+((Table5[[#This Row],[Watts Idle]]*Power_On_Hours_Year/1000)*(100%-Active_Duty_Cycle)))*CostPerKWH -> 8.546616 | V12: =Table5[Energy$year]/Table5[[#This Row],[SizTB]] -> 2.848872 | W12: 170 | X12: =IF(Table5[[#This Row],[Cost]],Table5[[#This Row],[Cost]]/Table5[[#This Row],[SizTB]]*Exchange_Rate,"") -> 56.666667 | Y12: =Table5[[#This Row],[Cost]]+((CompareWarrYrs-Table5[[#This Row],[Warranty]])*(Incremental_Warr_Yr*Table5[[#This Row],[Cost]])) -> 170 | Z12: =IF(Table5[[#This Row],[$+Warr]],Table5[[#This Row],[$+Warr]]/Table5[[#This Row],[SizTB]],"") -> 56.666667 | AA12: =IFERROR(Table5[[#This Row],[$PerTB]]/CompareWarrYrs,"") -> 11.333333 | AB12: =IF(OR(Table5[[#This Row],[$ TB/year]]="",Table5[[#This Row],[Energy$yearPerTB]]=""),"",Table5[[#This Row],[$ TB/year]]+Table5[[#This Row],[Energy$yearPerTB]]) -> 14.182205
A13: 43298 | B13: HGST | C13: Ultrastar 7K4000 | D13: NAS | E13: 3.5 | F13: 4 | G13: 7200 | I13: 8 | J13: =(Table5[[#This Row],[RPM]]/5400-1) -> 0.33333333 | K13: 171 | L13: 5 | M13: 600000 | O13: 2000000 | P13: 1e+15 | Q13: =2*12+1.2*5 -> 30 | R13: 11.4 | S13: 6.9 | U13: =(((Table5[[#This Row],[Watts Active]]*Power_On_Hours_Year/1000)*Active_Duty_Cycle)+((Table5[[#This Row],[Watts Idle]]*Power_On_Hours_Year/1000)*(100%-Active_Duty_Cycle)))*CostPerKWH -> 8.546616 | V13: =Table5[Energy$year]/Table5[[#This Row],[SizTB]] -> 2.136654 | W13: 119.59 | X13: =IF(Table5[[#This Row],[Cost]],Table5[[#This Row],[Cost]]/Table5[[#This Row],[SizTB]]*Exchange_Rate,"") -> 29.8975 | Y13: =Table5[[#This Row],[Cost]]+((CompareWarrYrs-Table5[[#This Row],[Warranty]])*(Incremental_Warr_Yr*Table5[[#This Row],[Cost]])) -> 119.59 | Z13: =IF(Table5[[#This Row],[$+Warr]],Table5[[#This Row],[$+Warr]]/Table5[[#This Row],[SizTB]],"") -> 29.8975 | AA13: =IFERROR(Table5[[#This Row],[$PerTB]]/CompareWarrYrs,"") -> 5.9795 | AB13: =IF(OR(Table5[[#This Row],[$ TB/year]]="",Table5[[#This Row],[Energy$yearPerTB]]=""),"",Table5[[#This Row],[$ TB/year]]+Table5[[#This Row],[Energy$yearPerTB]]) -> 8.116154
A14: 43298 | B14: HGST | C14: Ultrastar 7K6000 | D14: NAS | E14: 3.5 | F14: 2 | G14: 7200 | H14: 4.16 | I14: 8 | J14: =(Table5[[#This Row],[RPM]]/5400-1) -> 0.33333333 | K14: 192 | L14: 5 | M14: 600000 | O14: 2000000 | P14: 1e+15 | R14: 9.1 | S14: 7.1 | U14: =(((Table5[[#This Row],[Watts Active]]*Power_On_Hours_Year/1000)*Active_Duty_Cycle)+((Table5[[#This Row],[Watts Idle]]*Power_On_Hours_Year/1000)*(100%-Active_Duty_Cycle)))*CostPerKWH -> 8.2179 | V14: =Table5[Energy$year]/Table5[[#This Row],[SizTB]] -> 4.10895 | W14: 154.21 | X14: =IF(Table5[[#This Row],[Cost]],Table5[[#This Row],[Cost]]/Table5[[#This Row],[SizTB]]*Exchange_Rate,"") -> 77.105 | Y14: =Table5[[#This Row],[Cost]]+((CompareWarrYrs-Table5[[#This Row],[Warranty]])*(Incremental_Warr_Yr*Table5[[#This Row],[Cost]]))*Exchange_Rate -> 154.21 | Z14: =IF(Table5[[#This Row],[$+Warr]],Table5[[#This Row],[$+Warr]]/Table5[[#This Row],[SizTB]],"") -> 77.105 | AA14: =IFERROR(Table5[[#This Row],[$PerTB]]/CompareWarrYrs,"") -> 15.421 | AB14: =IF(OR(Table5[[#This Row],[$ TB/year]]="",Table5[[#This Row],[Energy$yearPerTB]]=""),"",Table5[[#This Row],[$ TB/year]]+Table5[[#This Row],[Energy$yearPerTB]]) -> 19.52995 | AC14: =10*2.9 -> 29 | AD14: =10*3.6 -> 36
A15: 43053 | B15: HGST | C15: Ultrastar 7K6000 | D15: NAS | E15: 3.5 | F15: 4 | G15: 7200 | H15: 4.16 | I15: 8 | J15: =(Table5[[#This Row],[RPM]]/5400-1) -> 0.33333333 | K15: 192 | L15: 5 | M15: 600000 | O15: 2000000 | P15: 1e+15 | R15: 9.1 | S15: 7.1 | U15: =(((Table5[[#This Row],[Watts Active]]*Power_On_Hours_Year/1000)*Active_Duty_Cycle)+((Table5[[#This Row],[Watts Idle]]*Power_On_Hours_Year/1000)*(100%-Active_Duty_Cycle)))*CostPerKWH -> 8.2179 | V15: =Table5[Energy$year]/Table5[[#This Row],[SizTB]] -> 2.054475 | W15: 194.85 | X15: =IF(Table5[[#This Row],[Cost]],Table5[[#This Row],[Cost]]/Table5[[#This Row],[SizTB]]*Exchange_Rate,"") -> 48.7125 | Y15: =Table5[[#This Row],[Cost]]+((CompareWarrYrs-Table5[[#This Row],[Warranty]])*(Incremental_Warr_Yr*Table5[[#This Row],[Cost]]))*Exchange_Rate -> 194.85 | Z15: =IF(Table5[[#This Row],[$+Warr]],Table5[[#This Row],[$+Warr]]/Table5[[#This Row],[SizTB]],"") -> 48.7125 | AA15: =IFERROR(Table5[[#This Row],[$PerTB]]/CompareWarrYrs,"") -> 9.7425 | AB15: =IF(OR(Table5[[#This Row],[$ TB/year]]="",Table5[[#This Row],[Energy$yearPerTB]]=""),"",Table5[[#This Row],[$ TB/year]]+Table5[[#This Row],[Energy$yearPerTB]]) -> 11.796975 | AC15: =10*2.9 -> 29 | AD15: =10*3.6 -> 36
A16: 43053 | B16: HGST | C16: Ultrastar 7K6000 | D16: NAS | E16: 3.5 | F16: 5 | G16: 7200 | H16: 4.16 | I16: 8 | J16: =(Table5[[#This Row],[RPM]]/5400-1) -> 0.33333333 | K16: 192 | L16: 5 | M16: 600000 | O16: 2000000 | P16: 1e+15 | R16: 9.1 | S16: 7.1 | U16: =(((Table5[[#This Row],[Watts Active]]*Power_On_Hours_Year/1000)*Active_Duty_Cycle)+((Table5[[#This Row],[Watts Idle]]*Power_On_Hours_Year/1000)*(100%-Active_Duty_Cycle)))*CostPerKWH -> 8.2179 | V16: =Table5[Energy$year]/Table5[[#This Row],[SizTB]] -> 1.64358 | W16: 281.96 | X16: =IF(Table5[[#This Row],[Cost]],Table5[[#This Row],[Cost]]/Table5[[#This Row],[SizTB]]*Exchange_Rate,"") -> 56.392 | Y16: =Table5[[#This Row],[Cost]]+((CompareWarrYrs-Table5[[#This Row],[Warranty]])*(Incremental_Warr_Yr*Table5[[#This Row],[Cost]]))*Exchange_Rate -> 281.96 | Z16: =IF(Table5[[#This Row],[$+Warr]],Table5[[#This Row],[$+Warr]]/Table5[[#This Row],[SizTB]],"") -> 56.392 | AA16: =IFERROR(Table5[[#This Row],[$PerTB]]/CompareWarrYrs,"") -> 11.2784 | AB16: =IF(OR(Table5[[#This Row],[$ TB/year]]="",Table5[[#This Row],[Energy$yearPerTB]]=""),"",Table5[[#This Row],[$ TB/year]]+Table5[[#This Row],[Energy$yearPerTB]]) -> 12.92198 | AC16: =10*2.9 -> 29 | AD16: =10*3.6 -> 36
A17: 43179 | B17: HGST | C17: Ultrastar 7K6000 | D17: NAS | E17: 3.5 | F17: 6 | G17: 7200 | H17: 4.16 | I17: 8 | J17: =(Table5[[#This Row],[RPM]]/5400-1) -> 0.33333333 | K17: 216 | L17: 5 | M17: 600000 | O17: 2000000 | P17: 1e+15 | R17: 9.1 | S17: 7.1 | U17: =(((Table5[[#This Row],[Watts Active]]*Power_On_Hours_Year/1000)*Active_Duty_Cycle)+((Table5[[#This Row],[Watts Idle]]*Power_On_Hours_Year/1000)*(100%-Active_Duty_Cycle)))*CostPerKWH -> 8.2179 | V17: =Table5[Energy$year]/Table5[[#This Row],[SizTB]] -> 1.36965 | W17: =273.99+7.73 -> 281.72 | X17: =IF(Table5[[#This Row],[Cost]],Table5[[#This Row],[Cost]]/Table5[[#This Row],[SizTB]]*Exchange_Rate,"") -> 46.953333 | Y17: =Table5[[#This Row],[Cost]]+((CompareWarrYrs-Table5[[#This Row],[Warranty]])*(Incremental_Warr_Yr*Table5[[#This Row],[Cost]]))*Exchange_Rate -> 281.72 | Z17: =IF(Table5[[#This Row],[$+Warr]],Table5[[#This Row],[$+Warr]]/Table5[[#This Row],[SizTB]],"") -> 46.953333 | AA17: =IFERROR(Table5[[#This Row],[$PerTB]]/CompareWarrYrs,"") -> 9.3906667 | AB17: =IF(OR(Table5[[#This Row],[$ TB/year]]="",Table5[[#This Row],[Energy$yearPerTB]]=""),"",Table5[[#This Row],[$ TB/year]]+Table5[[#This Row],[Energy$yearPerTB]]) -> 10.760317 | AC17: =10*2.9 -> 29 | AD17: =10*3.6 -> 36
A18: 43033 | B18: HGST | C18: Ultrastar Archive Ha10 | D18: SMR | E18: 3.5 | F18: 8 | G18: 7200 | H18: 4.16 | I18: 8.5 | J18: =(Table5[[#This Row],[RPM]]/5400-1) -> 0.33333333 | K18: 157 | L18: 5 | M18: 600000 | O18: 2000000 | P18: 1e+15 | R18: 7.6 | S18: 5.1 | U18: =(((Table5[[#This Row],[Watts Active]]*Power_On_Hours_Year/1000)*Active_Duty_Cycle)+((Table5[[#This Row],[Watts Idle]]*Power_On_Hours_Year/1000)*(100%-Active_Duty_Cycle)))*CostPerKWH -> 6.136032 | V18: =Table5[Energy$year]/Table5[[#This Row],[SizTB]] -> 0.767004 | W18: 373 | X18: =IF(Table5[[#This Row],[Cost]],Table5[[#This Row],[Cost]]/Table5[[#This Row],[SizTB]]*Exchange_Rate,"") -> 46.625 | Y18: =Table5[[#This Row],[Cost]]+((CompareWarrYrs-Table5[[#This Row],[Warranty]])*(Incremental_Warr_Yr*Table5[[#This Row],[Cost]]))*Exchange_Rate -> 373 | Z18: =IF(Table5[[#This Row],[$+Warr]],Table5[[#This Row],[$+Warr]]/Table5[[#This Row],[SizTB]],"") -> 46.625 | AA18: =IFERROR(Table5[[#This Row],[$PerTB]]/CompareWarrYrs,"") -> 9.325 | AB18: =IF(OR(Table5[[#This Row],[$ TB/year]]="",Table5[[#This Row],[Energy$yearPerTB]]=""),"",Table5[[#This Row],[$ TB/year]]+Table5[[#This Row],[Energy$yearPerTB]]) -> 10.092004 | AE18: Helium filled, Shingled (SMR)
A19: 43114 | B19: HGST | C19: Ultrastar C10K900 | D19: NAS | E19: 2.5 | F19: 0.9 | G19: 10520 | H19: 2.85 | I19: 8.5 | J19: =(Table5[[#This Row],[RPM]]/5400-1) -> 0.94814815 | K19: 224 | L19: 5 | O19: 2000000 | P19: 1e+16 | R19: 6.5 | S19: 4.7 | U19: =(((Table5[[#This Row],[Watts Active]]*Power_On_Hours_Year/1000)*Active_Duty_Cycle)+((Table5[[#This Row],[Watts Idle]]*Power_On_Hours_Year/1000)*(100%-Active_Duty_Cycle)))*CostPerKWH -> 5.5443432 | V19: =Table5[Energy$year]/Table5[[#This Row],[SizTB]] -> 6.1603813 | W19: 129.99 | X19: =IF(Table5[[#This Row],[Cost]],Table5[[#This Row],[Cost]]/Table5[[#This Row],[SizTB]]*Exchange_Rate,"") -> 144.43333 | Y19: =Table5[[#This Row],[Cost]]+((CompareWarrYrs-Table5[[#This Row],[Warranty]])*(Incremental_Warr_Yr*Table5[[#This Row],[Cost]]))*Exchange_Rate -> 129.99 | Z19: =IF(Table5[[#This Row],[$+Warr]],Table5[[#This Row],[$+Warr]]/Table5[[#This Row],[SizTB]],"") -> 144.43333 | AA19: =IFERROR(Table5[[#This Row],[$PerTB]]/CompareWarrYrs,"") -> 28.886667 | AB19: =IF(OR(Table5[[#This Row],[$ TB/year]]="",Table5[[#This Row],[Energy$yearPerTB]]=""),"",Table5[[#This Row],[$ TB/year]]+Table5[[#This Row],[Energy$yearPerTB]]) -> 35.047048
A20: 43114 | B20: HGST | C20: Ultrastar C10K1200 | D20: NAS | E20: 2.5 | F20: 1.2 | G20: 10520 | H20: 2.85 | I20: 8.5 | J20: =(Table5[[#This Row],[RPM]]/5400-1) -> 0.94814815 | K20: 224 | L20: 5 | O20: 2000000 | P20: 1e+16 | R20: 6.5 | S20: 4.7 | U20: =(((Table5[[#This Row],[Watts Active]]*Power_On_Hours_Year/1000)*Active_Duty_Cycle)+((Table5[[#This Row],[Watts Idle]]*Power_On_Hours_Year/1000)*(100%-Active_Duty_Cycle)))*CostPerKWH -> 5.5443432 | V20: =Table5[Energy$year]/Table5[[#This Row],[SizTB]] -> 4.620286 | W20: 170 | X20: =IF(Table5[[#This Row],[Cost]],Table5[[#This Row],[Cost]]/Table5[[#This Row],[SizTB]]*Exchange_Rate,"") -> 141.66667 | Y20: =Table5[[#This Row],[Cost]]+((CompareWarrYrs-Table5[[#This Row],[Warranty]])*(Incremental_Warr_Yr*Table5[[#This Row],[Cost]]))*Exchange_Rate -> 170 | Z20: =IF(Table5[[#This Row],[$+Warr]],Table5[[#This Row],[$+Warr]]/Table5[[#This Row],[SizTB]],"") -> 141.66667 | AA20: =IFERROR(Table5[[#This Row],[$PerTB]]/CompareWarrYrs,"") -> 28.333333 | AB20: =IF(OR(Table5[[#This Row],[$ TB/year]]="",Table5[[#This Row],[Energy$yearPerTB]]=""),"",Table5[[#This Row],[$ TB/year]]+Table5[[#This Row],[Energy$yearPerTB]]) -> 32.953619
A21: 43114 | B21: HGST | C21: Ultrastar C10K1800 | D21: NAS | E21: 2.5 | F21: 1.8 | G21: 10520 | H21: 2.85 | I21: 8.5 | J21: =(Table5[[#This Row],[RPM]]/5400-1) -> 0.94814815 | K21: 224 | L21: 5 | O21: 2000000 | P21: 1e+16 | R21: 6.6 | S21: 4.7 | U21: =(((Table5[[#This Row],[Watts Active]]*Power_On_Hours_Year/1000)*Active_Duty_Cycle)+((Table5[[#This Row],[Watts Idle]]*Power_On_Hours_Year/1000)*(100%-Active_Duty_Cycle)))*CostPerKWH -> 5.5662576 | V21: =Table5[Energy$year]/Table5[[#This Row],[SizTB]] -> 3.0923653 | W21: 199.99 | X21: =IF(Table5[[#This Row],[Cost]],Table5[[#This Row],[Cost]]/Table5[[#This Row],[SizTB]]*Exchange_Rate,"") -> 111.10556 | Y21: =Table5[[#This Row],[Cost]]+((CompareWarrYrs-Table5[[#This Row],[Warranty]])*(Incremental_Warr_Yr*Table5[[#This Row],[Cost]]))*Exchange_Rate -> 199.99 | Z21: =IF(Table5[[#This Row],[$+Warr]],Table5[[#This Row],[$+Warr]]/Table5[[#This Row],[SizTB]],"") -> 111.10556 | AA21: =IFERROR(Table5[[#This Row],[$PerTB]]/CompareWarrYrs,"") -> 22.221111 | AB21: =IF(OR(Table5[[#This Row],[$ TB/year]]="",Table5[[#This Row],[Energy$yearPerTB]]=""),"",Table5[[#This Row],[$ TB/year]]+Table5[[#This Row],[Energy$yearPerTB]]) -> 25.313476
A22: 43284 | B22: HGST | C22: Ultrastar C15K600 | D22: NAS | E22: 2.5 | F22: 0.6 | G22: 15030 | H22: 1.99 | I22: 8.5 | J22: =(Table5[[#This Row],[RPM]]/5400-1) -> 1.7833333 | K22: 250 | L22: 5 | O22: 2000000 | P22: 1e+17 | R22: 7.5 | S22: 5.8 | U22: =(((Table5[[#This Row],[Watts Active]]*Power_On_Hours_Year/1000)*Active_Duty_Cycle)+((Table5[[#This Row],[Watts Idle]]*Power_On_Hours_Year/1000)*(100%-Active_Duty_Cycle)))*CostPerKWH -> 6.7277208 | V22: =Table5[Energy$year]/Table5[[#This Row],[SizTB]] -> 11.212868 | W22: 169.99 | X22: =IF(Table5[[#This Row],[Cost]],Table5[[#This Row],[Cost]]/Table5[[#This Row],[SizTB]]*Exchange_Rate,"") -> 283.31667 | Y22: =Table5[[#This Row],[Cost]]+((CompareWarrYrs-Table5[[#This Row],[Warranty]])*(Incremental_Warr_Yr*Table5[[#This Row],[Cost]]))*Exchange_Rate -> 169.99 | Z22: =IF(Table5[[#This Row],[$+Warr]],Table5[[#This Row],[$+Warr]]/Table5[[#This Row],[SizTB]],"") -> 283.31667 | AA22: =IFERROR(Table5[[#This Row],[$PerTB]]/CompareWarrYrs,"") -> 56.663333 | AB22: =IF(OR(Table5[[#This Row],[$ TB/year]]="",Table5[[#This Row],[Energy$yearPerTB]]=""),"",Table5[[#This Row],[$ TB/year]]+Table5[[#This Row],[Energy$yearPerTB]]) -> 67.876201 | AE22: 32GB NAND, Media caching
A23: 43284 | B23: HGST | C23: Ultrastar He6 | D23: NAS | E23: 3.5 | F23: 6 | G23: 7200 | H23: 4.16 | I23: 8.5 | J23: =(Table5[[#This Row],[RPM]]/5400-1) -> 0.33333333 | K23: 195 | L23: 5 | M23: 600000 | N23: 550 | O23: 2500000 | P23: 1e+15 | R23: 7.4 | S23: 5.1 | U23: =(((Table5[[#This Row],[Watts Active]]*Power_On_Hours_Year/1000)*Active_Duty_Cycle)+((Table5[[#This Row],[Watts Idle]]*Power_On_Hours_Year/1000)*(100%-Active_Duty_Cycle)))*CostPerKWH -> 6.0922032 | V23: =Table5[Energy$year]/Table5[[#This Row],[SizTB]] -> 1.0153672 | W23: =313.6+12.95 -> 326.55 | X23: =IF(Table5[[#This Row],[Cost]],Table5[[#This Row],[Cost]]/Table5[[#This Row],[SizTB]]*Exchange_Rate,"") -> 54.425 | Y23: =Table5[[#This Row],[Cost]]+((CompareWarrYrs-Table5[[#This Row],[Warranty]])*(Incremental_Warr_Yr*Table5[[#This Row],[Cost]]))*Exchange_Rate -> 326.55 | Z23: =IF(Table5[[#This Row],[$+Warr]],Table5[[#This Row],[$+Warr]]/Table5[[#This Row],[SizTB]],"") -> 54.425 | AA23: =IFERROR(Table5[[#This Row],[$PerTB]]/CompareWarrYrs,"") -> 10.885 | AB23: =IF(OR(Table5[[#This Row],[$ TB/year]]="",Table5[[#This Row],[Energy$yearPerTB]]=""),"",Table5[[#This Row],[$ TB/year]]+Table5[[#This Row],[Energy$yearPerTB]]) -> 11.900367 | AC23: 20 | AE23: Helium filled
A24: 43284 | B24: HGST | C24: Ultrastar He8 | D24: NAS | E24: 3.5 | F24: 8 | G24: 7200 | H24: 4.16 | I24: 8.5 | J24: =(Table5[[#This Row],[RPM]]/5400-1) -> 0.33333333 | K24: 237 | L24: 5 | M24: 600000 | N24: 550 | O24: 2500000 | P24: 1e+15 | R24: 7.4 | S24: 5.1 | U24: =(((Table5[[#This Row],[Watts Active]]*Power_On_Hours_Year/1000)*Active_Duty_Cycle)+((Table5[[#This Row],[Watts Idle]]*Power_On_Hours_Year/1000)*(100%-Active_Duty_Cycle)))*CostPerKWH -> 6.0922032 | V24: =Table5[Energy$year]/Table5[[#This Row],[SizTB]] -> 0.7615254 | W24: 330.59 | X24: =IF(Table5[[#This Row],[Cost]],Table5[[#This Row],[Cost]]/Table5[[#This Row],[SizTB]]*Exchange_Rate,"") -> 41.32375 | Y24: =Table5[[#This Row],[Cost]]+((CompareWarrYrs-Table5[[#This Row],[Warranty]])*(Incremental_Warr_Yr*Table5[[#This Row],[Cost]]))*Exchange_Rate -> 330.59 | Z24: =IF(Table5[[#This Row],[$+Warr]],Table5[[#This Row],[$+Warr]]/Table5[[#This Row],[SizTB]],"") -> 41.32375 | AA24: =IFERROR(Table5[[#This Row],[$PerTB]]/CompareWarrYrs,"") -> 8.26475 | AB24: =IF(OR(Table5[[#This Row],[$ TB/year]]="",Table5[[#This Row],[Energy$yearPerTB]]=""),"",Table5[[#This Row],[$ TB/year]]+Table5[[#This Row],[Energy$yearPerTB]]) -> 9.0262754 | AC24: 20 | AD24: 36 | AE24: Helium filled, Media caching
A25: 43284 | B25: HGST | C25: Ultrastar He10 | D25: NAS | E25: 3.5 | F25: 10 | G25: 7200 | H25: 4.16 | I25: 8.5 | J25: =(Table5[[#This Row],[RPM]]/5400-1) -> 0.33333333 | K25: 237 | L25: 5 | M25: 600000 | N25: 550 | O25: 2500000 | P25: 1e+15 | R25: 6.8 | S25: 5 | U25: =(((Table5[[#This Row],[Watts Active]]*Power_On_Hours_Year/1000)*Active_Duty_Cycle)+((Table5[[#This Row],[Watts Idle]]*Power_On_Hours_Year/1000)*(100%-Active_Duty_Cycle)))*CostPerKWH -> 5.8730592 | V25: =Table5[Energy$year]/Table5[[#This Row],[SizTB]] -> 0.58730592 | W25: 344.56 | X25: =IF(Table5[[#This Row],[Cost]],Table5[[#This Row],[Cost]]/Table5[[#This Row],[SizTB]]*Exchange_Rate,"") -> 34.456 | Y25: =Table5[[#This Row],[Cost]]+((CompareWarrYrs-Table5[[#This Row],[Warranty]])*(Incremental_Warr_Yr*Table5[[#This Row],[Cost]]))*Exchange_Rate -> 344.56 | Z25: =IF(Table5[[#This Row],[$+Warr]],Table5[[#This Row],[$+Warr]]/Table5[[#This Row],[SizTB]],"") -> 34.456 | AA25: =IFERROR(Table5[[#This Row],[$PerTB]]/CompareWarrYrs,"") -> 6.8912 | AB25: =IF(OR(Table5[[#This Row],[$ TB/year]]="",Table5[[#This Row],[Energy$yearPerTB]]=""),"",Table5[[#This Row],[$ TB/year]]+Table5[[#This Row],[Energy$yearPerTB]]) -> 7.4785059 | AC25: 20 | AD25: 36 | AE25: Helium filled
A26: 43284 | B26: HGST | C26: Ultrastar He12 | D26: NAS | E26: 3.5 | F26: 12 | G26: 7200 | H26: 4.16 | I26: 8.5 | J26: =(Table5[[#This Row],[RPM]]/5400-1) -> 0.33333333 | K26: 243 | L26: 5 | M26: 600000 | N26: 550 | O26: 2500000 | P26: 1e+15 | R26: 7.2 | S26: 5.3 | U26: =(((Table5[[#This Row],[Watts Active]]*Power_On_Hours_Year/1000)*Active_Duty_Cycle)+((Table5[[#This Row],[Watts Idle]]*Power_On_Hours_Year/1000)*(100%-Active_Duty_Cycle)))*CostPerKWH -> 6.2236896 | V26: =Table5[Energy$year]/Table5[[#This Row],[SizTB]] -> 0.5186408 | W26: 429.99 | X26: =IF(Table5[[#This Row],[Cost]],Table5[[#This Row],[Cost]]/Table5[[#This Row],[SizTB]]*Exchange_Rate,"") -> 35.8325 | Y26: =Table5[[#This Row],[Cost]]+((CompareWarrYrs-Table5[[#This Row],[Warranty]])*(Incremental_Warr_Yr*Table5[[#This Row],[Cost]]))*Exchange_Rate -> 429.99 | Z26: =IF(Table5[[#This Row],[$+Warr]],Table5[[#This Row],[$+Warr]]/Table5[[#This Row],[SizTB]],"") -> 35.8325 | AA26: =IFERROR(Table5[[#This Row],[$PerTB]]/CompareWarrYrs,"") -> 7.1665 | AB26: =IF(OR(Table5[[#This Row],[$ TB/year]]="",Table5[[#This Row],[Energy$yearPerTB]]=""),"",Table5[[#This Row],[$ TB/year]]+Table5[[#This Row],[Energy$yearPerTB]]) -> 7.6851408 | AC26: 20 | AD26: 36 | AE26: Helium filled
A27: 43127 | B27: HGST | C27: Ultrastar Hs14 | D27: SMR | E27: 3.5 | F27: 14 | G27: 7200 | H27: 4.16 | I27: 8.5 | J27: =(Table5[[#This Row],[RPM]]/5400-1) -> 0.33333333 | K27: 223 | L27: 5 | M27: 600000 | N27: 550 | O27: 2500000 | P27: 1e+15 | Q27: =12*1.51+5*0.39 -> 20.07 | R27: 6.4 | S27: 5.2 | T27: 0.8 | U27: =(((Table5[[#This Row],[Watts Active]]*Power_On_Hours_Year/1000)*Active_Duty_Cycle)+((Table5[[#This Row],[Watts Idle]]*Power_On_Hours_Year/1000)*(100%-Active_Duty_Cycle)))*CostPerKWH -> 5.9607168 | V27: =Table5[Energy$year]/Table5[[#This Row],[SizTB]] -> 0.42576549 | W27: 650 | X27: =IF(Table5[[#This Row],[Cost]],Table5[[#This Row],[Cost]]/Table5[[#This Row],[SizTB]]*Exchange_Rate,"") -> 46.428571 | Y27: =Table5[[#This Row],[Cost]]+((CompareWarrYrs-Table5[[#This Row],[Warranty]])*(Incremental_Warr_Yr*Table5[[#This Row],[Cost]]))*Exchange_Rate -> 650 | Z27: =IF(Table5[[#This Row],[$+Warr]],Table5[[#This Row],[$+Warr]]/Table5[[#This Row],[SizTB]],"") -> 46.428571 | AA27: =IFERROR(Table5[[#This Row],[$PerTB]]/CompareWarrYrs,"") -> 9.2857143 | AB27: =IF(OR(Table5[[#This Row],[$ TB/year]]="",Table5[[#This Row],[Energy$yearPerTB]]=""),"",Table5[[#This Row],[$ TB/year]]+Table5[[#This Row],[Energy$yearPerTB]]) -> 9.7114798 | AC27: 20 | AD27: 36 | AE27: Helium filled, Shingled (SMR)
A28: 43064 | B28: Seagate | C28: Archive | D28: SMR | E28: 3.5 | F28: 5 | G28: 5900 | J28: =(Table5[[#This Row],[RPM]]/5400-1) -> 0.092592593 | K28: 180 | L28: 3 | M28: 300000 | N28: 180 | O28: 800000 | P28: =10^14 -> 100000000000000 | Q28: 24 | R28: 5.5 | S28: 3.5 | T28: 0.74 | U28: =(((Table5[[#This Row],[Watts Active]]*Power_On_Hours_Year/1000)*Active_Duty_Cycle)+((Table5[[#This Row],[Watts Idle]]*Power_On_Hours_Year/1000)*(100%-Active_Duty_Cycle)))*CostPerKWH -> 4.273308 | V28: =Table5[Energy$year]/Table5[[#This Row],[SizTB]] -> 0.8546616 | W28: 212 | X28: =IF(Table5[[#This Row],[Cost]],Table5[[#This Row],[Cost]]/Table5[[#This Row],[SizTB]]*Exchange_Rate,"") -> 42.4 | Y28: =Table5[[#This Row],[Cost]]+((CompareWarrYrs-Table5[[#This Row],[Warranty]])*(Incremental_Warr_Yr*Table5[[#This Row],[Cost]]))*Exchange_Rate -> 258.64 | Z28: =IF(Table5[[#This Row],[$+Warr]],Table5[[#This Row],[$+Warr]]/Table5[[#This Row],[SizTB]],"") -> 51.728 | AA28: =IFERROR(Table5[[#This Row],[$PerTB]]/CompareWarrYrs,"") -> 10.3456 | AB28: =IF(OR(Table5[[#This Row],[$ TB/year]]="",Table5[[#This Row],[Energy$yearPerTB]]=""),"",Table5[[#This Row],[$ TB/year]]+Table5[[#This Row],[Energy$yearPerTB]]) -> 11.200262
A29: 43064 | B29: Seagate | C29: Archive | D29: SMR | E29: 3.5 | F29: 6 | G29: 5900 | J29: =(Table5[[#This Row],[RPM]]/5400-1) -> 0.092592593 | K29: 190 | L29: 3 | M29: 300000 | N29: 180 | O29: 800000 | P29: =10^14 -> 100000000000000 | Q29: 24 | R29: 7.5 | S29: 5 | T29: 0.999 | U29: =(((Table5[[#This Row],[Watts Active]]*Power_On_Hours_Year/1000)*Active_Duty_Cycle)+((Table5[[#This Row],[Watts Idle]]*Power_On_Hours_Year/1000)*(100%-Active_Duty_Cycle)))*CostPerKWH -> 6.02646 | V29: =Table5[Energy$year]/Table5[[#This Row],[SizTB]] -> 1.00441 | W29: 194.79 | X29: =IF(Table5[[#This Row],[Cost]],Table5[[#This Row],[Cost]]/Table5[[#This Row],[SizTB]]*Exchange_Rate,"") -> 32.465 | Y29: =Table5[[#This Row],[Cost]]+((CompareWarrYrs-Table5[[#This Row],[Warranty]])*(Incremental_Warr_Yr*Table5[[#This Row],[Cost]]))*Exchange_Rate -> 237.6438 | Z29: =IF(Table5[[#This Row],[$+Warr]],Table5[[#This Row],[$+Warr]]/Table5[[#This Row],[SizTB]],"") -> 39.6073 | AA29: =IFERROR(Table5[[#This Row],[$PerTB]]/CompareWarrYrs,"") -> 7.92146 | AB29: =IF(OR(Table5[[#This Row],[$ TB/year]]="",Table5[[#This Row],[Energy$yearPerTB]]=""),"",Table5[[#This Row],[$ TB/year]]+Table5[[#This Row],[Energy$yearPerTB]]) -> 8.92587
A30: 43066 | B30: Seagate | C30: Archive | D30: SMR | E30: 3.5 | F30: 8 | G30: 5900 | H30: 5.5 | I30: 11.99 | J30: =(Table5[[#This Row],[RPM]]/5400-1) -> 0.092592593 | K30: 190 | L30: 3 | M30: 300000 | N30: 180 | O30: 800000 | P30: =10^14 -> 100000000000000 | Q30: 24 | R30: 7.5 | S30: 5 | T30: 0.999 | U30: =(((Table5[[#This Row],[Watts Active]]*Power_On_Hours_Year/1000)*Active_Duty_Cycle)+((Table5[[#This Row],[Watts Idle]]*Power_On_Hours_Year/1000)*(100%-Active_Duty_Cycle)))*CostPerKWH -> 6.02646 | V30: =Table5[Energy$year]/Table5[[#This Row],[SizTB]] -> 0.7533075 | W30: 221.88 | X30: =IF(Table5[[#This Row],[Cost]],Table5[[#This Row],[Cost]]/Table5[[#This Row],[SizTB]]*Exchange_Rate,"") -> 27.735 | Y30: =Table5[[#This Row],[Cost]]+((CompareWarrYrs-Table5[[#This Row],[Warranty]])*(Incremental_Warr_Yr*Table5[[#This Row],[Cost]]))*Exchange_Rate -> 270.6936 | Z30: =IF(Table5[[#This Row],[$+Warr]],Table5[[#This Row],[$+Warr]]/Table5[[#This Row],[SizTB]],"") -> 33.8367 | AA30: =IFERROR(Table5[[#This Row],[$PerTB]]/CompareWarrYrs,"") -> 6.76734 | AB30: =IF(OR(Table5[[#This Row],[$ TB/year]]="",Table5[[#This Row],[Energy$yearPerTB]]=""),"",Table5[[#This Row],[$ TB/year]]+Table5[[#This Row],[Energy$yearPerTB]]) -> 7.5206475
A31: 43320 | B31: Seagate | C31: BarraCuda | D31: LT | E31: 2.5 | F31: 1 | G31: 5400 | J31: =(Table5[[#This Row],[RPM]]/5400-1) -> 0 | K31: 140 | L31: 2 | M31: 600000 | P31: =10^14 -> 100000000000000 | Q31: =1*5 -> 5 | R31: 1.7 | S31: 0.45 | U31: =(((Table5[[#This Row],[Watts Active]]*Power_On_Hours_Year/1000)*Active_Duty_Cycle)+((Table5[[#This Row],[Watts Idle]]*Power_On_Hours_Year/1000)*(100%-Active_Duty_Cycle)))*CostPerKWH -> 0.767004 | V31: =Table5[Energy$year]/Table5[[#This Row],[SizTB]] -> 0.767004 | W31: 41.99 | X31: =IF(Table5[[#This Row],[Cost]],Table5[[#This Row],[Cost]]/Table5[[#This Row],[SizTB]]*Exchange_Rate,"") -> 41.99 | Y31: =Table5[[#This Row],[Cost]]+((CompareWarrYrs-Table5[[#This Row],[Warranty]])*(Incremental_Warr_Yr*Table5[[#This Row],[Cost]]))*Exchange_Rate -> 55.8467 | Z31: =IF(Table5[[#This Row],[$+Warr]],Table5[[#This Row],[$+Warr]]/Table5[[#This Row],[SizTB]],"") -> 55.8467 | AA31: =IFERROR(Table5[[#This Row],[$PerTB]]/CompareWarrYrs,"") -> 11.16934 | AB31: =IF(OR(Table5[[#This Row],[$ TB/year]]="",Table5[[#This Row],[Energy$yearPerTB]]=""),"",Table5[[#This Row],[$ TB/year]]+Table5[[#This Row],[Energy$yearPerTB]]) -> 11.936344 | AC31: 22 | AD31: 24
A32: 43334 | B32: Seagate | C32: BarraCuda | D32: LT | E32: 2.5 | F32: 2 | G32: 5400 | J32: =(Table5[[#This Row],[RPM]]/5400-1) -> 0 | K32: 140 | L32: 2 | M32: 600000 | P32: =10^14 -> 100000000000000 | Q32: =1*5 -> 5 | R32: 1.8 | S32: 0.5 | U32: =(((Table5[[#This Row],[Watts Active]]*Power_On_Hours_Year/1000)*Active_Duty_Cycle)+((Table5[[#This Row],[Watts Idle]]*Power_On_Hours_Year/1000)*(100%-Active_Duty_Cycle)))*CostPerKWH -> 0.8327472 | V32: =Table5[Energy$year]/Table5[[#This Row],[SizTB]] -> 0.4163736 | W32: 69.99 | X32: =IF(Table5[[#This Row],[Cost]],Table5[[#This Row],[Cost]]/Table5[[#This Row],[SizTB]]*Exchange_Rate,"") -> 34.995 | Y32: =Table5[[#This Row],[Cost]]+((CompareWarrYrs-Table5[[#This Row],[Warranty]])*(Incremental_Warr_Yr*Table5[[#This Row],[Cost]]))*Exchange_Rate -> 93.0867 | Z32: =IF(Table5[[#This Row],[$+Warr]],Table5[[#This Row],[$+Warr]]/Table5[[#This Row],[SizTB]],"") -> 46.54335 | AA32: =IFERROR(Table5[[#This Row],[$PerTB]]/CompareWarrYrs,"") -> 9.30867 | AB32: =IF(OR(Table5[[#This Row],[$ TB/year]]="",Table5[[#This Row],[Energy$yearPerTB]]=""),"",Table5[[#This Row],[$ TB/year]]+Table5[[#This Row],[Energy$yearPerTB]]) -> 9.7250436 | AC32: 24 | AD32: 26
A33: 43114 | B33: Seagate | C33: BarraCuda | D33: LT | E33: 2.5 | F33: 3 | G33: 5400 | J33: =(Table5[[#This Row],[RPM]]/5400-1) -> 0 | K33: 140 | L33: 2 | M33: 600000 | P33: =10^14 -> 100000000000000 | Q33: =1.2*5 -> 6 | R33: 2.1 | S33: 1.1 | U33: =(((Table5[[#This Row],[Watts Active]]*Power_On_Hours_Year/1000)*Active_Duty_Cycle)+((Table5[[#This Row],[Watts Idle]]*Power_On_Hours_Year/1000)*(100%-Active_Duty_Cycle)))*CostPerKWH -> 1.424436 | V33: =Table5[Energy$year]/Table5[[#This Row],[SizTB]] -> 0.474812 | W33: 129.99 | X33: =IF(Table5[[#This Row],[Cost]],Table5[[#This Row],[Cost]]/Table5[[#This Row],[SizTB]]*Exchange_Rate,"") -> 43.33 | Y33: =Table5[[#This Row],[Cost]]+((CompareWarrYrs-Table5[[#This Row],[Warranty]])*(Incremental_Warr_Yr*Table5[[#This Row],[Cost]]))*Exchange_Rate -> 172.8867 | Z33: =IF(Table5[[#This Row],[$+Warr]],Table5[[#This Row],[$+Warr]]/Table5[[#This Row],[SizTB]],"") -> 57.6289 | AA33: =IFERROR(Table5[[#This Row],[$PerTB]]/CompareWarrYrs,"") -> 11.52578 | AB33: =IF(OR(Table5[[#This Row],[$ TB/year]]="",Table5[[#This Row],[Energy$yearPerTB]]=""),"",Table5[[#This Row],[$ TB/year]]+Table5[[#This Row],[Energy$yearPerTB]]) -> 12.000592 | AC33: 26 | AD33: 27
A34: 43103 | B34: Seagate | C34: BarraCuda | D34: LT | E34: 2.5 | F34: 4 | G34: 5400 | J34: =(Table5[[#This Row],[RPM]]/5400-1) -> 0 | K34: 140 | L34: 2 | M34: 600000 | P34: =10^14 -> 100000000000000 | Q34: =1.2*5 -> 6 | R34: 2.1 | S34: 1.1 | U34: =(((Table5[[#This Row],[Watts Active]]*Power_On_Hours_Year/1000)*Active_Duty_Cycle)+((Table5[[#This Row],[Watts Idle]]*Power_On_Hours_Year/1000)*(100%-Active_Duty_Cycle)))*CostPerKWH -> 1.424436 | V34: =Table5[Energy$year]/Table5[[#This Row],[SizTB]] -> 0.356109 | W34: 157.09 | X34: =IF(Table5[[#This Row],[Cost]],Table5[[#This Row],[Cost]]/Table5[[#This Row],[SizTB]]*Exchange_Rate,"") -> 39.2725 | Y34: =Table5[[#This Row],[Cost]]+((CompareWarrYrs-Table5[[#This Row],[Warranty]])*(Incremental_Warr_Yr*Table5[[#This Row],[Cost]]))*Exchange_Rate -> 208.9297 | Z34: =IF(Table5[[#This Row],[$+Warr]],Table5[[#This Row],[$+Warr]]/Table5[[#This Row],[SizTB]],"") -> 52.232425 | AA34: =IFERROR(Table5[[#This Row],[$PerTB]]/CompareWarrYrs,"") -> 10.446485 | AB34: =IF(OR(Table5[[#This Row],[$ TB/year]]="",Table5[[#This Row],[Energy$yearPerTB]]=""),"",Table5[[#This Row],[$ TB/year]]+Table5[[#This Row],[Energy$yearPerTB]]) -> 10.802594 | AC34: 26 | AD34: 27
A35: 43114 | B35: Seagate | C35: BarraCuda | D35: LT | E35: 2.5 | F35: 5 | G35: 5400 | J35: =(Table5[[#This Row],[RPM]]/5400-1) -> 0 | K35: 140 | L35: 2 | M35: 600000 | P35: =10^14 -> 100000000000000 | Q35: =1.2*5 -> 6 | R35: 2.1 | S35: 1.1 | U35: =(((Table5[[#This Row],[Watts Active]]*Power_On_Hours_Year/1000)*Active_Duty_Cycle)+((Table5[[#This Row],[Watts Idle]]*Power_On_Hours_Year/1000)*(100%-Active_Duty_Cycle)))*CostPerKWH -> 1.424436 | V35: =Table5[Energy$year]/Table5[[#This Row],[SizTB]] -> 0.2848872 | W35: 196.22 | X35: =IF(Table5[[#This Row],[Cost]],Table5[[#This Row],[Cost]]/Table5[[#This Row],[SizTB]]*Exchange_Rate,"") -> 39.244 | Y35: =Table5[[#This Row],[Cost]]+((CompareWarrYrs-Table5[[#This Row],[Warranty]])*(Incremental_Warr_Yr*Table5[[#This Row],[Cost]]))*Exchange_Rate -> 260.9726 | Z35: =IF(Table5[[#This Row],[$+Warr]],Table5[[#This Row],[$+Warr]]/Table5[[#This Row],[SizTB]],"") -> 52.19452 | AA35: =IFERROR(Table5[[#This Row],[$PerTB]]/CompareWarrYrs,"") -> 10.438904 | AB35: =IF(OR(Table5[[#This Row],[$ TB/year]]="",Table5[[#This Row],[Energy$yearPerTB]]=""),"",Table5[[#This Row],[$ TB/year]]+Table5[[#This Row],[Energy$yearPerTB]]) -> 10.723791 | AC35: 26 | AD35: 27
A36: 43319 | B36: Seagate | C36: BarraCuda | D36: DT | E36: 3.5 | F36: 1 | G36: 7200 | H36: 4.16 | I36: 9.5 | J36: =(Table5[[#This Row],[RPM]]/5400-1) -> 0.33333333 | K36: 156 | L36: 2 | M36: 300000 | N36: 55 | P36: =10^14 -> 100000000000000 | Q36: 24 | R36: 5.3 | S36: 4.6 | T36: 0.94 | U36: =(((Table5[[#This Row],[Watts Active]]*Power_On_Hours_Year/1000)*Active_Duty_Cycle)+((Table5[[#This Row],[Watts Idle]]*Power_On_Hours_Year/1000)*(100%-Active_Duty_Cycle)))*CostPerKWH -> 5.1937128 | V36: =Table5[Energy$year]/Table5[[#This Row],[SizTB]] -> 5.1937128 | W36: 39.99 | X36: =IF(Table5[[#This Row],[Cost]],Table5[[#This Row],[Cost]]/Table5[[#This Row],[SizTB]]*Exchange_Rate,"") -> 39.99 | Y36: =Table5[[#This Row],[Cost]]+((CompareWarrYrs-Table5[[#This Row],[Warranty]])*(Incremental_Warr_Yr*Table5[[#This Row],[Cost]]))*Exchange_Rate -> 53.1867 | Z36: =IF(Table5[[#This Row],[$+Warr]],Table5[[#This Row],[$+Warr]]/Table5[[#This Row],[SizTB]],"") -> 53.1867 | AA36: =IFERROR(Table5[[#This Row],[$PerTB]]/CompareWarrYrs,"") -> 10.63734 | AB36: =IF(OR(Table5[[#This Row],[$ TB/year]]="",Table5[[#This Row],[Energy$yearPerTB]]=""),"",Table5[[#This Row],[$ TB/year]]+Table5[[#This Row],[Energy$yearPerTB]]) -> 15.831053 | AC36: 24 | AD36: 25
A37: 43306 | B37: Seagate | C37: BarraCuda | D37: DT | E37: 3.5 | F37: 2 | G37: 7200 | H37: 6 | I37: 15 | J37: =(Table5[[#This Row],[RPM]]/5400-1) -> 0.33333333 | K37: 190 | L37: 2 | M37: 600000 | N37: 55 | P37: =10^14 -> 100000000000000 | Q37: =2.5*12 -> 30 | R37: 8 | S37: 5.4 | T37: 0.75 | U37: =(((Table5[[#This Row],[Watts Active]]*Power_On_Hours_Year/1000)*Active_Duty_Cycle)+((Table5[[#This Row],[Watts Idle]]*Power_On_Hours_Year/1000)*(100%-Active_Duty_Cycle)))*CostPerKWH -> 6.4866624 | V37: =Table5[Energy$year]/Table5[[#This Row],[SizTB]] -> 3.2433312 | W37: 53.99 | X37: =IF(Table5[[#This Row],[Cost]],Table5[[#This Row],[Cost]]/Table5[[#This Row],[SizTB]]*Exchange_Rate,"") -> 26.995 | Y37: =Table5[[#This Row],[Cost]]+((CompareWarrYrs-Table5[[#This Row],[Warranty]])*(Incremental_Warr_Yr*Table5[[#This Row],[Cost]]))*Exchange_Rate -> 71.8067 | Z37: =IF(Table5[[#This Row],[$+Warr]],Table5[[#This Row],[$+Warr]]/Table5[[#This Row],[SizTB]],"") -> 35.90335 | AA37: =IFERROR(Table5[[#This Row],[$PerTB]]/CompareWarrYrs,"") -> 7.18067 | AB37: =IF(OR(Table5[[#This Row],[$ TB/year]]="",Table5[[#This Row],[Energy$yearPerTB]]=""),"",Table5[[#This Row],[$ TB/year]]+Table5[[#This Row],[Energy$yearPerTB]]) -> 10.424001 | AC37: =2.1*10 -> 21 | AD37: =2.3*10 -> 23
A38: 43320 | B38: Seagate | C38: BarraCuda | D38: DT | E38: 3.5 | F38: 3 | G38: 7200 | H38: 6 | I38: 15 | J38: =(Table5[[#This Row],[RPM]]/5400-1) -> 0.33333333 | K38: 185 | L38: 2 | M38: 600000 | N38: 55 | P38: =10^14 -> 100000000000000 | Q38: =2.5*12 -> 30 | R38: 8 | S38: 5.4 | T38: 0.75 | U38: =(((Table5[[#This Row],[Watts Active]]*Power_On_Hours_Year/1000)*Active_Duty_Cycle)+((Table5[[#This Row],[Watts Idle]]*Power_On_Hours_Year/1000)*(100%-Active_Duty_Cycle)))*CostPerKWH -> 6.4866624 | V38: =Table5[Energy$year]/Table5[[#This Row],[SizTB]] -> 2.1622208 | W38: 69.99 | X38: =IF(Table5[[#This Row],[Cost]],Table5[[#This Row],[Cost]]/Table5[[#This Row],[SizTB]]*Exchange_Rate,"") -> 23.33 | Y38: =Table5[[#This Row],[Cost]]+((CompareWarrYrs-Table5[[#This Row],[Warranty]])*(Incremental_Warr_Yr*Table5[[#This Row],[Cost]]))*Exchange_Rate -> 93.0867 | Z38: =IF(Table5[[#This Row],[$+Warr]],Table5[[#This Row],[$+Warr]]/Table5[[#This Row],[SizTB]],"") -> 31.0289 | AA38: =IFERROR(Table5[[#This Row],[$PerTB]]/CompareWarrYrs,"") -> 6.20578 | AB38: =IF(OR(Table5[[#This Row],[$ TB/year]]="",Table5[[#This Row],[Energy$yearPerTB]]=""),"",Table5[[#This Row],[$ TB/year]]+Table5[[#This Row],[Energy$yearPerTB]]) -> 8.3680008 | AC38: =2.4*10 -> 24 | AD38: =2.7*10 -> 27
A39: 43334 | B39: Seagate | C39: BarraCuda | D39: DT | E39: 3.5 | F39: 4 | G39: 7200 | H39: 6 | I39: 15 | J39: =(Table5[[#This Row],[RPM]]/5400-1) -> 0.33333333 | K39: 190 | L39: 2 | M39: 600000 | N39: 55 | P39: =10^14 -> 100000000000000 | Q39: 24 | R39: 5 | S39: 2.5 | T39: 0.25 | U39: =(((Table5[[#This Row],[Watts Active]]*Power_On_Hours_Year/1000)*Active_Duty_Cycle)+((Table5[[#This Row],[Watts Idle]]*Power_On_Hours_Year/1000)*(100%-Active_Duty_Cycle)))*CostPerKWH -> 3.28716 | V39: =Table5[Energy$year]/Table5[[#This Row],[SizTB]] -> 0.82179 | W39: 89.99 | X39: =IF(Table5[[#This Row],[Cost]],Table5[[#This Row],[Cost]]/Table5[[#This Row],[SizTB]]*Exchange_Rate,"") -> 22.4975 | Y39: =Table5[[#This Row],[Cost]]+((CompareWarrYrs-Table5[[#This Row],[Warranty]])*(Incremental_Warr_Yr*Table5[[#This Row],[Cost]]))*Exchange_Rate -> 119.6867 | Z39: =IF(Table5[[#This Row],[$+Warr]],Table5[[#This Row],[$+Warr]]/Table5[[#This Row],[SizTB]],"") -> 29.921675 | AA39: =IFERROR(Table5[[#This Row],[$PerTB]]/CompareWarrYrs,"") -> 5.984335 | AB39: =IF(OR(Table5[[#This Row],[$ TB/year]]="",Table5[[#This Row],[Energy$yearPerTB]]=""),"",Table5[[#This Row],[$ TB/year]]+Table5[[#This Row],[Energy$yearPerTB]]) -> 6.806125 | AC39: =2.4*10 -> 24 | AD39: =2.7*10 -> 27
A40: 43314 | B40: Seagate | C40: BarraCuda | D40: DT | E40: 3.5 | F40: 6 | G40: 7200 | H40: 6 | I40: 15 | J40: =(Table5[[#This Row],[RPM]]/5400-1) -> 0.33333333 | K40: 185 | L40: 2 | M40: 600000 | N40: 55 | P40: =10^15 -> 1e+15 | Q40: 24 | R40: 5.3 | S40: 3.4 | T40: 0.25 | U40: =(((Table5[[#This Row],[Watts Active]]*Power_On_Hours_Year/1000)*Active_Duty_Cycle)+((Table5[[#This Row],[Watts Idle]]*Power_On_Hours_Year/1000)*(100%-Active_Duty_Cycle)))*CostPerKWH -> 4.1418216 | V40: =Table5[Energy$year]/Table5[[#This Row],[SizTB]] -> 0.6903036 | W40: 140.99 | X40: =IF(Table5[[#This Row],[Cost]],Table5[[#This Row],[Cost]]/Table5[[#This Row],[SizTB]]*Exchange_Rate,"") -> 23.498333 | Y40: =Table5[[#This Row],[Cost]]+((CompareWarrYrs-Table5[[#This Row],[Warranty]])*(Incremental_Warr_Yr*Table5[[#This Row],[Cost]])) -> 187.5167 | Z40: =IF(Table5[[#This Row],[$+Warr]],Table5[[#This Row],[$+Warr]]/Table5[[#This Row],[SizTB]],"") -> 31.252783 | AA40: =IFERROR(Table5[[#This Row],[$PerTB]]/CompareWarrYrs,"") -> 6.2505567 | AB40: =IF(OR(Table5[[#This Row],[$ TB/year]]="",Table5[[#This Row],[Energy$yearPerTB]]=""),"",Table5[[#This Row],[$ TB/year]]+Table5[[#This Row],[Energy$yearPerTB]]) -> 6.9408603 | AC40: =2.5*10 -> 25 | AD40: =2.6*10 -> 26
A41: 43320 | B41: Seagate | C41: BarraCuda | D41: DT | E41: 3.5 | F41: 8 | G41: 7200 | H41: 6 | I41: 15 | J41: =(Table5[[#This Row],[RPM]]/5400-1) -> 0.33333333 | K41: 190 | L41: 2 | M41: 600000 | N41: 55 | P41: =10^15 -> 1e+15 | Q41: 24 | R41: 5.3 | S41: 3.4 | T41: 0.25 | U41: =(((Table5[[#This Row],[Watts Active]]*Power_On_Hours_Year/1000)*Active_Duty_Cycle)+((Table5[[#This Row],[Watts Idle]]*Power_On_Hours_Year/1000)*(100%-Active_Duty_Cycle)))*CostPerKWH -> 4.1418216 | V41: =Table5[Energy$year]/Table5[[#This Row],[SizTB]] -> 0.5177277 | W41: 186.99 | X41: =IF(Table5[[#This Row],[Cost]],Table5[[#This Row],[Cost]]/Table5[[#This Row],[SizTB]]*Exchange_Rate,"") -> 23.37375 | Y41: =Table5[[#This Row],[Cost]]+((CompareWarrYrs-Table5[[#This Row],[Warranty]])*(Incremental_Warr_Yr*Table5[[#This Row],[Cost]])) -> 248.6967 | Z41: =IF(Table5[[#This Row],[$+Warr]],Table5[[#This Row],[$+Warr]]/Table5[[#This Row],[SizTB]],"") -> 31.087088 | AA41: =IFERROR(Table5[[#This Row],[$PerTB]]/CompareWarrYrs,"") -> 6.2174175 | AB41: =IF(OR(Table5[[#This Row],[$ TB/year]]="",Table5[[#This Row],[Energy$yearPerTB]]=""),"",Table5[[#This Row],[$ TB/year]]+Table5[[#This Row],[Energy$yearPerTB]]) -> 6.7351452 | AC41: =2.5*10 -> 25 | AD41: =2.6*10 -> 26
A42: 43298 | B42: Seagate | C42: BarraCuda Pro | D42: DT | E42: 3.5 | F42: 2 | G42: 7200 | H42: 4.16 | J42: =(Table5[[#This Row],[RPM]]/5400-1) -> 0.33333333 | K42: 195 | L42: 5 | M42: 600000+M11 | N42: 180 | O42: 1200000 | P42: 1e+15 | Q42: 24 | R42: 6.7 | S42: 4.5 | T42: 0.8 | U42: =(((Table5[[#This Row],[Watts Active]]*Power_On_Hours_Year/1000)*Active_Duty_Cycle)+((Table5[[#This Row],[Watts Idle]]*Power_On_Hours_Year/1000)*(100%-Active_Duty_Cycle)))*CostPerKWH -> 5.4128568 | V42: =Table5[Energy$year]/Table5[[#This Row],[SizTB]] -> 2.7064284 | W42: 110.37 | X42: =IF(Table5[[#This Row],[Cost]],Table5[[#This Row],[Cost]]/Table5[[#This Row],[SizTB]]*Exchange_Rate,"") -> 55.185 | Y42: =Table5[[#This Row],[Cost]]+((CompareWarrYrs-Table5[[#This Row],[Warranty]])*(Incremental_Warr_Yr*Table5[[#This Row],[Cost]]))*Exchange_Rate -> 110.37 | Z42: =IF(Table5[[#This Row],[$+Warr]],Table5[[#This Row],[$+Warr]]/Table5[[#This Row],[SizTB]],"") -> 55.185 | AA42: =IFERROR(Table5[[#This Row],[$PerTB]]/CompareWarrYrs,"") -> 11.037 | AB42: =IF(OR(Table5[[#This Row],[$ TB/year]]="",Table5[[#This Row],[Energy$yearPerTB]]=""),"",Table5[[#This Row],[$ TB/year]]+Table5[[#This Row],[Energy$yearPerTB]]) -> 13.743428 | AC42: 24 | AD42: 28
A43: 43298 | B43: Seagate | C43: BarraCuda Pro | D43: DT | E43: 3.5 | F43: 4 | G43: 7200 | H43: 4.16 | J43: =(Table5[[#This Row],[RPM]]/5400-1) -> 0.33333333 | K43: 214 | L43: 5 | M43: 600000 | N43: 180 | O43: 1200000 | P43: 1e+15 | Q43: 24 | R43: 6.7 | S43: 6 | T43: 0.6 | U43: =(((Table5[[#This Row],[Watts Active]]*Power_On_Hours_Year/1000)*Active_Duty_Cycle)+((Table5[[#This Row],[Watts Idle]]*Power_On_Hours_Year/1000)*(100%-Active_Duty_Cycle)))*CostPerKWH -> 6.7277208 | V43: =Table5[Energy$year]/Table5[[#This Row],[SizTB]] -> 1.6819302 | W43: 174.99 | X43: =IF(Table5[[#This Row],[Cost]],Table5[[#This Row],[Cost]]/Table5[[#This Row],[SizTB]]*Exchange_Rate,"") -> 43.7475 | Y43: =Table5[[#This Row],[Cost]]+((CompareWarrYrs-Table5[[#This Row],[Warranty]])*(Incremental_Warr_Yr*Table5[[#This Row],[Cost]]))*Exchange_Rate -> 174.99 | Z43: =IF(Table5[[#This Row],[$+Warr]],Table5[[#This Row],[$+Warr]]/Table5[[#This Row],[SizTB]],"") -> 43.7475 | AA43: =IFERROR(Table5[[#This Row],[$PerTB]]/CompareWarrYrs,"") -> 8.7495 | AB43: =IF(OR(Table5[[#This Row],[$ TB/year]]="",Table5[[#This Row],[Energy$yearPerTB]]=""),"",Table5[[#This Row],[$ TB/year]]+Table5[[#This Row],[Energy$yearPerTB]]) -> 10.43143 | AC43: 30 | AD43: 34
A44: 43298 | B44: Seagate | C44: BarraCuda Pro | D44: DT | E44: 3.5 | F44: 6 | G44: 7200 | H44: 4.16 | J44: =(Table5[[#This Row],[RPM]]/5400-1) -> 0.33333333 | K44: 214 | L44: 5 | M44: 600000 | N44: 300 | O44: 1200000 | P44: 1e+15 | Q44: 24 | R44: 9 | S44: 7.2 | T44: 0.6 | U44: =(((Table5[[#This Row],[Watts Active]]*Power_On_Hours_Year/1000)*Active_Duty_Cycle)+((Table5[[#This Row],[Watts Idle]]*Power_On_Hours_Year/1000)*(100%-Active_Duty_Cycle)))*CostPerKWH -> 8.2836432 | V44: =Table5[Energy$year]/Table5[[#This Row],[SizTB]] -> 1.3806072 | W44: 157.99 | X44: =IF(Table5[[#This Row],[Cost]],Table5[[#This Row],[Cost]]/Table5[[#This Row],[SizTB]]*Exchange_Rate,"") -> 26.331667 | Y44: =Table5[[#This Row],[Cost]]+((CompareWarrYrs-Table5[[#This Row],[Warranty]])*(Incremental_Warr_Yr*Table5[[#This Row],[Cost]]))*Exchange_Rate -> 157.99 | Z44: =IF(Table5[[#This Row],[$+Warr]],Table5[[#This Row],[$+Warr]]/Table5[[#This Row],[SizTB]],"") -> 26.331667 | AA44: =IFERROR(Table5[[#This Row],[$PerTB]]/CompareWarrYrs,"") -> 5.2663333 | AB44: =IF(OR(Table5[[#This Row],[$ TB/year]]="",Table5[[#This Row],[Energy$yearPerTB]]=""),"",Table5[[#This Row],[$ TB/year]]+Table5[[#This Row],[Energy$yearPerTB]]) -> 6.6469405 | AC44: 30 | AD44: 34
A45: 43298 | B45: Seagate | C45: BarraCuda Pro | D45: DT | E45: 3.5 | F45: 8 | G45: 7200 | H45: 4.16 | J45: =(Table5[[#This Row],[RPM]]/5400-1) -> 0.33333333 | K45: 210 | L45: 5 | M45: 300000 | N45: 300 | O45: 1000000 | P45: 1e+15 | Q45: =12*2 -> 24 | R45: 6.8 | S45: 4.42 | T45: 0.8 | U45: =(((Table5[[#This Row],[Watts Active]]*Power_On_Hours_Year/1000)*Active_Duty_Cycle)+((Table5[[#This Row],[Watts Idle]]*Power_On_Hours_Year/1000)*(100%-Active_Duty_Cycle)))*CostPerKWH -> 5.3646451 | V45: =Table5[Energy$year]/Table5[[#This Row],[SizTB]] -> 0.67058064 | W45: 272.63 | X45: =IF(Table5[[#This Row],[Cost]],Table5[[#This Row],[Cost]]/Table5[[#This Row],[SizTB]]*Exchange_Rate,"") -> 34.07875 | Y45: =Table5[[#This Row],[Cost]]+((CompareWarrYrs-Table5[[#This Row],[Warranty]])*(Incremental_Warr_Yr*Table5[[#This Row],[Cost]]))*Exchange_Rate -> 272.63 | Z45: =IF(Table5[[#This Row],[$+Warr]],Table5[[#This Row],[$+Warr]]/Table5[[#This Row],[SizTB]],"") -> 34.07875 | AA45: =IFERROR(Table5[[#This Row],[$PerTB]]/CompareWarrYrs,"") -> 6.81575 | AB45: =IF(OR(Table5[[#This Row],[$ TB/year]]="",Table5[[#This Row],[Energy$yearPerTB]]=""),"",Table5[[#This Row],[$ TB/year]]+Table5[[#This Row],[Energy$yearPerTB]]) -> 7.4863306 | AC45: 30 | AD45: 34
A46: 43298 | B46: Seagate | C46: BarraCuda Pro | D46: DT | E46: 3.5 | F46: 10 | G46: 7200 | H46: 4.16 | J46: =(Table5[[#This Row],[RPM]]/5400-1) -> 0.33333333 | K46: 210 | L46: 5 | M46: 300000 | N46: 300 | O46: 1000000 | P46: 1e+15 | Q46: 24 | R46: 7.8 | S46: 4.42 | T46: 0.8 | U46: =(((Table5[[#This Row],[Watts Active]]*Power_On_Hours_Year/1000)*Active_Duty_Cycle)+((Table5[[#This Row],[Watts Idle]]*Power_On_Hours_Year/1000)*(100%-Active_Duty_Cycle)))*CostPerKWH -> 5.5837891 | V46: =Table5[Energy$year]/Table5[[#This Row],[SizTB]] -> 0.55837891 | W46: 366.84 | X46: =IF(Table5[[#This Row],[Cost]],Table5[[#This Row],[Cost]]/Table5[[#This Row],[SizTB]]*Exchange_Rate,"") -> 36.684 | Y46: =Table5[[#This Row],[Cost]]+((CompareWarrYrs-Table5[[#This Row],[Warranty]])*(Incremental_Warr_Yr*Table5[[#This Row],[Cost]]))*Exchange_Rate -> 366.84 | Z46: =IF(Table5[[#This Row],[$+Warr]],Table5[[#This Row],[$+Warr]]/Table5[[#This Row],[SizTB]],"") -> 36.684 | AA46: =IFERROR(Table5[[#This Row],[$PerTB]]/CompareWarrYrs,"") -> 7.3368 | AB46: =IF(OR(Table5[[#This Row],[$ TB/year]]="",Table5[[#This Row],[Energy$yearPerTB]]=""),"",Table5[[#This Row],[$ TB/year]]+Table5[[#This Row],[Energy$yearPerTB]]) -> 7.8951789
A47: 43190 | B47: Seagate | C47: BarraCuda Pro | D47: DT | E47: 3.5 | F47: 12 | G47: 7200 | H47: 4.16 | J47: =(Table5[[#This Row],[RPM]]/5400-1) -> 0.33333333 | K47: 238 | L47: 5 | M47: 300000 | N47: 300 | O47: 1000000 | P47: 1e+15 | Q47: 24 | R47: 7.8 | S47: 4.83 | T47: 0.84 | U47: =(((Table5[[#This Row],[Watts Active]]*Power_On_Hours_Year/1000)*Active_Duty_Cycle)+((Table5[[#This Row],[Watts Idle]]*Power_On_Hours_Year/1000)*(100%-Active_Duty_Cycle)))*CostPerKWH -> 5.9431853 | V47: =Table5[Energy$year]/Table5[[#This Row],[SizTB]] -> 0.49526544 | W47: 439.99 | X47: =IF(Table5[[#This Row],[Cost]],Table5[[#This Row],[Cost]]/Table5[[#This Row],[SizTB]]*Exchange_Rate,"") -> 36.665833 | Y47: =Table5[[#This Row],[Cost]]+((CompareWarrYrs-Table5[[#This Row],[Warranty]])*(Incremental_Warr_Yr*Table5[[#This Row],[Cost]]))*Exchange_Rate -> 439.99 | Z47: =IF(Table5[[#This Row],[$+Warr]],Table5[[#This Row],[$+Warr]]/Table5[[#This Row],[SizTB]],"") -> 36.665833 | AA47: =IFERROR(Table5[[#This Row],[$PerTB]]/CompareWarrYrs,"") -> 7.3331667 | AB47: =IF(OR(Table5[[#This Row],[$ TB/year]]="",Table5[[#This Row],[Energy$yearPerTB]]=""),"",Table5[[#This Row],[$ TB/year]]+Table5[[#This Row],[Energy$yearPerTB]]) -> 7.8284321
A48: 43114 | B48: Seagate | C48: Constellation ES.3 | D48: NAS | E48: 3.5 | F48: 4 | G48: 7200 | H48: 4.16 | J48: =(Table5[[#This Row],[RPM]]/5400-1) -> 0.33333333 | K48: 175 | L48: 5 | M48: 600000 | N48: 550 | O48: 2000000 | P48: 1e+15 | Q48: =12*2.6 -> 31.2 | R48: 11.27 | S48: 6.73 | U48: =(((Table5[[#This Row],[Watts Active]]*Power_On_Hours_Year/1000)*Active_Duty_Cycle)+((Table5[[#This Row],[Watts Idle]]*Power_On_Hours_Year/1000)*(100%-Active_Duty_Cycle)))*CostPerKWH -> 8.3691094 | V48: =Table5[Energy$year]/Table5[[#This Row],[SizTB]] -> 2.0922773 | W48: 134.99 | X48: =IF(Table5[[#This Row],[Cost]],Table5[[#This Row],[Cost]]/Table5[[#This Row],[SizTB]]*Exchange_Rate,"") -> 33.7475 | Y48: =Table5[[#This Row],[Cost]]+((CompareWarrYrs-Table5[[#This Row],[Warranty]])*(Incremental_Warr_Yr*Table5[[#This Row],[Cost]])) -> 134.99 | Z48: =IF(Table5[[#This Row],[$+Warr]],Table5[[#This Row],[$+Warr]]/Table5[[#This Row],[SizTB]],"") -> 33.7475 | AA48: =IFERROR(Table5[[#This Row],[$PerTB]]/CompareWarrYrs,"") -> 6.7495 | AB48: =IF(OR(Table5[[#This Row],[$ TB/year]]="",Table5[[#This Row],[Energy$yearPerTB]]=""),"",Table5[[#This Row],[$ TB/year]]+Table5[[#This Row],[Energy$yearPerTB]]) -> 8.8417773
A49: 43127 | B49: Seagate | C49: Exos 10E2400 | D49: NAS | E49: 2.5 | F49: 1.2 | G49: 10500 | H49: 2.9 | J49: =(Table5[[#This Row],[RPM]]/5400-1) -> 0.94444444 | K49: 270 | L49: 5 | N49: 550 | O49: 2000000 | P49: 1e+16 | Q49: =5*0.91+12*1.44 -> 21.83 | R49: 8.75 | S49: 4.9 | T49: 3.63 | U49: =(((Table5[[#This Row],[Watts Active]]*Power_On_Hours_Year/1000)*Active_Duty_Cycle)+((Table5[[#This Row],[Watts Idle]]*Power_On_Hours_Year/1000)*(100%-Active_Duty_Cycle)))*CostPerKWH -> 6.2127324 | V49: =Table5[Energy$year]/Table5[[#This Row],[SizTB]] -> 5.177277 | W49: 295.95 | X49: =IF(Table5[[#This Row],[Cost]],Table5[[#This Row],[Cost]]/Table5[[#This Row],[SizTB]]*Exchange_Rate,"") -> 246.625 | Y49: =Table5[[#This Row],[Cost]]+((CompareWarrYrs-Table5[[#This Row],[Warranty]])*(Incremental_Warr_Yr*Table5[[#This Row],[Cost]]))*Exchange_Rate -> 295.95 | Z49: =IF(Table5[[#This Row],[$+Warr]],Table5[[#This Row],[$+Warr]]/Table5[[#This Row],[SizTB]],"") -> 246.625 | AA49: =IFERROR(Table5[[#This Row],[$PerTB]]/CompareWarrYrs,"") -> 49.325 | AB49: =IF(OR(Table5[[#This Row],[$ TB/year]]="",Table5[[#This Row],[Energy$yearPerTB]]=""),"",Table5[[#This Row],[$ TB/year]]+Table5[[#This Row],[Energy$yearPerTB]]) -> 54.502277 | AC49: 31 | AE49: 16GiB NAND
A50: 43127 | B50: Seagate | C50: Exos 10E2400 | D50: NAS | E50: 2.5 | F50: 1.8 | G50: 10500 | H50: 2.9 | J50: =(Table5[[#This Row],[RPM]]/5400-1) -> 0.94444444 | K50: 270 | L50: 5 | N50: 550 | O50: 2000000 | P50: 1e+16 | Q50: =5*0.91+12*1.42 -> 21.59 | R50: 6.95 | S50: 4.26 | T50: 4.23 | U50: =(((Table5[[#This Row],[Watts Active]]*Power_On_Hours_Year/1000)*Active_Duty_Cycle)+((Table5[[#This Row],[Watts Idle]]*Power_On_Hours_Year/1000)*(100%-Active_Duty_Cycle)))*CostPerKWH -> 5.2572646 | V50: =Table5[Energy$year]/Table5[[#This Row],[SizTB]] -> 2.9207025 | W50: 379.99 | X50: =IF(Table5[[#This Row],[Cost]],Table5[[#This Row],[Cost]]/Table5[[#This Row],[SizTB]]*Exchange_Rate,"") -> 211.10556 | Y50: =Table5[[#This Row],[Cost]]+((CompareWarrYrs-Table5[[#This Row],[Warranty]])*(Incremental_Warr_Yr*Table5[[#This Row],[Cost]]))*Exchange_Rate -> 379.99 | Z50: =IF(Table5[[#This Row],[$+Warr]],Table5[[#This Row],[$+Warr]]/Table5[[#This Row],[SizTB]],"") -> 211.10556 | AA50: =IFERROR(Table5[[#This Row],[$PerTB]]/CompareWarrYrs,"") -> 42.221111 | AB50: =IF(OR(Table5[[#This Row],[$ TB/year]]="",Table5[[#This Row],[Energy$yearPerTB]]=""),"",Table5[[#This Row],[$ TB/year]]+Table5[[#This Row],[Energy$yearPerTB]]) -> 45.141814 | AC50: 31 | AE50: 16GiB NAND
A51: 43127 | B51: Seagate | C51: Exos 10E2400 | D51: NAS | E51: 2.5 | F51: 2.4 | G51: 10500 | H51: 2.9 | J51: =(Table5[[#This Row],[RPM]]/5400-1) -> 0.94444444 | K51: 270 | L51: 5 | N51: 550 | O51: 2000000 | P51: 1e+16 | Q51: =5*0.91+12*1.54 -> 23.03 | R51: 8.57 | S51: 4.9 | T51: 4.88 | U51: =(((Table5[[#This Row],[Watts Active]]*Power_On_Hours_Year/1000)*Active_Duty_Cycle)+((Table5[[#This Row],[Watts Idle]]*Power_On_Hours_Year/1000)*(100%-Active_Duty_Cycle)))*CostPerKWH -> 6.1732865 | V51: =Table5[Energy$year]/Table5[[#This Row],[SizTB]] -> 2.5722027 | W51: 484.57 | X51: =IF(Table5[[#This Row],[Cost]],Table5[[#This Row],[Cost]]/Table5[[#This Row],[SizTB]]*Exchange_Rate,"") -> 201.90417 | Y51: =Table5[[#This Row],[Cost]]+((CompareWarrYrs-Table5[[#This Row],[Warranty]])*(Incremental_Warr_Yr*Table5[[#This Row],[Cost]]))*Exchange_Rate -> 484.57 | Z51: =IF(Table5[[#This Row],[$+Warr]],Table5[[#This Row],[$+Warr]]/Table5[[#This Row],[SizTB]],"") -> 201.90417 | AA51: =IFERROR(Table5[[#This Row],[$PerTB]]/CompareWarrYrs,"") -> 40.380833 | AB51: =IF(OR(Table5[[#This Row],[$ TB/year]]="",Table5[[#This Row],[Energy$yearPerTB]]=""),"",Table5[[#This Row],[$ TB/year]]+Table5[[#This Row],[Energy$yearPerTB]]) -> 42.953036 | AC51: 31 | AE51: 16GiB NAND
A52: 43166 | B52: Seagate | C52: Exos 15E900 | D52: NAS | E52: 3.5 | F52: 0.9 | G52: 15000 | H52: 2 | J52: =(Table5[[#This Row],[RPM]]/5400-1) -> 1.7777778 | K52: 215 | L52: 5 | N52: 550 | O52: 2000000 | P52: 1e+16 | R52: 7.6 | S52: 5.7 | U52: =(((Table5[[#This Row],[Watts Active]]*Power_On_Hours_Year/1000)*Active_Duty_Cycle)+((Table5[[#This Row],[Watts Idle]]*Power_On_Hours_Year/1000)*(100%-Active_Duty_Cycle)))*CostPerKWH -> 6.6619776 | V52: =Table5[Energy$year]/Table5[[#This Row],[SizTB]] -> 7.4021973 | W52: 416.96 | X52: =IF(Table5[[#This Row],[Cost]],Table5[[#This Row],[Cost]]/Table5[[#This Row],[SizTB]]*Exchange_Rate,"") -> 463.28889 | Y52: =Table5[[#This Row],[Cost]]+((CompareWarrYrs-Table5[[#This Row],[Warranty]])*(Incremental_Warr_Yr*Table5[[#This Row],[Cost]]))*Exchange_Rate -> 416.96 | Z52: =IF(Table5[[#This Row],[$+Warr]],Table5[[#This Row],[$+Warr]]/Table5[[#This Row],[SizTB]],"") -> 463.28889 | AA52: =IFERROR(Table5[[#This Row],[$PerTB]]/CompareWarrYrs,"") -> 92.657778 | AB52: =IF(OR(Table5[[#This Row],[$ TB/year]]="",Table5[[#This Row],[Energy$yearPerTB]]=""),"",Table5[[#This Row],[$ TB/year]]+Table5[[#This Row],[Energy$yearPerTB]]) -> 100.05998 | AE52: 8GiB NAND
A53: 43166 | B53: Seagate | C53: Exos 5E8 | D53: SMR | E53: 3.5 | F53: 8 | G53: 5900 | J53: =(Table5[[#This Row],[RPM]]/5400-1) -> 0.092592593 | K53: 190 | L53: 3 | M53: 300000 | N53: 180 | O53: 800000 | P53: =10^14 -> 100000000000000 | Q53: 24 | R53: 5.3 | S53: 3.7 | T53: 0.99 | U53: =(((Table5[[#This Row],[Watts Active]]*Power_On_Hours_Year/1000)*Active_Duty_Cycle)+((Table5[[#This Row],[Watts Idle]]*Power_On_Hours_Year/1000)*(100%-Active_Duty_Cycle)))*CostPerKWH -> 4.4047944 | V53: =Table5[Energy$year]/Table5[[#This Row],[SizTB]] -> 0.5505993 | W53: 281.99 | X53: =IF(Table5[[#This Row],[Cost]],Table5[[#This Row],[Cost]]/Table5[[#This Row],[SizTB]]*Exchange_Rate,"") -> 35.24875 | Y53: =Table5[[#This Row],[Cost]]+((CompareWarrYrs-Table5[[#This Row],[Warranty]])*(Incremental_Warr_Yr*Table5[[#This Row],[Cost]]))*Exchange_Rate -> 344.0278 | Z53: =IF(Table5[[#This Row],[$+Warr]],Table5[[#This Row],[$+Warr]]/Table5[[#This Row],[SizTB]],"") -> 43.003475 | AA53: =IFERROR(Table5[[#This Row],[$PerTB]]/CompareWarrYrs,"") -> 8.600695 | AB53: =IF(OR(Table5[[#This Row],[$ TB/year]]="",Table5[[#This Row],[Energy$yearPerTB]]=""),"",Table5[[#This Row],[$ TB/year]]+Table5[[#This Row],[Energy$yearPerTB]]) -> 9.1512943 | AE53: Shingled (SMR)
A54: 43114 | B54: Seagate | C54: Exos 7E2 | D54: NAS | E54: 3.5 | F54: 1 | G54: 7200 | H54: 4.16 | J54: =(Table5[[#This Row],[RPM]]/5400-1) -> 0.33333333 | K54: 194 | L54: 5 | N54: 550 | O54: 2000000 | P54: 1e+15 | R54: 7 | S54: 4.7 | U54: =(((Table5[[#This Row],[Watts Active]]*Power_On_Hours_Year/1000)*Active_Duty_Cycle)+((Table5[[#This Row],[Watts Idle]]*Power_On_Hours_Year/1000)*(100%-Active_Duty_Cycle)))*CostPerKWH -> 5.6539152 | V54: =Table5[Energy$year]/Table5[[#This Row],[SizTB]] -> 5.6539152 | W54: 165 | X54: =IF(Table5[[#This Row],[Cost]],Table5[[#This Row],[Cost]]/Table5[[#This Row],[SizTB]]*Exchange_Rate,"") -> 165 | Y54: =Table5[[#This Row],[Cost]]+((CompareWarrYrs-Table5[[#This Row],[Warranty]])*(Incremental_Warr_Yr*Table5[[#This Row],[Cost]]))*Exchange_Rate -> 165 | Z54: =IF(Table5[[#This Row],[$+Warr]],Table5[[#This Row],[$+Warr]]/Table5[[#This Row],[SizTB]],"") -> 165 | AA54: =IFERROR(Table5[[#This Row],[$PerTB]]/CompareWarrYrs,"") -> 33 | AB54: =IF(OR(Table5[[#This Row],[$ TB/year]]="",Table5[[#This Row],[Energy$yearPerTB]]=""),"",Table5[[#This Row],[$ TB/year]]+Table5[[#This Row],[Energy$yearPerTB]]) -> 38.653915
A55: 43027 | B55: Seagate | C55: Exos 7E2 | D55: NAS | E55: 3.5 | F55: 2 | G55: 7200 | H55: 4.16 | J55: =(Table5[[#This Row],[RPM]]/5400-1) -> 0.33333333 | K55: 194 | L55: 5 | N55: 550 | O55: 2000000 | P55: 1e+15 | R55: 7 | S55: 4.7 | U55: =(((Table5[[#This Row],[Watts Active]]*Power_On_Hours_Year/1000)*Active_Duty_Cycle)+((Table5[[#This Row],[Watts Idle]]*Power_On_Hours_Year/1000)*(100%-Active_Duty_Cycle)))*CostPerKWH -> 5.6539152 | V55: =Table5[Energy$year]/Table5[[#This Row],[SizTB]] -> 2.8269576 | W55: 306.6 | X55: =IF(Table5[[#This Row],[Cost]],Table5[[#This Row],[Cost]]/Table5[[#This Row],[SizTB]]*Exchange_Rate,"") -> 153.3 | Y55: =Table5[[#This Row],[Cost]]+((CompareWarrYrs-Table5[[#This Row],[Warranty]])*(Incremental_Warr_Yr*Table5[[#This Row],[Cost]]))*Exchange_Rate -> 306.6 | Z55: =IF(Table5[[#This Row],[$+Warr]],Table5[[#This Row],[$+Warr]]/Table5[[#This Row],[SizTB]],"") -> 153.3 | AA55: =IFERROR(Table5[[#This Row],[$PerTB]]/CompareWarrYrs,"") -> 30.66 | AB55: =IF(OR(Table5[[#This Row],[$ TB/year]]="",Table5[[#This Row],[Energy$yearPerTB]]=""),"",Table5[[#This Row],[$ TB/year]]+Table5[[#This Row],[Energy$yearPerTB]]) -> 33.486958
A56: 43298 | B56: Seagate | C56: Exos 7E2000 | D56: NAS | E56: 2.5 | F56: 1 | G56: 7200 | H56: 4.16 | J56: =(Table5[[#This Row],[RPM]]/5400-1) -> 0.33333333 | K56: 136 | L56: 5 | M56: 300000 | N56: 550 | O56: 2000000 | P56: 1e+15 | R56: 5.9 | S56: 3.29 | T56: 1.52 | U56: =(((Table5[[#This Row],[Watts Active]]*Power_On_Hours_Year/1000)*Active_Duty_Cycle)+((Table5[[#This Row],[Watts Idle]]*Power_On_Hours_Year/1000)*(100%-Active_Duty_Cycle)))*CostPerKWH -> 4.1768846 | V56: =Table5[Energy$year]/Table5[[#This Row],[SizTB]] -> 4.1768846 | W56: 176.27 | X56: =IF(Table5[[#This Row],[Cost]],Table5[[#This Row],[Cost]]/Table5[[#This Row],[SizTB]]*Exchange_Rate,"") -> 176.27 | Y56: =Table5[[#This Row],[Cost]]+((CompareWarrYrs-Table5[[#This Row],[Warranty]])*(Incremental_Warr_Yr*Table5[[#This Row],[Cost]]))*Exchange_Rate -> 176.27 | Z56: =IF(Table5[[#This Row],[$+Warr]],Table5[[#This Row],[$+Warr]]/Table5[[#This Row],[SizTB]],"") -> 176.27 | AA56: =IFERROR(Table5[[#This Row],[$PerTB]]/CompareWarrYrs,"") -> 35.254 | AB56: =IF(OR(Table5[[#This Row],[$ TB/year]]="",Table5[[#This Row],[Energy$yearPerTB]]=""),"",Table5[[#This Row],[$ TB/year]]+Table5[[#This Row],[Energy$yearPerTB]]) -> 39.430885
A57: 43166 | B57: Seagate | C57: Exos 7E2000 | D57: NAS | E57: 2.5 | F57: 2 | G57: 7200 | H57: 4.16 | J57: =(Table5[[#This Row],[RPM]]/5400-1) -> 0.33333333 | K57: 136 | L57: 5 | M57: 300000 | N57: 550 | O57: 2000000 | P57: 1e+15 | R57: 6.02 | S57: 3.53 | T57: 1.52 | U57: =(((Table5[[#This Row],[Watts Active]]*Power_On_Hours_Year/1000)*Active_Duty_Cycle)+((Table5[[#This Row],[Watts Idle]]*Power_On_Hours_Year/1000)*(100%-Active_Duty_Cycle)))*CostPerKWH -> 4.4135602 | V57: =Table5[Energy$year]/Table5[[#This Row],[SizTB]] -> 2.2067801 | W57: 270 | X57: =IF(Table5[[#This Row],[Cost]],Table5[[#This Row],[Cost]]/Table5[[#This Row],[SizTB]]*Exchange_Rate,"") -> 135 | Y57: =Table5[[#This Row],[Cost]]+((CompareWarrYrs-Table5[[#This Row],[Warranty]])*(Incremental_Warr_Yr*Table5[[#This Row],[Cost]]))*Exchange_Rate -> 270 | Z57: =IF(Table5[[#This Row],[$+Warr]],Table5[[#This Row],[$+Warr]]/Table5[[#This Row],[SizTB]],"") -> 135 | AA57: =IFERROR(Table5[[#This Row],[$PerTB]]/CompareWarrYrs,"") -> 27 | AB57: =IF(OR(Table5[[#This Row],[$ TB/year]]="",Table5[[#This Row],[Energy$yearPerTB]]=""),"",Table5[[#This Row],[$ TB/year]]+Table5[[#This Row],[Energy$yearPerTB]]) -> 29.20678
A58: 43135 | B58: Seagate | C58: Exos 7E8 | D58: NAS | E58: 3.5 | F58: 1 | G58: 7200 | H58: 4.16 | J58: =(Table5[[#This Row],[RPM]]/5400-1) -> 0.33333333 | K58: 205 | L58: 5 | M58: 600000 | N58: 550 | O58: 2000000 | P58: 1e+15 | R58: 5.91 | S58: 4.25 | U58: =(((Table5[[#This Row],[Watts Active]]*Power_On_Hours_Year/1000)*Active_Duty_Cycle)+((Table5[[#This Row],[Watts Idle]]*Power_On_Hours_Year/1000)*(100%-Active_Duty_Cycle)))*CostPerKWH -> 5.020589 | V58: =Table5[Energy$year]/Table5[[#This Row],[SizTB]] -> 5.020589 | W58: =81.74+7.73 -> 89.47 | X58: =IF(Table5[[#This Row],[Cost]],Table5[[#This Row],[Cost]]/Table5[[#This Row],[SizTB]]*Exchange_Rate,"") -> 89.47 | Y58: =Table5[[#This Row],[Cost]]+((CompareWarrYrs-Table5[[#This Row],[Warranty]])*(Incremental_Warr_Yr*Table5[[#This Row],[Cost]]))*Exchange_Rate -> 89.47 | Z58: =IF(Table5[[#This Row],[$+Warr]],Table5[[#This Row],[$+Warr]]/Table5[[#This Row],[SizTB]],"") -> 89.47 | AA58: =IFERROR(Table5[[#This Row],[$PerTB]]/CompareWarrYrs,"") -> 17.894 | AB58: =IF(OR(Table5[[#This Row],[$ TB/year]]="",Table5[[#This Row],[Energy$yearPerTB]]=""),"",Table5[[#This Row],[$ TB/year]]+Table5[[#This Row],[Energy$yearPerTB]]) -> 22.914589
A59: 43135 | B59: Seagate | C59: Exos 7E8 | D59: NAS | E59: 3.5 | F59: 2 | G59: 7200 | H59: 4.16 | J59: =(Table5[[#This Row],[RPM]]/5400-1) -> 0.33333333 | K59: 205 | L59: 5 | M59: 600000 | N59: 550 | O59: 2000000 | P59: 1e+15 | R59: 5.9 | S59: 4.25 | T59: 0.6 | U59: =(((Table5[[#This Row],[Watts Active]]*Power_On_Hours_Year/1000)*Active_Duty_Cycle)+((Table5[[#This Row],[Watts Idle]]*Power_On_Hours_Year/1000)*(100%-Active_Duty_Cycle)))*CostPerKWH -> 5.0183976 | V59: =Table5[Energy$year]/Table5[[#This Row],[SizTB]] -> 2.5091988 | W59: 119.99 | X59: =IF(Table5[[#This Row],[Cost]],Table5[[#This Row],[Cost]]/Table5[[#This Row],[SizTB]]*Exchange_Rate,"") -> 59.995 | Y59: =Table5[[#This Row],[Cost]]+((CompareWarrYrs-Table5[[#This Row],[Warranty]])*(Incremental_Warr_Yr*Table5[[#This Row],[Cost]]))*Exchange_Rate -> 119.99 | Z59: =IF(Table5[[#This Row],[$+Warr]],Table5[[#This Row],[$+Warr]]/Table5[[#This Row],[SizTB]],"") -> 59.995 | AA59: =IFERROR(Table5[[#This Row],[$PerTB]]/CompareWarrYrs,"") -> 11.999 | AB59: =IF(OR(Table5[[#This Row],[$ TB/year]]="",Table5[[#This Row],[Energy$yearPerTB]]=""),"",Table5[[#This Row],[$ TB/year]]+Table5[[#This Row],[Energy$yearPerTB]]) -> 14.508199
A60: 43307 | B60: Seagate | C60: Exos 7E8 | D60: NAS | E60: 3.5 | F60: 3 | G60: 7200 | H60: 4.16 | J60: =(Table5[[#This Row],[RPM]]/5400-1) -> 0.33333333 | K60: 205 | L60: 5 | M60: 600000 | N60: 550 | O60: 2000000 | P60: 1e+15 | R60: 6.9 | S60: 5.45 | T60: 0.6 | U60: =(((Table5[[#This Row],[Watts Active]]*Power_On_Hours_Year/1000)*Active_Duty_Cycle)+((Table5[[#This Row],[Watts Idle]]*Power_On_Hours_Year/1000)*(100%-Active_Duty_Cycle)))*CostPerKWH -> 6.2894328 | V60: =Table5[Energy$year]/Table5[[#This Row],[SizTB]] -> 2.0964776 | W60: 174.88 | X60: =IF(Table5[[#This Row],[Cost]],Table5[[#This Row],[Cost]]/Table5[[#This Row],[SizTB]]*Exchange_Rate,"") -> 58.293333 | Y60: =Table5[[#This Row],[Cost]]+((CompareWarrYrs-Table5[[#This Row],[Warranty]])*(Incremental_Warr_Yr*Table5[[#This Row],[Cost]]))*Exchange_Rate -> 174.88 | Z60: =IF(Table5[[#This Row],[$+Warr]],Table5[[#This Row],[$+Warr]]/Table5[[#This Row],[SizTB]],"") -> 58.293333 | AA60: =IFERROR(Table5[[#This Row],[$PerTB]]/CompareWarrYrs,"") -> 11.658667 | AB60: =IF(OR(Table5[[#This Row],[$ TB/year]]="",Table5[[#This Row],[Energy$yearPerTB]]=""),"",Table5[[#This Row],[$ TB/year]]+Table5[[#This Row],[Energy$yearPerTB]]) -> 13.755144
A61: 43307 | B61: Seagate | C61: Exos 7E8 | D61: NAS | E61: 3.5 | F61: 4 | G61: 7200 | H61: 4.16 | J61: =(Table5[[#This Row],[RPM]]/5400-1) -> 0.33333333 | K61: 205 | L61: 5 | M61: 600000 | N61: 550 | O61: 2000000 | P61: 1e+15 | R61: 6.9 | S61: 5.45 | T61: 0.6 | U61: =(((Table5[[#This Row],[Watts Active]]*Power_On_Hours_Year/1000)*Active_Duty_Cycle)+((Table5[[#This Row],[Watts Idle]]*Power_On_Hours_Year/1000)*(100%-Active_Duty_Cycle)))*CostPerKWH -> 6.2894328 | V61: =Table5[Energy$year]/Table5[[#This Row],[SizTB]] -> 1.5723582 | W61: 203.77 | X61: =IF(Table5[[#This Row],[Cost]],Table5[[#This Row],[Cost]]/Table5[[#This Row],[SizTB]]*Exchange_Rate,"") -> 50.9425 | Y61: 129.99 | Z61: =IF(Table5[[#This Row],[$+Warr]],Table5[[#This Row],[$+Warr]]/Table5[[#This Row],[SizTB]],"") -> 32.4975 | AA61: =IFERROR(Table5[[#This Row],[$PerTB]]/CompareWarrYrs,"") -> 6.4995 | AB61: =IF(OR(Table5[[#This Row],[$ TB/year]]="",Table5[[#This Row],[Energy$yearPerTB]]=""),"",Table5[[#This Row],[$ TB/year]]+Table5[[#This Row],[Energy$yearPerTB]]) -> 8.0718582
A62: 43135 | B62: Seagate | C62: Exos 7E8 | D62: NAS | E62: 3.5 | F62: 6 | G62: 7200 | H62: 4.16 | J62: =(Table5[[#This Row],[RPM]]/5400-1) -> 0.33333333 | K62: 226 | L62: 5 | M62: 600000 | N62: 550 | O62: 2000000 | P62: 1e+15 | R62: 9.8 | S62: 8.15 | T62: 0.6 | U62: =(((Table5[[#This Row],[Watts Active]]*Power_On_Hours_Year/1000)*Active_Duty_Cycle)+((Table5[[#This Row],[Watts Idle]]*Power_On_Hours_Year/1000)*(100%-Active_Duty_Cycle)))*CostPerKWH -> 9.2917056 | V62: =Table5[Energy$year]/Table5[[#This Row],[SizTB]] -> 1.5486176 | W62: =183.34+7.73 -> 191.07 | X62: =IF(Table5[[#This Row],[Cost]],Table5[[#This Row],[Cost]]/Table5[[#This Row],[SizTB]]*Exchange_Rate,"") -> 31.845 | Y62: =Table5[[#This Row],[Cost]]+((CompareWarrYrs-Table5[[#This Row],[Warranty]])*(Incremental_Warr_Yr*Table5[[#This Row],[Cost]]))*Exchange_Rate -> 191.07 | Z62: =IF(Table5[[#This Row],[$+Warr]],Table5[[#This Row],[$+Warr]]/Table5[[#This Row],[SizTB]],"") -> 31.845 | AA62: =IFERROR(Table5[[#This Row],[$PerTB]]/CompareWarrYrs,"") -> 6.369 | AB62: =IF(OR(Table5[[#This Row],[$ TB/year]]="",Table5[[#This Row],[Energy$yearPerTB]]=""),"",Table5[[#This Row],[$ TB/year]]+Table5[[#This Row],[Energy$yearPerTB]]) -> 7.9176176
A63: 43080 | B63: Seagate | C63: Exos 7E8 | D63: NAS | E63: 3.5 | F63: 8 | G63: 7200 | H63: 4.16 | J63: =(Table5[[#This Row],[RPM]]/5400-1) -> 0.33333333 | K63: 249 | L63: 5 | M63: 600000 | N63: 550 | O63: 2000000 | P63: 1e+15 | R63: 11 | S63: 7.6 | T63: 0.6 | U63: =(((Table5[[#This Row],[Watts Active]]*Power_On_Hours_Year/1000)*Active_Duty_Cycle)+((Table5[[#This Row],[Watts Idle]]*Power_On_Hours_Year/1000)*(100%-Active_Duty_Cycle)))*CostPerKWH -> 9.0725616 | V63: =Table5[Energy$year]/Table5[[#This Row],[SizTB]] -> 1.1340702 | W63: 259.99 | X63: =IF(Table5[[#This Row],[Cost]],Table5[[#This Row],[Cost]]/Table5[[#This Row],[SizTB]]*Exchange_Rate,"") -> 32.49875 | Y63: =Table5[[#This Row],[Cost]]+((CompareWarrYrs-Table5[[#This Row],[Warranty]])*(Incremental_Warr_Yr*Table5[[#This Row],[Cost]]))*Exchange_Rate -> 259.99 | Z63: =IF(Table5[[#This Row],[$+Warr]],Table5[[#This Row],[$+Warr]]/Table5[[#This Row],[SizTB]],"") -> 32.49875 | AA63: =IFERROR(Table5[[#This Row],[$PerTB]]/CompareWarrYrs,"") -> 6.49975 | AB63: =IF(OR(Table5[[#This Row],[$ TB/year]]="",Table5[[#This Row],[Energy$yearPerTB]]=""),"",Table5[[#This Row],[$ TB/year]]+Table5[[#This Row],[Energy$yearPerTB]]) -> 7.6338202
A64: 43208 | B64: Seagate | C64: Exos X10 | D64: NAS | E64: 3.5 | F64: 8 | G64: 7200 | H64: 4.16 | J64: =(Table5[[#This Row],[RPM]]/5400-1) -> 0.33333333 | K64: 237 | L64: 5 | M64: 600000 | N64: 550 | O64: 2500000 | P64: 1e+15 | Q64: 26.21 | R64: 7.8 | S64: 5 | T64: 0.8 | U64: =(((Table5[[#This Row],[Watts Active]]*Power_On_Hours_Year/1000)*Active_Duty_Cycle)+((Table5[[#This Row],[Watts Idle]]*Power_On_Hours_Year/1000)*(100%-Active_Duty_Cycle)))*CostPerKWH -> 6.0922032 | V64: =Table5[Energy$year]/Table5[[#This Row],[SizTB]] -> 0.7615254 | W64: 324.99 | X64: =IF(Table5[[#This Row],[Cost]],Table5[[#This Row],[Cost]]/Table5[[#This Row],[SizTB]]*Exchange_Rate,"") -> 40.62375 | Y64: =Table5[[#This Row],[Cost]]+((CompareWarrYrs-Table5[[#This Row],[Warranty]])*(Incremental_Warr_Yr*Table5[[#This Row],[Cost]]))*Exchange_Rate -> 324.99 | Z64: =IF(Table5[[#This Row],[$+Warr]],Table5[[#This Row],[$+Warr]]/Table5[[#This Row],[SizTB]],"") -> 40.62375 | AA64: =IFERROR(Table5[[#This Row],[$PerTB]]/CompareWarrYrs,"") -> 8.12475 | AB64: =IF(OR(Table5[[#This Row],[$ TB/year]]="",Table5[[#This Row],[Energy$yearPerTB]]=""),"",Table5[[#This Row],[$ TB/year]]+Table5[[#This Row],[Energy$yearPerTB]]) -> 8.8862754 | AE64: Helium filled
A65: 43179 | B65: Seagate | C65: Exos X10 | D65: NAS | E65: 3.5 | F65: 10 | G65: 7200 | H65: 4.16 | J65: =(Table5[[#This Row],[RPM]]/5400-1) -> 0.33333333 | K65: 237 | L65: 5 | M65: 600000 | N65: 550 | O65: 2500000 | P65: 1e+15 | Q65: =0.58*5+1.94*12 -> 26.18 | R65: 7.8 | S65: 5 | T65: 0.8 | U65: =(((Table5[[#This Row],[Watts Active]]*Power_On_Hours_Year/1000)*Active_Duty_Cycle)+((Table5[[#This Row],[Watts Idle]]*Power_On_Hours_Year/1000)*(100%-Active_Duty_Cycle)))*CostPerKWH -> 6.0922032 | V65: =Table5[Energy$year]/Table5[[#This Row],[SizTB]] -> 0.60922032 | W65: 348.5 | X65: =IF(Table5[[#This Row],[Cost]],Table5[[#This Row],[Cost]]/Table5[[#This Row],[SizTB]]*Exchange_Rate,"") -> 34.85 | Y65: =Table5[[#This Row],[Cost]]+((CompareWarrYrs-Table5[[#This Row],[Warranty]])*(Incremental_Warr_Yr*Table5[[#This Row],[Cost]]))*Exchange_Rate -> 348.5 | Z65: =IF(Table5[[#This Row],[$+Warr]],Table5[[#This Row],[$+Warr]]/Table5[[#This Row],[SizTB]],"") -> 34.85 | AA65: =IFERROR(Table5[[#This Row],[$PerTB]]/CompareWarrYrs,"") -> 6.97 | AB65: =IF(OR(Table5[[#This Row],[$ TB/year]]="",Table5[[#This Row],[Energy$yearPerTB]]=""),"",Table5[[#This Row],[$ TB/year]]+Table5[[#This Row],[Energy$yearPerTB]]) -> 7.5792203 | AE65: Helium filled
A66: 43307 | B66: Seagate | C66: Exos X12 | D66: NAS | E66: 3.5 | F66: 12 | G66: 7200 | H66: 4.16 | J66: =(Table5[[#This Row],[RPM]]/5400-1) -> 0.33333333 | K66: 261 | L66: 5 | M66: 600000 | N66: 550 | O66: 2500000 | P66: 1e+15 | Q66: =0.914*5+1.729*12 -> 25.318 | R66: 7.8 | S66: 5 | T66: 1.15 | U66: =(((Table5[[#This Row],[Watts Active]]*Power_On_Hours_Year/1000)*Active_Duty_Cycle)+((Table5[[#This Row],[Watts Idle]]*Power_On_Hours_Year/1000)*(100%-Active_Duty_Cycle)))*CostPerKWH -> 6.0922032 | V66: =Table5[Energy$year]/Table5[[#This Row],[SizTB]] -> 0.5076836 | W66: 567.43 | X66: =IF(Table5[[#This Row],[Cost]],Table5[[#This Row],[Cost]]/Table5[[#This Row],[SizTB]]*Exchange_Rate,"") -> 47.285833 | Y66: =Table5[[#This Row],[Cost]]+((CompareWarrYrs-Table5[[#This Row],[Warranty]])*(Incremental_Warr_Yr*Table5[[#This Row],[Cost]]))*Exchange_Rate -> 567.43 | Z66: =IF(Table5[[#This Row],[$+Warr]],Table5[[#This Row],[$+Warr]]/Table5[[#This Row],[SizTB]],"") -> 47.285833 | AA66: =IFERROR(Table5[[#This Row],[$PerTB]]/CompareWarrYrs,"") -> 9.4571667 | AB66: =IF(OR(Table5[[#This Row],[$ TB/year]]="",Table5[[#This Row],[Energy$yearPerTB]]=""),"",Table5[[#This Row],[$ TB/year]]+Table5[[#This Row],[Energy$yearPerTB]]) -> 9.9648503 | AE66: Helium filled
A67: 43298 | B67: Seagate | C67: FireCuda SSHD | D67: LT | E67: 2.5 | F67: 1 | G67: 5400 | H67: 5.6 | I67: 13 | J67: =(Table5[[#This Row],[RPM]]/5400-1) -> 0 | K67: 140 | L67: 5 | M67: 600000 | N67: 55 | P67: =10^14 -> 100000000000000 | Q67: 5 | R67: 1.7 | S67: 1.45 | T67: 0.45 | U67: =(((Table5[[#This Row],[Watts Active]]*Power_On_Hours_Year/1000)*Active_Duty_Cycle)+((Table5[[#This Row],[Watts Idle]]*Power_On_Hours_Year/1000)*(100%-Active_Duty_Cycle)))*CostPerKWH -> 1.64358 | V67: =Table5[Energy$year]/Table5[[#This Row],[SizTB]] -> 1.64358 | W67: 52.99 | X67: =IF(Table5[[#This Row],[Cost]],Table5[[#This Row],[Cost]]/Table5[[#This Row],[SizTB]]*Exchange_Rate,"") -> 52.99 | Y67: =Table5[[#This Row],[Cost]]+((CompareWarrYrs-Table5[[#This Row],[Warranty]])*(Incremental_Warr_Yr*Table5[[#This Row],[Cost]]))*Exchange_Rate -> 52.99 | Z67: =IF(Table5[[#This Row],[$+Warr]],Table5[[#This Row],[$+Warr]]/Table5[[#This Row],[SizTB]],"") -> 52.99 | AA67: =IFERROR(Table5[[#This Row],[$PerTB]]/CompareWarrYrs,"") -> 10.598 | AB67: =IF(OR(Table5[[#This Row],[$ TB/year]]="",Table5[[#This Row],[Energy$yearPerTB]]=""),"",Table5[[#This Row],[$ TB/year]]+Table5[[#This Row],[Energy$yearPerTB]]) -> 12.24158 | AC67: 22 | AD67: 24 | AE67: 8GiB NAND
A68: 43306 | B68: Seagate | C68: FireCuda SSHD | D68: LT | E68: 2.5 | F68: 2 | G68: 5400 | H68: 5.6 | I68: 13 | J68: =(Table5[[#This Row],[RPM]]/5400-1) -> 0 | K68: 140 | L68: 5 | M68: 600000 | N68: 55 | P68: =10^14 -> 100000000000000 | Q68: 5 | R68: 1.8 | S68: 1.5 | T68: 0.5 | U68: =(((Table5[[#This Row],[Watts Active]]*Power_On_Hours_Year/1000)*Active_Duty_Cycle)+((Table5[[#This Row],[Watts Idle]]*Power_On_Hours_Year/1000)*(100%-Active_Duty_Cycle)))*CostPerKWH -> 1.7093232 | V68: =Table5[Energy$year]/Table5[[#This Row],[SizTB]] -> 0.8546616 | W68: 74.99 | X68: =IF(Table5[[#This Row],[Cost]],Table5[[#This Row],[Cost]]/Table5[[#This Row],[SizTB]]*Exchange_Rate,"") -> 37.495 | Y68: =Table5[[#This Row],[Cost]]+((CompareWarrYrs-Table5[[#This Row],[Warranty]])*(Incremental_Warr_Yr*Table5[[#This Row],[Cost]]))*Exchange_Rate -> 74.99 | Z68: =IF(Table5[[#This Row],[$+Warr]],Table5[[#This Row],[$+Warr]]/Table5[[#This Row],[SizTB]],"") -> 37.495 | AA68: =IFERROR(Table5[[#This Row],[$PerTB]]/CompareWarrYrs,"") -> 7.499 | AB68: =IF(OR(Table5[[#This Row],[$ TB/year]]="",Table5[[#This Row],[Energy$yearPerTB]]=""),"",Table5[[#This Row],[$ TB/year]]+Table5[[#This Row],[Energy$yearPerTB]]) -> 8.3536616 | AC68: 24 | AD68: 26 | AE68: 8GiB NAND
A69: 43284 | B69: Seagate | C69: FireCuda SSHD | D69: DT | E69: 3.5 | F69: 1 | G69: 7200 | J69: =(Table5[[#This Row],[RPM]]/5400-1) -> 0.33333333 | L69: 5 | Q69: 24 | R69: 5.9 | S69: 4.5 | T69: 0.63 | U69: =(((Table5[[#This Row],[Watts Active]]*Power_On_Hours_Year/1000)*Active_Duty_Cycle)+((Table5[[#This Row],[Watts Idle]]*Power_On_Hours_Year/1000)*(100%-Active_Duty_Cycle)))*CostPerKWH -> 5.2375416 | V69: =Table5[Energy$year]/Table5[[#This Row],[SizTB]] -> 5.2375416 | W69: 63.99 | X69: =IF(Table5[[#This Row],[Cost]],Table5[[#This Row],[Cost]]/Table5[[#This Row],[SizTB]]*Exchange_Rate,"") -> 63.99 | Y69: =Table5[[#This Row],[Cost]]+((CompareWarrYrs-Table5[[#This Row],[Warranty]])*(Incremental_Warr_Yr*Table5[[#This Row],[Cost]]))*Exchange_Rate -> 63.99 | Z69: =IF(Table5[[#This Row],[$+Warr]],Table5[[#This Row],[$+Warr]]/Table5[[#This Row],[SizTB]],"") -> 63.99 | AA69: =IFERROR(Table5[[#This Row],[$PerTB]]/CompareWarrYrs,"") -> 12.798 | AB69: =IF(OR(Table5[[#This Row],[$ TB/year]]="",Table5[[#This Row],[Energy$yearPerTB]]=""),"",Table5[[#This Row],[$ TB/year]]+Table5[[#This Row],[Energy$yearPerTB]]) -> 18.035542 | AC69: 24 | AD69: 25 | AE69: 8GiB NAND
A70: 43298 | B70: Seagate | C70: FireCuda SSHD | D70: DT | E70: 3.5 | F70: 2 | G70: 7200 | J70: =(Table5[[#This Row],[RPM]]/5400-1) -> 0.33333333 | L70: 5 | Q70: 24 | R70: 6.7 | S70: 3.36 | T70: 0.75 | U70: =(((Table5[[#This Row],[Watts Active]]*Power_On_Hours_Year/1000)*Active_Duty_Cycle)+((Table5[[#This Row],[Watts Idle]]*Power_On_Hours_Year/1000)*(100%-Active_Duty_Cycle)))*CostPerKWH -> 4.4135602 | V70: =Table5[Energy$year]/Table5[[#This Row],[SizTB]] -> 2.2067801 | W70: 69.99 | X70: =IF(Table5[[#This Row],[Cost]],Table5[[#This Row],[Cost]]/Table5[[#This Row],[SizTB]]*Exchange_Rate,"") -> 34.995 | Y70: =Table5[[#This Row],[Cost]]+((CompareWarrYrs-Table5[[#This Row],[Warranty]])*(Incremental_Warr_Yr*Table5[[#This Row],[Cost]]))*Exchange_Rate -> 69.99 | Z70: =IF(Table5[[#This Row],[$+Warr]],Table5[[#This Row],[$+Warr]]/Table5[[#This Row],[SizTB]],"") -> 34.995 | AA70: =IFERROR(Table5[[#This Row],[$PerTB]]/CompareWarrYrs,"") -> 6.999 | AB70: =IF(OR(Table5[[#This Row],[$ TB/year]]="",Table5[[#This Row],[Energy$yearPerTB]]=""),"",Table5[[#This Row],[$ TB/year]]+Table5[[#This Row],[Energy$yearPerTB]]) -> 9.2057801 | AC70: 26 | AD70: 27 | AE70: 8GiB NAND
A71: 43307 | B71: Seagate | C71: IronWolf | D71: NAS | E71: 3.5 | F71: 1 | G71: 5900 | H71: 5.1 | I71: 11.99 | J71: =(Table5[[#This Row],[RPM]]/5400-1) -> 0.092592593 | K71: 180 | L71: 3 | M71: 600000 | N71: 180 | O71: 1000000 | P71: =10^14 -> 100000000000000 | Q71: =12*1.2 -> 14.4 | R71: 3.76 | S71: 2.5 | T71: 0.8 | U71: =(((Table5[[#This Row],[Watts Active]]*Power_On_Hours_Year/1000)*Active_Duty_Cycle)+((Table5[[#This Row],[Watts Idle]]*Power_On_Hours_Year/1000)*(100%-Active_Duty_Cycle)))*CostPerKWH -> 3.0154214 | V71: =Table5[Energy$year]/Table5[[#This Row],[SizTB]] -> 3.0154214 | W71: 59.99 | X71: =IF(Table5[[#This Row],[Cost]],Table5[[#This Row],[Cost]]/Table5[[#This Row],[SizTB]]*Exchange_Rate,"") -> 59.99 | Y71: =Table5[[#This Row],[Cost]]+((CompareWarrYrs-Table5[[#This Row],[Warranty]])*(Incremental_Warr_Yr*Table5[[#This Row],[Cost]]))*Exchange_Rate -> 73.1878 | Z71: =IF(Table5[[#This Row],[$+Warr]],Table5[[#This Row],[$+Warr]]/Table5[[#This Row],[SizTB]],"") -> 73.1878 | AA71: =IFERROR(Table5[[#This Row],[$PerTB]]/CompareWarrYrs,"") -> 14.63756 | AB71: =IF(OR(Table5[[#This Row],[$ TB/year]]="",Table5[[#This Row],[Energy$yearPerTB]]=""),"",Table5[[#This Row],[$ TB/year]]+Table5[[#This Row],[Energy$yearPerTB]]) -> 17.652981 | AC71: 20 | AD71: 22
A72: 43321 | B72: Seagate | C72: IronWolf | D72: NAS | E72: 3.5 | F72: 2 | G72: 5900 | H72: 5.1 | I72: 11.99 | J72: =(Table5[[#This Row],[RPM]]/5400-1) -> 0.092592593 | K72: 180 | L72: 3 | M72: 600000 | N72: 180 | O72: 1000000 | P72: =10^14 -> 100000000000000 | Q72: =12*2 -> 24 | R72: 4.3 | S72: 3.56 | T72: 0.8 | U72: =(((Table5[[#This Row],[Watts Active]]*Power_On_Hours_Year/1000)*Active_Duty_Cycle)+((Table5[[#This Row],[Watts Idle]]*Power_On_Hours_Year/1000)*(100%-Active_Duty_Cycle)))*CostPerKWH -> 4.0629298 | V72: =Table5[Energy$year]/Table5[[#This Row],[SizTB]] -> 2.0314649 | W72: 67.99 | X72: =IF(Table5[[#This Row],[Cost]],Table5[[#This Row],[Cost]]/Table5[[#This Row],[SizTB]]*Exchange_Rate,"") -> 33.995 | Y72: =Table5[[#This Row],[Cost]]+((CompareWarrYrs-Table5[[#This Row],[Warranty]])*(Incremental_Warr_Yr*Table5[[#This Row],[Cost]]))*Exchange_Rate -> 82.9478 | Z72: =IF(Table5[[#This Row],[$+Warr]],Table5[[#This Row],[$+Warr]]/Table5[[#This Row],[SizTB]],"") -> 41.4739 | AA72: =IFERROR(Table5[[#This Row],[$PerTB]]/CompareWarrYrs,"") -> 8.29478 | AB72: =IF(OR(Table5[[#This Row],[$ TB/year]]="",Table5[[#This Row],[Energy$yearPerTB]]=""),"",Table5[[#This Row],[$ TB/year]]+Table5[[#This Row],[Energy$yearPerTB]]) -> 10.326245 | AC72: 20 | AD72: 22
A73: 43307 | B73: Seagate | C73: IronWolf | D73: NAS | E73: 3.5 | F73: 3 | G73: 5900 | H73: 5.1 | I73: 11.99 | J73: =(Table5[[#This Row],[RPM]]/5400-1) -> 0.092592593 | K73: 180 | L73: 3 | M73: 600000 | N73: 180 | O73: 1000000 | P73: =10^14 -> 100000000000000 | Q73: =12*2 -> 24 | R73: 4.8 | S73: 4.8 | T73: 0.6 | U73: =(((Table5[[#This Row],[Watts Active]]*Power_On_Hours_Year/1000)*Active_Duty_Cycle)+((Table5[[#This Row],[Watts Idle]]*Power_On_Hours_Year/1000)*(100%-Active_Duty_Cycle)))*CostPerKWH -> 5.259456 | V73: =Table5[Energy$year]/Table5[[#This Row],[SizTB]] -> 1.753152 | W73: 102.41 | X73: =IF(Table5[[#This Row],[Cost]],Table5[[#This Row],[Cost]]/Table5[[#This Row],[SizTB]]*Exchange_Rate,"") -> 34.136667 | Y73: =Table5[[#This Row],[Cost]]+((CompareWarrYrs-Table5[[#This Row],[Warranty]])*(Incremental_Warr_Yr*Table5[[#This Row],[Cost]]))*Exchange_Rate -> 124.9402 | Z73: =IF(Table5[[#This Row],[$+Warr]],Table5[[#This Row],[$+Warr]]/Table5[[#This Row],[SizTB]],"") -> 41.646733 | AA73: =IFERROR(Table5[[#This Row],[$PerTB]]/CompareWarrYrs,"") -> 8.3293467 | AB73: =IF(OR(Table5[[#This Row],[$ TB/year]]="",Table5[[#This Row],[Energy$yearPerTB]]=""),"",Table5[[#This Row],[$ TB/year]]+Table5[[#This Row],[Energy$yearPerTB]]) -> 10.082499 | AC73: 24 | AD73: 26
A74: 43314 | B74: Seagate | C74: IronWolf | D74: NAS | E74: 3.5 | F74: 4 | G74: 5900 | H74: 5.1 | I74: 9.5 | J74: =(Table5[[#This Row],[RPM]]/5400-1) -> 0.092592593 | K74: 180 | L74: 3 | M74: 600000 | N74: 180 | O74: 1000000 | P74: =10^14 -> 100000000000000 | Q74: =12*1.8 -> 21.6 | R74: 4.8 | S74: 3.95 | T74: 0.5 | U74: =(((Table5[[#This Row],[Watts Active]]*Power_On_Hours_Year/1000)*Active_Duty_Cycle)+((Table5[[#This Row],[Watts Idle]]*Power_On_Hours_Year/1000)*(100%-Active_Duty_Cycle)))*CostPerKWH -> 4.5143664 | V74: =Table5[Energy$year]/Table5[[#This Row],[SizTB]] -> 1.1285916 | W74: 109.99 | X74: =IF(Table5[[#This Row],[Cost]],Table5[[#This Row],[Cost]]/Table5[[#This Row],[SizTB]]*Exchange_Rate,"") -> 27.4975 | Y74: =Table5[[#This Row],[Cost]]+((CompareWarrYrs-Table5[[#This Row],[Warranty]])*(Incremental_Warr_Yr*Table5[[#This Row],[Cost]]))*Exchange_Rate -> 134.1878 | Z74: =IF(Table5[[#This Row],[$+Warr]],Table5[[#This Row],[$+Warr]]/Table5[[#This Row],[SizTB]],"") -> 33.54695 | AA74: =IFERROR(Table5[[#This Row],[$PerTB]]/CompareWarrYrs,"") -> 6.70939 | AB74: =IF(OR(Table5[[#This Row],[$ TB/year]]="",Table5[[#This Row],[Energy$yearPerTB]]=""),"",Table5[[#This Row],[$ TB/year]]+Table5[[#This Row],[Energy$yearPerTB]]) -> 7.8379816 | AC74: 24 | AD74: 26
A75: 43334 | B75: Seagate | C75: IronWolf | D75: NAS | E75: 3.5 | F75: 6 | G75: 7200 | H75: 4 | I75: 9.5 | J75: =(Table5[[#This Row],[RPM]]/5400-1) -> 0.33333333 | K75: 210 | L75: 3 | M75: 600000 | N75: 180 | O75: 1000000 | P75: 1e+15 | Q75: =12*1.8 -> 21.6 | R75: 8.1 | S75: 7.2 | T75: 0.6 | U75: =(((Table5[[#This Row],[Watts Active]]*Power_On_Hours_Year/1000)*Active_Duty_Cycle)+((Table5[[#This Row],[Watts Idle]]*Power_On_Hours_Year/1000)*(100%-Active_Duty_Cycle)))*CostPerKWH -> 8.0864136 | V75: =Table5[Energy$year]/Table5[[#This Row],[SizTB]] -> 1.3477356 | W75: 167.99 | X75: =IF(Table5[[#This Row],[Cost]],Table5[[#This Row],[Cost]]/Table5[[#This Row],[SizTB]]*Exchange_Rate,"") -> 27.998333 | Y75: =Table5[[#This Row],[Cost]]+((CompareWarrYrs-Table5[[#This Row],[Warranty]])*(Incremental_Warr_Yr*Table5[[#This Row],[Cost]]))*Exchange_Rate -> 204.9478 | Z75: =IF(Table5[[#This Row],[$+Warr]],Table5[[#This Row],[$+Warr]]/Table5[[#This Row],[SizTB]],"") -> 34.157967 | AA75: =IFERROR(Table5[[#This Row],[$PerTB]]/CompareWarrYrs,"") -> 6.8315933 | AB75: =IF(OR(Table5[[#This Row],[$ TB/year]]="",Table5[[#This Row],[Energy$yearPerTB]]=""),"",Table5[[#This Row],[$ TB/year]]+Table5[[#This Row],[Energy$yearPerTB]]) -> 8.1793289 | AC75: 28 | AD75: 29
A76: 43307 | B76: Seagate | C76: IronWolf | D76: NAS | E76: 3.5 | F76: 8 | G76: 7200 | H76: 4 | I76: 9.5 | J76: =(Table5[[#This Row],[RPM]]/5400-1) -> 0.33333333 | K76: 210 | L76: 3 | M76: 600000 | N76: 180 | O76: 1000000 | P76: 1e+15 | Q76: =12*1.8 -> 21.6 | R76: 8.8 | S76: 7.6 | T76: 0.6 | U76: =(((Table5[[#This Row],[Watts Active]]*Power_On_Hours_Year/1000)*Active_Duty_Cycle)+((Table5[[#This Row],[Watts Idle]]*Power_On_Hours_Year/1000)*(100%-Active_Duty_Cycle)))*CostPerKWH -> 8.5904448 | V76: =Table5[Energy$year]/Table5[[#This Row],[SizTB]] -> 1.0738056 | W76: 247.46 | X76: =IF(Table5[[#This Row],[Cost]],Table5[[#This Row],[Cost]]/Table5[[#This Row],[SizTB]]*Exchange_Rate,"") -> 30.9325 | Y76: =Table5[[#This Row],[Cost]]+((CompareWarrYrs-Table5[[#This Row],[Warranty]])*(Incremental_Warr_Yr*Table5[[#This Row],[Cost]]))*Exchange_Rate -> 301.9012 | Z76: =IF(Table5[[#This Row],[$+Warr]],Table5[[#This Row],[$+Warr]]/Table5[[#This Row],[SizTB]],"") -> 37.73765 | AA76: =IFERROR(Table5[[#This Row],[$PerTB]]/CompareWarrYrs,"") -> 7.54753 | AB76: =IF(OR(Table5[[#This Row],[$ TB/year]]="",Table5[[#This Row],[Energy$yearPerTB]]=""),"",Table5[[#This Row],[$ TB/year]]+Table5[[#This Row],[Energy$yearPerTB]]) -> 8.6213356 | AC76: 28 | AD76: 29
A77: 43321 | B77: Seagate | C77: IronWolf | D77: NAS | E77: 3.5 | F77: 10 | G77: 7200 | J77: =(Table5[[#This Row],[RPM]]/5400-1) -> 0.33333333 | K77: 210 | L77: 3 | M77: 600000 | N77: 180 | O77: 1000000 | P77: 1e+15 | Q77: =12*1.8 -> 21.6 | R77: 7.8 | S77: 5 | T77: 0.8 | U77: =(((Table5[[#This Row],[Watts Active]]*Power_On_Hours_Year/1000)*Active_Duty_Cycle)+((Table5[[#This Row],[Watts Idle]]*Power_On_Hours_Year/1000)*(100%-Active_Duty_Cycle)))*CostPerKWH -> 6.0922032 | V77: =Table5[Energy$year]/Table5[[#This Row],[SizTB]] -> 0.60922032 | W77: 279.99 | X77: =IF(Table5[[#This Row],[Cost]],Table5[[#This Row],[Cost]]/Table5[[#This Row],[SizTB]]*Exchange_Rate,"") -> 27.999 | Y77: =Table5[[#This Row],[Cost]]+((CompareWarrYrs-Table5[[#This Row],[Warranty]])*(Incremental_Warr_Yr*Table5[[#This Row],[Cost]]))*Exchange_Rate -> 341.5878 | Z77: =IF(Table5[[#This Row],[$+Warr]],Table5[[#This Row],[$+Warr]]/Table5[[#This Row],[SizTB]],"") -> 34.15878 | AA77: =IFERROR(Table5[[#This Row],[$PerTB]]/CompareWarrYrs,"") -> 6.831756 | AB77: =IF(OR(Table5[[#This Row],[$ TB/year]]="",Table5[[#This Row],[Energy$yearPerTB]]=""),"",Table5[[#This Row],[$ TB/year]]+Table5[[#This Row],[Energy$yearPerTB]]) -> 7.4409763 | AC77: 30 | AD77: 34
A78: 43307 | B78: Seagate | C78: IronWolf | D78: NAS | E78: 3.5 | F78: 12 | G78: 7200 | H78: 4.16 | J78: =(Table5[[#This Row],[RPM]]/5400-1) -> 0.33333333 | K78: 210 | L78: 3 | M78: 600000 | N78: 180 | O78: 1000000 | P78: 1e+15 | Q78: =1.8*12 -> 21.6 | R78: 7.8 | S78: 5 | T78: 0.8 | U78: =(((Table5[[#This Row],[Watts Active]]*Power_On_Hours_Year/1000)*Active_Duty_Cycle)+((Table5[[#This Row],[Watts Idle]]*Power_On_Hours_Year/1000)*(100%-Active_Duty_Cycle)))*CostPerKWH -> 6.0922032 | V78: =Table5[Energy$year]/Table5[[#This Row],[SizTB]] -> 0.5076836 | W78: 389.99 | X78: =IF(Table5[[#This Row],[Cost]],Table5[[#This Row],[Cost]]/Table5[[#This Row],[SizTB]]*Exchange_Rate,"") -> 32.499167 | Y78: =Table5[[#This Row],[Cost]]+((CompareWarrYrs-Table5[[#This Row],[Warranty]])*(Incremental_Warr_Yr*Table5[[#This Row],[Cost]]))*Exchange_Rate -> 475.7878 | Z78: =IF(Table5[[#This Row],[$+Warr]],Table5[[#This Row],[$+Warr]]/Table5[[#This Row],[SizTB]],"") -> 39.648983 | AA78: =IFERROR(Table5[[#This Row],[$PerTB]]/CompareWarrYrs,"") -> 7.9297967 | AB78: =IF(OR(Table5[[#This Row],[$ TB/year]]="",Table5[[#This Row],[Energy$yearPerTB]]=""),"",Table5[[#This Row],[$ TB/year]]+Table5[[#This Row],[Energy$yearPerTB]]) -> 8.4374803 | AC78: 30 | AD78: 34
A79: 43284 | B79: Seagate | C79: IronWolf Pro | D79: NAS | E79: 3.5 | F79: 2 | G79: 7200 | H79: 4.16 | J79: =(Table5[[#This Row],[RPM]]/5400-1) -> 0.33333333 | K79: 195 | L79: 5 | M79: 600000 | N79: 300 | O79: 1200000 | P79: 1e+15 | Q79: =12*2 -> 24 | R79: 6.5 | S79: 4.61 | T79: 0.8 | U79: =(((Table5[[#This Row],[Watts Active]]*Power_On_Hours_Year/1000)*Active_Duty_Cycle)+((Table5[[#This Row],[Watts Idle]]*Power_On_Hours_Year/1000)*(100%-Active_Duty_Cycle)))*CostPerKWH -> 5.4654514 | V79: =Table5[Energy$year]/Table5[[#This Row],[SizTB]] -> 2.7327257 | W79: 129.99 | X79: =IF(Table5[[#This Row],[Cost]],Table5[[#This Row],[Cost]]/Table5[[#This Row],[SizTB]]*Exchange_Rate,"") -> 64.995 | Y79: =Table5[[#This Row],[Cost]]+((CompareWarrYrs-Table5[[#This Row],[Warranty]])*(Incremental_Warr_Yr*Table5[[#This Row],[Cost]]))*Exchange_Rate -> 129.99 | Z79: =IF(Table5[[#This Row],[$+Warr]],Table5[[#This Row],[$+Warr]]/Table5[[#This Row],[SizTB]],"") -> 64.995 | AA79: =IFERROR(Table5[[#This Row],[$PerTB]]/CompareWarrYrs,"") -> 12.999 | AB79: =IF(OR(Table5[[#This Row],[$ TB/year]]="",Table5[[#This Row],[Energy$yearPerTB]]=""),"",Table5[[#This Row],[$ TB/year]]+Table5[[#This Row],[Energy$yearPerTB]]) -> 15.731726 | AC79: 30 | AD79: 34
A80: 43284 | B80: Seagate | C80: IronWolf Pro | D80: NAS | E80: 3.5 | F80: 4 | G80: 7200 | H80: 4.16 | J80: =(Table5[[#This Row],[RPM]]/5400-1) -> 0.33333333 | K80: 214 | L80: 5 | M80: 600000 | N80: 300 | O80: 1200000 | P80: 1e+15 | Q80: =12*2 -> 24 | R80: 8.5 | S80: 5.45 | T80: 0.6 | U80: =(((Table5[[#This Row],[Watts Active]]*Power_On_Hours_Year/1000)*Active_Duty_Cycle)+((Table5[[#This Row],[Watts Idle]]*Power_On_Hours_Year/1000)*(100%-Active_Duty_Cycle)))*CostPerKWH -> 6.6400632 | V80: =Table5[Energy$year]/Table5[[#This Row],[SizTB]] -> 1.6600158 | W80: 174.99 | X80: =IF(Table5[[#This Row],[Cost]],Table5[[#This Row],[Cost]]/Table5[[#This Row],[SizTB]]*Exchange_Rate,"") -> 43.7475 | Y80: =Table5[[#This Row],[Cost]]+((CompareWarrYrs-Table5[[#This Row],[Warranty]])*(Incremental_Warr_Yr*Table5[[#This Row],[Cost]]))*Exchange_Rate -> 174.99 | Z80: =IF(Table5[[#This Row],[$+Warr]],Table5[[#This Row],[$+Warr]]/Table5[[#This Row],[SizTB]],"") -> 43.7475 | AA80: =IFERROR(Table5[[#This Row],[$PerTB]]/CompareWarrYrs,"") -> 8.7495 | AB80: =IF(OR(Table5[[#This Row],[$ TB/year]]="",Table5[[#This Row],[Energy$yearPerTB]]=""),"",Table5[[#This Row],[$ TB/year]]+Table5[[#This Row],[Energy$yearPerTB]]) -> 10.409516 | AC80: 30 | AD80: 34
A81: 43298 | B81: Seagate | C81: IronWolf Pro | D81: NAS | E81: 3.5 | F81: 6 | G81: 7200 | H81: 4.16 | J81: =(Table5[[#This Row],[RPM]]/5400-1) -> 0.33333333 | K81: 214 | L81: 5 | M81: 600000 | N81: 300 | O81: 1200000 | P81: 1e+15 | Q81: =12*2 -> 24 | R81: 8.1 | S81: 7.5 | T81: 0.6 | U81: =(((Table5[[#This Row],[Watts Active]]*Power_On_Hours_Year/1000)*Active_Duty_Cycle)+((Table5[[#This Row],[Watts Idle]]*Power_On_Hours_Year/1000)*(100%-Active_Duty_Cycle)))*CostPerKWH -> 8.3493864 | V81: =Table5[Energy$year]/Table5[[#This Row],[SizTB]] -> 1.3915644 | W81: 160.99 | X81: =IF(Table5[[#This Row],[Cost]],Table5[[#This Row],[Cost]]/Table5[[#This Row],[SizTB]]*Exchange_Rate,"") -> 26.831667 | Y81: =Table5[[#This Row],[Cost]]+((CompareWarrYrs-Table5[[#This Row],[Warranty]])*(Incremental_Warr_Yr*Table5[[#This Row],[Cost]]))*Exchange_Rate -> 160.99 | Z81: =IF(Table5[[#This Row],[$+Warr]],Table5[[#This Row],[$+Warr]]/Table5[[#This Row],[SizTB]],"") -> 26.831667 | AA81: =IFERROR(Table5[[#This Row],[$PerTB]]/CompareWarrYrs,"") -> 5.3663333 | AB81: =IF(OR(Table5[[#This Row],[$ TB/year]]="",Table5[[#This Row],[Energy$yearPerTB]]=""),"",Table5[[#This Row],[$ TB/year]]+Table5[[#This Row],[Energy$yearPerTB]]) -> 6.7578977 | AC81: 30 | AD81: 34
A82: 43284 | B82: Seagate | C82: IronWolf Pro | D82: NAS | E82: 3.5 | F82: 8 | G82: 7200 | H82: 4.16 | J82: =(Table5[[#This Row],[RPM]]/5400-1) -> 0.33333333 | K82: 214 | L82: 5 | M82: 600000 | N82: 300 | O82: 1200000 | P82: 1e+15 | Q82: =12*2 -> 24 | R82: 7.4 | S82: 4.4 | T82: 0.8 | U82: =(((Table5[[#This Row],[Watts Active]]*Power_On_Hours_Year/1000)*Active_Duty_Cycle)+((Table5[[#This Row],[Watts Idle]]*Power_On_Hours_Year/1000)*(100%-Active_Duty_Cycle)))*CostPerKWH -> 5.4786 | V82: =Table5[Energy$year]/Table5[[#This Row],[SizTB]] -> 0.684825 | W82: 289.99 | X82: =IF(Table5[[#This Row],[Cost]],Table5[[#This Row],[Cost]]/Table5[[#This Row],[SizTB]]*Exchange_Rate,"") -> 36.24875 | Y82: =Table5[[#This Row],[Cost]]+((CompareWarrYrs-Table5[[#This Row],[Warranty]])*(Incremental_Warr_Yr*Table5[[#This Row],[Cost]]))*Exchange_Rate -> 289.99 | Z82: =IF(Table5[[#This Row],[$+Warr]],Table5[[#This Row],[$+Warr]]/Table5[[#This Row],[SizTB]],"") -> 36.24875 | AA82: =IFERROR(Table5[[#This Row],[$PerTB]]/CompareWarrYrs,"") -> 7.24975 | AB82: =IF(OR(Table5[[#This Row],[$ TB/year]]="",Table5[[#This Row],[Energy$yearPerTB]]=""),"",Table5[[#This Row],[$ TB/year]]+Table5[[#This Row],[Energy$yearPerTB]]) -> 7.934575 | AC82: 30 | AD82: 34
A83: 43306 | B83: Seagate | C83: IronWolf Pro | D83: NAS | E83: 3.5 | F83: 10 | G83: 7200 | H83: 4.16 | J83: =(Table5[[#This Row],[RPM]]/5400-1) -> 0.33333333 | K83: 214 | L83: 5 | M83: 600000 | N83: 300 | O83: 1200000 | P83: 1e+15 | Q83: 24 | R83: 7.4 | S83: 5 | T83: 0.8 | U83: =(((Table5[[#This Row],[Watts Active]]*Power_On_Hours_Year/1000)*Active_Duty_Cycle)+((Table5[[#This Row],[Watts Idle]]*Power_On_Hours_Year/1000)*(100%-Active_Duty_Cycle)))*CostPerKWH -> 6.0045456 | V83: =Table5[Energy$year]/Table5[[#This Row],[SizTB]] -> 0.60045456 | W83: 334.99 | X83: =IF(Table5[[#This Row],[Cost]],Table5[[#This Row],[Cost]]/Table5[[#This Row],[SizTB]]*Exchange_Rate,"") -> 33.499 | Y83: =Table5[[#This Row],[Cost]]+((CompareWarrYrs-Table5[[#This Row],[Warranty]])*(Incremental_Warr_Yr*Table5[[#This Row],[Cost]]))*Exchange_Rate -> 334.99 | Z83: =IF(Table5[[#This Row],[$+Warr]],Table5[[#This Row],[$+Warr]]/Table5[[#This Row],[SizTB]],"") -> 33.499 | AA83: =IFERROR(Table5[[#This Row],[$PerTB]]/CompareWarrYrs,"") -> 6.6998 | AB83: =IF(OR(Table5[[#This Row],[$ TB/year]]="",Table5[[#This Row],[Energy$yearPerTB]]=""),"",Table5[[#This Row],[$ TB/year]]+Table5[[#This Row],[Energy$yearPerTB]]) -> 7.3002546 | AC83: 30 | AD83: 34
A84: 43306 | B84: Seagate | C84: IronWolf Pro | D84: NAS | E84: 3.5 | F84: 12 | G84: 7200 | H84: 4.16 | J84: =(Table5[[#This Row],[RPM]]/5400-1) -> 0.33333333 | K84: 250 | L84: 5 | M84: 600000 | N84: 300 | O84: 1200000 | P84: 1e+15 | Q84: 24 | R84: 7.8 | S84: 5 | T84: 0.8 | U84: =(((Table5[[#This Row],[Watts Active]]*Power_On_Hours_Year/1000)*Active_Duty_Cycle)+((Table5[[#This Row],[Watts Idle]]*Power_On_Hours_Year/1000)*(100%-Active_Duty_Cycle)))*CostPerKWH -> 6.0922032 | V84: =Table5[Energy$year]/Table5[[#This Row],[SizTB]] -> 0.5076836 | W84: 453.97 | X84: =IF(Table5[[#This Row],[Cost]],Table5[[#This Row],[Cost]]/Table5[[#This Row],[SizTB]]*Exchange_Rate,"") -> 37.830833 | Y84: =Table5[[#This Row],[Cost]]+((CompareWarrYrs-Table5[[#This Row],[Warranty]])*(Incremental_Warr_Yr*Table5[[#This Row],[Cost]]))*Exchange_Rate -> 453.97 | Z84: =IF(Table5[[#This Row],[$+Warr]],Table5[[#This Row],[$+Warr]]/Table5[[#This Row],[SizTB]],"") -> 37.830833 | AA84: =IFERROR(Table5[[#This Row],[$PerTB]]/CompareWarrYrs,"") -> 7.5661667 | AB84: =IF(OR(Table5[[#This Row],[$ TB/year]]="",Table5[[#This Row],[Energy$yearPerTB]]=""),"",Table5[[#This Row],[$ TB/year]]+Table5[[#This Row],[Energy$yearPerTB]]) -> 8.0738503 | AC84: 30 | AD84: 34
A85: 43166 | B85: Seagate | C85: Terascale | D85: NAS | E85: 3.5 | F85: 4 | G85: 5900 | H85: 5.1 | I85: 16 | J85: =(Table5[[#This Row],[RPM]]/5400-1) -> 0.092592593 | K85: 140 | L85: 3 | M85: 300000 | N85: 180 | O85: 800000 | P85: =10^14 -> 100000000000000 | Q85: 24 | R85: 6.49 | S85: 4.59 | T85: 0.77 | U85: =(((Table5[[#This Row],[Watts Active]]*Power_On_Hours_Year/1000)*Active_Duty_Cycle)+((Table5[[#This Row],[Watts Idle]]*Power_On_Hours_Year/1000)*(100%-Active_Duty_Cycle)))*CostPerKWH -> 5.4457284 | V85: =Table5[Energy$year]/Table5[[#This Row],[SizTB]] -> 1.3614321 | W85: 176.12 | X85: =IF(Table5[[#This Row],[Cost]],Table5[[#This Row],[Cost]]/Table5[[#This Row],[SizTB]]*Exchange_Rate,"") -> 44.03 | Y85: =Table5[[#This Row],[Cost]]+((CompareWarrYrs-Table5[[#This Row],[Warranty]])*(Incremental_Warr_Yr*Table5[[#This Row],[Cost]]))*Exchange_Rate -> 214.8664 | Z85: =IF(Table5[[#This Row],[$+Warr]],Table5[[#This Row],[$+Warr]]/Table5[[#This Row],[SizTB]],"") -> 53.7166 | AA85: =IFERROR(Table5[[#This Row],[$PerTB]]/CompareWarrYrs,"") -> 10.74332 | AB85: =IF(OR(Table5[[#This Row],[$ TB/year]]="",Table5[[#This Row],[Energy$yearPerTB]]=""),"",Table5[[#This Row],[$ TB/year]]+Table5[[#This Row],[Energy$yearPerTB]]) -> 12.104752
A86: 43259 | B86: Toshiba | C86: DT01ACA | D86: DT | E86: 3.5 | F86: 1 | G86: 7200 | H86: 4.17 | J86: =(Table5[[#This Row],[RPM]]/5400-1) -> 0.33333333 | K86: 182.2 | L86: 2 | P86: =10^14 -> 100000000000000 | R86: 6.4 | S86: 3.7 | U86: =(((Table5[[#This Row],[Watts Active]]*Power_On_Hours_Year/1000)*Active_Duty_Cycle)+((Table5[[#This Row],[Watts Idle]]*Power_On_Hours_Year/1000)*(100%-Active_Duty_Cycle)))*CostPerKWH -> 4.6458528 | V86: =Table5[Energy$year]/Table5[[#This Row],[SizTB]] -> 4.6458528 | W86: 39.99 | X86: =IF(Table5[[#This Row],[Cost]],Table5[[#This Row],[Cost]]/Table5[[#This Row],[SizTB]]*Exchange_Rate,"") -> 39.99 | Y86: =Table5[[#This Row],[Cost]]+((CompareWarrYrs-Table5[[#This Row],[Warranty]])*(Incremental_Warr_Yr*Table5[[#This Row],[Cost]]))*Exchange_Rate -> 53.1867 | Z86: =IF(Table5[[#This Row],[$+Warr]],Table5[[#This Row],[$+Warr]]/Table5[[#This Row],[SizTB]],"") -> 53.1867 | AA86: =IFERROR(Table5[[#This Row],[$PerTB]]/CompareWarrYrs,"") -> 10.63734 | AB86: =IF(OR(Table5[[#This Row],[$ TB/year]]="",Table5[[#This Row],[Energy$yearPerTB]]=""),"",Table5[[#This Row],[$ TB/year]]+Table5[[#This Row],[Energy$yearPerTB]]) -> 15.283193
A87: 43126 | B87: Toshiba | C87: DT01ACA | D87: DT | E87: 3.5 | F87: 2 | G87: 7200 | H87: 4.17 | J87: =(Table5[[#This Row],[RPM]]/5400-1) -> 0.33333333 | K87: 181.5 | L87: 2 | P87: =10^14 -> 100000000000000 | R87: 6.4 | S87: 5.2 | U87: =(((Table5[[#This Row],[Watts Active]]*Power_On_Hours_Year/1000)*Active_Duty_Cycle)+((Table5[[#This Row],[Watts Idle]]*Power_On_Hours_Year/1000)*(100%-Active_Duty_Cycle)))*CostPerKWH -> 5.9607168 | V87: =Table5[Energy$year]/Table5[[#This Row],[SizTB]] -> 2.9803584 | W87: 54.99 | X87: =IF(Table5[[#This Row],[Cost]],Table5[[#This Row],[Cost]]/Table5[[#This Row],[SizTB]]*Exchange_Rate,"") -> 27.495 | Y87: =Table5[[#This Row],[Cost]]+((CompareWarrYrs-Table5[[#This Row],[Warranty]])*(Incremental_Warr_Yr*Table5[[#This Row],[Cost]]))*Exchange_Rate -> 73.1367 | Z87: =IF(Table5[[#This Row],[$+Warr]],Table5[[#This Row],[$+Warr]]/Table5[[#This Row],[SizTB]],"") -> 36.56835 | AA87: =IFERROR(Table5[[#This Row],[$PerTB]]/CompareWarrYrs,"") -> 7.31367 | AB87: =IF(OR(Table5[[#This Row],[$ TB/year]]="",Table5[[#This Row],[Energy$yearPerTB]]=""),"",Table5[[#This Row],[$ TB/year]]+Table5[[#This Row],[Energy$yearPerTB]]) -> 10.294028
A88: 43080 | B88: Toshiba | C88: DT01ACA | D88: DT | E88: 3.5 | F88: 3 | G88: 7200 | H88: 4.17 | J88: =(Table5[[#This Row],[RPM]]/5400-1) -> 0.33333333 | K88: 181.5 | L88: 2 | P88: =10^14 -> 100000000000000 | R88: 6.4 | S88: 5.2 | U88: =(((Table5[[#This Row],[Watts Active]]*Power_On_Hours_Year/1000)*Active_Duty_Cycle)+((Table5[[#This Row],[Watts Idle]]*Power_On_Hours_Year/1000)*(100%-Active_Duty_Cycle)))*CostPerKWH -> 5.9607168 | V88: =Table5[Energy$year]/Table5[[#This Row],[SizTB]] -> 1.9869056 | W88: 96.67 | X88: =IF(Table5[[#This Row],[Cost]],Table5[[#This Row],[Cost]]/Table5[[#This Row],[SizTB]]*Exchange_Rate,"") -> 32.223333 | Y88: =Table5[[#This Row],[Cost]]+((CompareWarrYrs-Table5[[#This Row],[Warranty]])*(Incremental_Warr_Yr*Table5[[#This Row],[Cost]]))*Exchange_Rate -> 128.5711 | Z88: =IF(Table5[[#This Row],[$+Warr]],Table5[[#This Row],[$+Warr]]/Table5[[#This Row],[SizTB]],"") -> 42.857033 | AA88: =IFERROR(Table5[[#This Row],[$PerTB]]/CompareWarrYrs,"") -> 8.5714067 | AB88: =IF(OR(Table5[[#This Row],[$ TB/year]]="",Table5[[#This Row],[Energy$yearPerTB]]=""),"",Table5[[#This Row],[$ TB/year]]+Table5[[#This Row],[Energy$yearPerTB]]) -> 10.558312
A89: 43044 | B89: Toshiba | C89: Enterprise Capacity | D89: NAS | E89: 3.5 | F89: 6 | G89: 7200 | I89: 8.5 | J89: =(Table5[[#This Row],[RPM]]/5400-1) -> 0.33333333 | K89: 230 | L89: 5 | M89: 600000 | N89: 550 | O89: 2500000 | P89: =10^16 -> 1e+16 | R89: 8.3 | S89: 5.6 | U89: =(((Table5[[#This Row],[Watts Active]]*Power_On_Hours_Year/1000)*Active_Duty_Cycle)+((Table5[[#This Row],[Watts Idle]]*Power_On_Hours_Year/1000)*(100%-Active_Duty_Cycle)))*CostPerKWH -> 6.7277208 | V89: =Table5[Energy$year]/Table5[[#This Row],[SizTB]] -> 1.1212868 | W89: 204 | X89: =IF(Table5[[#This Row],[Cost]],Table5[[#This Row],[Cost]]/Table5[[#This Row],[SizTB]]*Exchange_Rate,"") -> 34 | Y89: =Table5[[#This Row],[Cost]]+((CompareWarrYrs-Table5[[#This Row],[Warranty]])*(Incremental_Warr_Yr*Table5[[#This Row],[Cost]]))*Exchange_Rate -> 204 | Z89: =IF(Table5[[#This Row],[$+Warr]],Table5[[#This Row],[$+Warr]]/Table5[[#This Row],[SizTB]],"") -> 34 | AA89: =IFERROR(Table5[[#This Row],[$PerTB]]/CompareWarrYrs,"") -> 6.8 | AB89: =IF(OR(Table5[[#This Row],[$ TB/year]]="",Table5[[#This Row],[Energy$yearPerTB]]=""),"",Table5[[#This Row],[$ TB/year]]+Table5[[#This Row],[Energy$yearPerTB]]) -> 7.9212868 | AC89: 34 | AE89: Persistant Write Cache
A90: 43080 | B90: Toshiba | C90: Enterprise Capacity | D90: NAS | E90: 3.5 | F90: 8 | G90: 7200 | I90: 8.5 | J90: =(Table5[[#This Row],[RPM]]/5400-1) -> 0.33333333 | K90: 230 | L90: 5 | M90: 600000 | N90: 550 | O90: 2500000 | P90: =10^16 -> 1e+16 | R90: 9.1 | S90: 6.4 | U90: =(((Table5[[#This Row],[Watts Active]]*Power_On_Hours_Year/1000)*Active_Duty_Cycle)+((Table5[[#This Row],[Watts Idle]]*Power_On_Hours_Year/1000)*(100%-Active_Duty_Cycle)))*CostPerKWH -> 7.6042968 | V90: =Table5[Energy$year]/Table5[[#This Row],[SizTB]] -> 0.9505371 | W90: 259.99 | X90: =IF(Table5[[#This Row],[Cost]],Table5[[#This Row],[Cost]]/Table5[[#This Row],[SizTB]]*Exchange_Rate,"") -> 32.49875 | Y90: =Table5[[#This Row],[Cost]]+((CompareWarrYrs-Table5[[#This Row],[Warranty]])*(Incremental_Warr_Yr*Table5[[#This Row],[Cost]]))*Exchange_Rate -> 259.99 | Z90: =IF(Table5[[#This Row],[$+Warr]],Table5[[#This Row],[$+Warr]]/Table5[[#This Row],[SizTB]],"") -> 32.49875 | AA90: =IFERROR(Table5[[#This Row],[$PerTB]]/CompareWarrYrs,"") -> 6.49975 | AB90: =IF(OR(Table5[[#This Row],[$ TB/year]]="",Table5[[#This Row],[Energy$yearPerTB]]=""),"",Table5[[#This Row],[$ TB/year]]+Table5[[#This Row],[Energy$yearPerTB]]) -> 7.4502871 | AC90: 34 | AE90: Persistant Write Cache
A91: 43044 | B91: Toshiba | C91: Enterprise Capacity | D91: NAS | E91: 3.5 | F91: 10 | G91: 7200 | I91: 8.5 | J91: =(Table5[[#This Row],[RPM]]/5400-1) -> 0.33333333 | K91: 237 | L91: 5 | M91: 600000 | N91: 550 | O91: 2500000 | P91: =10^16 -> 1e+16 | R91: 10 | S91: 7.3 | U91: =(((Table5[[#This Row],[Watts Active]]*Power_On_Hours_Year/1000)*Active_Duty_Cycle)+((Table5[[#This Row],[Watts Idle]]*Power_On_Hours_Year/1000)*(100%-Active_Duty_Cycle)))*CostPerKWH -> 8.5904448 | V91: =Table5[Energy$year]/Table5[[#This Row],[SizTB]] -> 0.85904448 | W91: 540.68 | X91: =IF(Table5[[#This Row],[Cost]],Table5[[#This Row],[Cost]]/Table5[[#This Row],[SizTB]]*Exchange_Rate,"") -> 54.068 | Y91: =Table5[[#This Row],[Cost]]+((CompareWarrYrs-Table5[[#This Row],[Warranty]])*(Incremental_Warr_Yr*Table5[[#This Row],[Cost]]))*Exchange_Rate -> 540.68 | Z91: =IF(Table5[[#This Row],[$+Warr]],Table5[[#This Row],[$+Warr]]/Table5[[#This Row],[SizTB]],"") -> 54.068 | AA91: =IFERROR(Table5[[#This Row],[$PerTB]]/CompareWarrYrs,"") -> 10.8136 | AB91: =IF(OR(Table5[[#This Row],[$ TB/year]]="",Table5[[#This Row],[Energy$yearPerTB]]=""),"",Table5[[#This Row],[$ TB/year]]+Table5[[#This Row],[Energy$yearPerTB]]) -> 11.672644 | AC91: 34 | AE91: Persistant Write Cache
A92: 43080 | B92: Toshiba | C92: Enterprise Capacity | D92: NAS | E92: 3.5 | F92: 12 | G92: 7200 | J92: =(Table5[[#This Row],[RPM]]/5400-1) -> 0.33333333 | K92: 242 | L92: 5 | M92: 600000 | N92: 550 | O92: 2500000 | P92: =10^16 -> 1e+16 | R92: 7.5 | S92: 3.93 | U92: =(((Table5[[#This Row],[Watts Active]]*Power_On_Hours_Year/1000)*Active_Duty_Cycle)+((Table5[[#This Row],[Watts Idle]]*Power_On_Hours_Year/1000)*(100%-Active_Duty_Cycle)))*CostPerKWH -> 5.0885237 | V92: =Table5[Energy$year]/Table5[[#This Row],[SizTB]] -> 0.42404364 | X92: =IF(Table5[[#This Row],[Cost]],Table5[[#This Row],[Cost]]/Table5[[#This Row],[SizTB]]*Exchange_Rate,"") | Y92: =Table5[[#This Row],[Cost]]+((CompareWarrYrs-Table5[[#This Row],[Warranty]])*(Incremental_Warr_Yr*Table5[[#This Row],[Cost]]))*Exchange_Rate -> 0 | Z92: =IF(Table5[[#This Row],[$+Warr]],Table5[[#This Row],[$+Warr]]/Table5[[#This Row],[SizTB]],"") | AA92: =IFERROR(Table5[[#This Row],[$PerTB]]/CompareWarrYrs,"") | AB92: =IF(OR(Table5[[#This Row],[$ TB/year]]="",Table5[[#This Row],[Energy$yearPerTB]]=""),"",Table5[[#This Row],[$ TB/year]]+Table5[[#This Row],[Energy$yearPerTB]]) | AC92: 20 | AE92: Helium Filled
A93: 43080 | B93: Toshiba | C93: Enterprise Capacity | D93: NAS | E93: 3.5 | F93: 14 | G93: 7200 | J93: =(Table5[[#This Row],[RPM]]/5400-1) -> 0.33333333 | K93: 248 | L93: 5 | M93: 600000 | N93: 550 | O93: 2500000 | P93: =10^16 -> 1e+16 | R93: 7.8 | S93: 4.22 | U93: =(((Table5[[#This Row],[Watts Active]]*Power_On_Hours_Year/1000)*Active_Duty_Cycle)+((Table5[[#This Row],[Watts Idle]]*Power_On_Hours_Year/1000)*(100%-Active_Duty_Cycle)))*CostPerKWH -> 5.4084739 | V93: =Table5[Energy$year]/Table5[[#This Row],[SizTB]] -> 0.38631957 | X93: =IF(Table5[[#This Row],[Cost]],Table5[[#This Row],[Cost]]/Table5[[#This Row],[SizTB]]*Exchange_Rate,"") | Y93: =Table5[[#This Row],[Cost]]+((CompareWarrYrs-Table5[[#This Row],[Warranty]])*(Incremental_Warr_Yr*Table5[[#This Row],[Cost]]))*Exchange_Rate -> 0 | Z93: =IF(Table5[[#This Row],[$+Warr]],Table5[[#This Row],[$+Warr]]/Table5[[#This Row],[SizTB]],"") | AA93: =IFERROR(Table5[[#This Row],[$PerTB]]/CompareWarrYrs,"") | AB93: =IF(OR(Table5[[#This Row],[$ TB/year]]="",Table5[[#This Row],[Energy$yearPerTB]]=""),"",Table5[[#This Row],[$ TB/year]]+Table5[[#This Row],[Energy$yearPerTB]]) | AC93: 20 | AE93: Helium Filled
A94: 43284 | B94: Toshiba | C94: Enterprise Performance | D94: NAS | E94: 2.5 | F94: 1.2 | G94: 10500 | H94: 2.86 | I94: 4 | J94: =(Table5[[#This Row],[RPM]]/5400-1) -> 0.94444444 | K94: 226 | L94: 5 | M94: 600000 | O94: 2000000 | P94: =10^17 -> 1e+17 | R94: 7 | S94: 3.5 | U94: =(((Table5[[#This Row],[Watts Active]]*Power_On_Hours_Year/1000)*Active_Duty_Cycle)+((Table5[[#This Row],[Watts Idle]]*Power_On_Hours_Year/1000)*(100%-Active_Duty_Cycle)))*CostPerKWH -> 4.602024 | V94: =Table5[Energy$year]/Table5[[#This Row],[SizTB]] -> 3.83502 | W94: 289.99 | X94: =IF(Table5[[#This Row],[Cost]],Table5[[#This Row],[Cost]]/Table5[[#This Row],[SizTB]]*Exchange_Rate,"") -> 241.65833 | Y94: =Table5[[#This Row],[Cost]]+((CompareWarrYrs-Table5[[#This Row],[Warranty]])*(Incremental_Warr_Yr*Table5[[#This Row],[Cost]]))*Exchange_Rate -> 289.99 | Z94: =IF(Table5[[#This Row],[$+Warr]],Table5[[#This Row],[$+Warr]]/Table5[[#This Row],[SizTB]],"") -> 241.65833 | AA94: =IFERROR(Table5[[#This Row],[$PerTB]]/CompareWarrYrs,"") -> 48.331667 | AB94: =IF(OR(Table5[[#This Row],[$ TB/year]]="",Table5[[#This Row],[Energy$yearPerTB]]=""),"",Table5[[#This Row],[$ TB/year]]+Table5[[#This Row],[Energy$yearPerTB]]) -> 52.166687 | AE94: Persistant Write Cache
A95: 43284 | B95: Toshiba | C95: Enterprise Performance | D95: NAS | E95: 2.5 | F95: 1.8 | G95: 10500 | H95: 2.86 | I95: 4 | J95: =(Table5[[#This Row],[RPM]]/5400-1) -> 0.94444444 | K95: 226 | L95: 5 | M95: 600000 | O95: 2000000 | P95: =10^17 -> 1e+17 | R95: 8.1 | S95: 4.6 | U95: =(((Table5[[#This Row],[Watts Active]]*Power_On_Hours_Year/1000)*Active_Duty_Cycle)+((Table5[[#This Row],[Watts Idle]]*Power_On_Hours_Year/1000)*(100%-Active_Duty_Cycle)))*CostPerKWH -> 5.807316 | V95: =Table5[Energy$year]/Table5[[#This Row],[SizTB]] -> 3.2262867 | W95: 399.99 | X95: =IF(Table5[[#This Row],[Cost]],Table5[[#This Row],[Cost]]/Table5[[#This Row],[SizTB]]*Exchange_Rate,"") -> 222.21667 | Y95: =Table5[[#This Row],[Cost]]+((CompareWarrYrs-Table5[[#This Row],[Warranty]])*(Incremental_Warr_Yr*Table5[[#This Row],[Cost]]))*Exchange_Rate -> 399.99 | Z95: =IF(Table5[[#This Row],[$+Warr]],Table5[[#This Row],[$+Warr]]/Table5[[#This Row],[SizTB]],"") -> 222.21667 | AA95: =IFERROR(Table5[[#This Row],[$PerTB]]/CompareWarrYrs,"") -> 44.443333 | AB95: =IF(OR(Table5[[#This Row],[$ TB/year]]="",Table5[[#This Row],[Energy$yearPerTB]]=""),"",Table5[[#This Row],[$ TB/year]]+Table5[[#This Row],[Energy$yearPerTB]]) -> 47.66962 | AE95: Persistant Write Cache
A96: 43088 | B96: Toshiba | C96: Enterprise Performance | D96: NAS | E96: 2.5 | F96: 2.4 | G96: 10500 | H96: 2.86 | I96: 4 | J96: =(Table5[[#This Row],[RPM]]/5400-1) -> 0.94444444 | K96: 260 | L96: 5 | M96: 600000 | O96: 2000000 | P96: =10^17 -> 1e+17 | R96: 8.7 | S96: 5.1 | U96: =(((Table5[[#This Row],[Watts Active]]*Power_On_Hours_Year/1000)*Active_Duty_Cycle)+((Table5[[#This Row],[Watts Idle]]*Power_On_Hours_Year/1000)*(100%-Active_Duty_Cycle)))*CostPerKWH -> 6.3770904 | V96: =Table5[Energy$year]/Table5[[#This Row],[SizTB]] -> 2.657121 | X96: =IF(Table5[[#This Row],[Cost]],Table5[[#This Row],[Cost]]/Table5[[#This Row],[SizTB]]*Exchange_Rate,"") | Y96: =Table5[[#This Row],[Cost]]+((CompareWarrYrs-Table5[[#This Row],[Warranty]])*(Incremental_Warr_Yr*Table5[[#This Row],[Cost]])) -> 0 | Z96: =IF(Table5[[#This Row],[$+Warr]],Table5[[#This Row],[$+Warr]]/Table5[[#This Row],[SizTB]],"") | AA96: =IFERROR(Table5[[#This Row],[$PerTB]]/CompareWarrYrs,"") | AB96: =IF(OR(Table5[[#This Row],[$ TB/year]]="",Table5[[#This Row],[Energy$yearPerTB]]=""),"",Table5[[#This Row],[$ TB/year]]+Table5[[#This Row],[Energy$yearPerTB]]) | AE96: Persistant Write Cache
A97: 43284 | B97: Toshiba | C97: Enterprise Performance | D97: NAS | E97: 2.5 | F97: 0.6 | G97: 15000 | H97: 2 | I97: 2.9 | J97: =(Table5[[#This Row],[RPM]]/5400-1) -> 1.7777778 | K97: 259 | L97: 5 | M97: 600000 | O97: 2000000 | P97: =10^17 -> 1e+17 | R97: 9 | S97: 5.6 | U97: =(((Table5[[#This Row],[Watts Active]]*Power_On_Hours_Year/1000)*Active_Duty_Cycle)+((Table5[[#This Row],[Watts Idle]]*Power_On_Hours_Year/1000)*(100%-Active_Duty_Cycle)))*CostPerKWH -> 6.8811216 | V97: =Table5[Energy$year]/Table5[[#This Row],[SizTB]] -> 11.468536 | W97: 299.99 | X97: =IF(Table5[[#This Row],[Cost]],Table5[[#This Row],[Cost]]/Table5[[#This Row],[SizTB]]*Exchange_Rate,"") -> 499.98333 | Y97: =Table5[[#This Row],[Cost]]+((CompareWarrYrs-Table5[[#This Row],[Warranty]])*(Incremental_Warr_Yr*Table5[[#This Row],[Cost]]))*Exchange_Rate -> 299.99 | Z97: =IF(Table5[[#This Row],[$+Warr]],Table5[[#This Row],[$+Warr]]/Table5[[#This Row],[SizTB]],"") -> 499.98333 | AA97: =IFERROR(Table5[[#This Row],[$PerTB]]/CompareWarrYrs,"") -> 99.996667 | AB97: =IF(OR(Table5[[#This Row],[$ TB/year]]="",Table5[[#This Row],[Energy$yearPerTB]]=""),"",Table5[[#This Row],[$ TB/year]]+Table5[[#This Row],[Energy$yearPerTB]]) -> 111.4652 | AE97: Persistant Write Cache
A98: 43114 | B98: Toshiba | C98: Enterprise Performance | D98: NAS | E98: 2.5 | F98: 0.9 | G98: 15000 | H98: 2 | I98: 2.9 | J98: =(Table5[[#This Row],[RPM]]/5400-1) -> 1.7777778 | K98: 259 | L98: 5 | M98: 600000 | O98: 2000000 | P98: =10^17 -> 1e+17 | R98: 9 | S98: 5.6 | U98: =(((Table5[[#This Row],[Watts Active]]*Power_On_Hours_Year/1000)*Active_Duty_Cycle)+((Table5[[#This Row],[Watts Idle]]*Power_On_Hours_Year/1000)*(100%-Active_Duty_Cycle)))*CostPerKWH -> 6.8811216 | V98: =Table5[Energy$year]/Table5[[#This Row],[SizTB]] -> 7.6456907 | W98: 150 | X98: =IF(Table5[[#This Row],[Cost]],Table5[[#This Row],[Cost]]/Table5[[#This Row],[SizTB]]*Exchange_Rate,"") -> 166.66667 | Y98: =Table5[[#This Row],[Cost]]+((CompareWarrYrs-Table5[[#This Row],[Warranty]])*(Incremental_Warr_Yr*Table5[[#This Row],[Cost]]))*Exchange_Rate -> 150 | Z98: =IF(Table5[[#This Row],[$+Warr]],Table5[[#This Row],[$+Warr]]/Table5[[#This Row],[SizTB]],"") -> 166.66667 | AA98: =Table5[[#This Row],[$PerTB]]/CompareWarrYrs -> 33.333333 | AB98: =IF(OR(Table5[[#This Row],[$ TB/year]]="",Table5[[#This Row],[Energy$yearPerTB]]=""),"",Table5[[#This Row],[$ TB/year]]+Table5[[#This Row],[Energy$yearPerTB]]) -> 40.979024 | AE98: Persistant Write Cache
A99: 43284 | B99: Toshiba | C99: HDKFB06 | D99: LT | E99: 2.5 | F99: 3 | G99: 5400 | H99: 5.56 | J99: =(Table5[[#This Row],[RPM]]/5400-1) -> 0 | K99: 148 | L99: 2 | M99: 600000 | P99: =10^14 -> 100000000000000 | R99: 1.7 | S99: 0.7 | U99: =(((Table5[[#This Row],[Watts Active]]*Power_On_Hours_Year/1000)*Active_Duty_Cycle)+((Table5[[#This Row],[Watts Idle]]*Power_On_Hours_Year/1000)*(100%-Active_Duty_Cycle)))*CostPerKWH -> 0.986148 | V99: =Table5[Energy$year]/Table5[[#This Row],[SizTB]] -> 0.328716 | W99: 128.69 | X99: =IF(Table5[[#This Row],[Cost]],Table5[[#This Row],[Cost]]/Table5[[#This Row],[SizTB]]*Exchange_Rate,"") -> 42.896667 | Y99: =Table5[[#This Row],[Cost]]+((CompareWarrYrs-Table5[[#This Row],[Warranty]])*(Incremental_Warr_Yr*Table5[[#This Row],[Cost]])) -> 171.1577 | Z99: =IF(Table5[[#This Row],[$+Warr]],Table5[[#This Row],[$+Warr]]/Table5[[#This Row],[SizTB]],"") -> 57.052567 | AA99: =Table5[[#This Row],[$PerTB]]/CompareWarrYrs -> 11.410513 | AB99: =IF(OR(Table5[[#This Row],[$ TB/year]]="",Table5[[#This Row],[Energy$yearPerTB]]=""),"",Table5[[#This Row],[$ TB/year]]+Table5[[#This Row],[Energy$yearPerTB]]) -> 11.739229 | AC99: 25 | AD99: 25
A100: 43284 | B100: Toshiba | C100: L200 | D100: LT | E100: 2.5 | F100: 1 | G100: 5400 | H100: 5.56 | J100: =(Table5[[#This Row],[RPM]]/5400-1) -> 0 | L100: 2 | P100: =10^14 -> 100000000000000 | R100: 1.5 | S100: 0.55 | U100: =(((Table5[[#This Row],[Watts Active]]*Power_On_Hours_Year/1000)*Active_Duty_Cycle)+((Table5[[#This Row],[Watts Idle]]*Power_On_Hours_Year/1000)*(100%-Active_Duty_Cycle)))*CostPerKWH -> 0.8108328 | V100: =Table5[Energy$year]/Table5[[#This Row],[SizTB]] -> 0.8108328 | W100: 44.99 | X100: =IF(Table5[[#This Row],[Cost]],Table5[[#This Row],[Cost]]/Table5[[#This Row],[SizTB]]*Exchange_Rate,"") -> 44.99 | Y100: =Table5[[#This Row],[Cost]]+((CompareWarrYrs-Table5[[#This Row],[Warranty]])*(Incremental_Warr_Yr*Table5[[#This Row],[Cost]])) -> 59.8367 | Z100: =IF(Table5[[#This Row],[$+Warr]],Table5[[#This Row],[$+Warr]]/Table5[[#This Row],[SizTB]],"") -> 59.8367 | AA100: =Table5[[#This Row],[$PerTB]]/CompareWarrYrs -> 11.96734 | AB100: =IF(OR(Table5[[#This Row],[$ TB/year]]="",Table5[[#This Row],[Energy$yearPerTB]]=""),"",Table5[[#This Row],[$ TB/year]]+Table5[[#This Row],[Energy$yearPerTB]]) -> 12.778173 | AC100: 23 | AD100: 24
...

Sheet Tables
A2: Type | B2: NAS
A3: FormFactor | B3: 3.5
A4: NAS Drives Avg Cost By Size Per Year
A5: Row Labels | B5: Average of $ TB/year
A6: 0.9 | B6: 92.657778
A7: 1 | B7: 17.673093
A8: 2 | B8: 13.584556
A9: 3 | B9: 9.9244667
A10: 4 | B10: 7.5289891
A11: 5 | B11: 11.714556
A12: 6 | B12: 7.6296282
A13: 8 | B13: 7.487792
A14: 10 | B14: 7.6139585
A15: 12 | B15: 8.0872593
A16: 14 | B16: #DIV/0!
A17: Avg By Size | B17: 10.891758
A20: Type | B20: NAS
A21: FormFactor | B21: 3.5
A22: Avg Energy Cost by Size per TB per Year
A23: Row Labels | B23: Cost per TB per year
A24: 0.9 | B24: 7.4021973
A25: 1 | B25: 5.0538259
A26: 2 | B26: 3.0546482
A27: 3 | B27: 2.0628755
A28: 4 | B28: 1.7020516
A29: 5 | B29: 1.2359722
A30: 6 | B30: 1.2288666
A31: 8 | B31: 0.85959234
A32: 10 | B32: 0.60361997
A33: 12 | B33: 0.49313487
A34: 14 | B34: 0.38631957
A35: Average | B35: 1.8148846
A38: Type | B38: NAS
A39: FormFactor | B39: 3.5
A40: Avg Energy Cost by Size per Year
A41: Row Labels | B41: Average of Energy$year
A42: 0.9 | B42: 6.6619776
A43: 1 | B43: 5.0538259
A44: 2 | B44: 6.1092964
A45: 3 | B45: 6.1886266
A46: 4 | B46: 6.8082064
A47: 5 | B47: 6.1798608
A48: 6 | B48: 7.3731995
A49: 8 | B49: 6.8767387
A50: 10 | B50: 6.0361997
A51: 12 | B51: 5.9176185
A52: 14 | B52: 5.4084739
A53: Average | B53: 6.4081054
A57: Type | B57: NAS
A58: FormFactor | B58: 3.5
A59: 3.5" NAS Drives Avg Cost by RPM by Manu
A60: Row Labels | B60: Average of $PerTB
A61: 5400 | B61: 47.782177
A62: WD | B62: 47.782177
A63: 5760 | B63: 47.986667
A64: WD | B64: 47.986667
A65: 5900 | B65: 48.714397
A66: Seagate | B66: 48.714397
A67: 7200 | B67: 48.454808
A68: HGST | B68: 46.373417
A69: Seagate | B69: 53.102854
A70: Toshiba | B70: 37.842917
A71: WD | B71: 48.2085
A72: 15000 | B72: 463.28889
A73: Seagate | B73: 463.28889
A74: Grand Total | B74: 54.075121
A77: Type | B77: NAS
A78: FormFactor | B78: 3.5
A79: Manu | B79: (All)
A80: MTBF | B80: (Multiple Items)
A82: Row Labels | B82: Average of MaxStartupWatts
A83: 1 | B83: 14.4
A84: 5400 | B84: 14.4
A85: 5900 | B85: 14.4
A86: 2 | B86: 22.89
A87: 5400 | B87: 20.76
A88: 5900 | B88: 24
A89: 7200 | B89: 23.4
A90: 3 | B90: 22.52
A91: 5400 | B91: 20.76
A92: 5900 | B92: 24
A93: 7200 | B93: 22.8
A94: 4 | B94: 23.68
... A101: 5400 | B101: 21
A102: 5760
A103: 7200 | B103: 24.27
A104: 8 | B104: 23.712
A105: 5400 | B105: 21.48
A106: 7200 | B106: 24.27
A107: 10 | B107: 23.736
A108: 5400 | B108: 21.48
A109: 7200 | B109: 24.3
A110: 12 | B110: 22.8
A111: 7200 | B111: 22.8
A112: Grand Total | B112: 22.785455

Sheet Charts
A1: These are incomplete at this time…

Sheet Database
A1: Date | B1: Manu | C1: Model | D1: Type | E1: SizTB | F1: RPM | G1: AvgLatency | H1: SeekT | I1: PerfCmp | J1: XferRate | K1: Warnty | L1: CycleCnt | M1: WorkLoad | N1: MTBF | O1: RErrRate | P1: MaxStartupWatts | Q1: Watts Active | R1: Watts Idle | S1: WattsStandby | T1: Cost | U1: $ TB | V1: $+Warr | W1: $PerTB | X1: $ TB/year | Y1: Comp $/Perf/Size | Z1: Energy$year | AA1: Energy$yearPerTB | AB1: Notes
D2: NAS | E2: 10 | T2: >100
A4: =DVAR('Drive Table'!$A$2:$AE$149,"Cost",$A$1:$AB$2) -> 5855.4877 | B4: Mean
A5: =DAVERAGE('Drive Table'!$A$2:$AE$149,"Cost",$A$1:$AB$2) -> 357.63111 | B5: Avg
A6: =DMIN('Drive Table'!$A$2:$AE$149,"Cost",$A$1:$AB$2) -> 279.99 | B6: Min
A7: =DMAX('Drive Table'!$A$2:$AE$149,"Cost",$A$1:$AB$2) -> 540.68 | B7: Max
A8: =DCOUNTA('Drive Table'!$A$2:$AE$149,"Cost",$A$1:$AB$2) -> 9 | B8: Qty
