Workbook
Name Active_Duty_Cycle: 'Drive Table'!$D$160
Name CompareWarrYrs: 'Drive Table'!$D$161
Name CostPerKWH: 'Drive Table'!$D$159
Name Day_in_Year: 'Drive Table'!$D$167
Name Days_In_Month: 'Drive Table'!$D$166
Name Days_in_Year: 'Drive Table'!$D$167
Name Exchange_Rate: 'Drive Table'!$D$169
Name Hours_In_Day: 'Drive Table'!$D$164
Name Hours_In_Month: 'Drive Table'!$D$165
Name Incremental_Warr_Yr: 'Drive Table'!$D$162
Name Months_In_Year: 'Drive Table'!$D$168
Name Power_On_Hours_Year: 'Drive Table'!$D$163

Sheet Drive Table
A1: SPECIFICATIONS | G1: PERFORMANCE | L1: DURABILITY | Q1: POWER USAGE | W1: ACTUAL COST | Y1: Warranty_Normalized_Computed | AC1: ACOUSTICS*
A2: Date | B2: Manu | C2: Model | D2: Type | E2: FormFactor | F2: SizTB | G2: RPM | H2: AvgLatency | I2: SeekT | J2: PerfCmp | K2: XferRate | L2: Warranty | M2: CycleCnt | N2: WorkLoad | O2: MTBF | P2: RErrRate | Q2: MaxStartupWatts | R2: Watts Active | S2: Watts Idle | T2: WattsStandby | U2: Energy$year | V2: Energy$yearPerTB | W2: Cost | X2: $ TB | Y2: $+Warr | Z2: $PerTB | AA2: $ TB/year | AB2: $TB/Yr+Power | AC2: DBA_Idle | AD2: DBA_Seek | AE2: Notes
A3: 43320 | B3: HGST | C3: Deskstar NAS | D3: NAS | E3: 3.5 | F3: 4 | G3: 7200 | I3: 11.99 | J3: =(Table5[[#This Row],[RPM]]/5400-1) -> 0.33333333 | K3: 202 | L3: 3 | M3: 600000 | O3: 1000000 | P3: =10^14 -> 100000000000000 | Q3: =1.2*5+2*12 -> 30 | S3: 7.3 | U3: ="" | V3: ="" | W3: 99.99 | X3: =IF(Table5[[#This Row],[Cost]],Table5[[#This Row],[Cost]]/Table5[[#This Row],[SizTB]]*Exchange_Rate,"") -> 24.9975 | Y3: =Table5[[#This Row],[Cost]]+((CompareWarrYrs-Table5[[#This Row],[Warranty]])*(Incremental_Warr_Yr*Table5[[#This Row],[Cost]]))*Exchange_Rate -> 121.9878 | Z3: =IF(Table5[[#This Row],[$+Warr]],Table5[[#This Row],[$+Warr]]/Table5[[#This Row],[SizTB]],"") -> 30.49695 | AA3: =IFERROR(Table5[[#This Row],[$PerTB]]/CompareWarrYrs,"") -> 6.09939 | AB3: =IF(OR(Table5[[#This Row],[$ TB/year]]="",Table5[[#This Row],[Energy$yearPerTB]]=""),"",Table5[[#This Row],[$ TB/year]]+Table5[[#This Row],[Energy$yearPerTB]]) | AC3: 29 | AE3: Enterprise HGST drives are now
A4: 43321 | B4: HGST | C4: Deskstar NAS | D4: NAS | E4: 3.5 | F4: 6 | G4: 7200 | I4: 11.99 | J4: =(Table5[[#This Row],[RPM]]/5400-1) -> 0.33333333 | K4: 227 | L4: 3 | M4: 600000 | O4: 1000000 | P4: =10^14 -> 100000000000000 | Q4: =1.2*5+2*12 -> 30 | S4: 7.3 | U4: ="" | V4: ="" | W4: 157.99 | X4: =IF(Table5[[#This Row],[Cost]],Table5[[#This Row],[Cost]]/Table5[[#This Row],[SizTB]]*Exchange_Rate,"") -> 26.331667 | Y4: =Table5[[#This Row],[Cost]]+((CompareWarrYrs-Table5[[#This Row],[Warranty]])*(Incremental_Warr_Yr*Table5[[#This Row],[Cost]]))*Exchange_Rate -> 192.7478 | Z4: =IF(Table5[[#This Row],[$+Warr]],Table5[[#This Row],[$+Warr]]/Table5[[#This Row],[SizTB]],"") -> 32.124633 | AA4: =IFERROR(Table5[[#This Row],[$PerTB]]/CompareWarrYrs,"") -> 6.4249267 | AB4: =IF(OR(Table5[[#This Row],[$ TB/year]]="",Table5[[#This Row],[Energy$yearPerTB]]=""),"",Table5[[#This Row],[$ TB/year]]+Table5[[#This Row],[Energy$yearPerTB]]) | AC4: 29 | AE4: owned by WD
A5: 43301 | B5: HGST | C5: Deskstar NAS | D5: NAS | E5: 3.5 | F5: 8 | G5: 7200 | I5: 11.99 | J5: =(Table5[[#This Row],[RPM]]/5400-1) -> 0.33333333 | K5: 205 | L5: 3 | M5: 600000 | O5: 1000000 | P5: =10^14 -> 100000000000000 | Q5: =1.2*5+2*12 -> 30 | S5: 5.1 | U5: ="" | V5: ="" | W5: 219.99 | X5: =IF(Table5[[#This Row],[Cost]],Table5[[#This Row],[Cost]]/Table5[[#This Row],[SizTB]]*Exchange_Rate,"") -> 27.49875 | Y5: =Table5[[#This Row],[Cost]]+((CompareWarrYrs-Table5[[#This Row],[Warranty]])*(Incremental_Warr_Yr*Table5[[#This Row],[Cost]]))*Exchange_Rate -> 268.3878 | Z5: =IF(Table5[[#This Row],[$+Warr]],Table5[[#This Row],[$+Warr]]/Table5[[#This Row],[SizTB]],"") -> 33.548475 | AA5: =IFERROR(Table5[[#This Row],[$PerTB]]/CompareWarrYrs,"") -> 6.709695 | AB5: =IF(OR(Table5[[#This Row],[$ TB/year]]="",Table5[[#This Row],[Energy$yearPerTB]]=""),"",Table5[[#This Row],[$ TB/year]]+Table5[[#This Row],[Energy$yearPerTB]]) | AC5: 29
A6: 43334 | B6: HGST | C6: Deskstar NAS | D6: NAS | E6: 3.5 | F6: 10 | G6: 7200 | I6: 11.99 | J6: =(Table5[[#This Row],[RPM]]/5400-1) -> 0.33333333 | K6: 240 | L6: 3 | M6: 600000 | O6: 1000000 | P6: =10^14 -> 100000000000000 | Q6: =1.2*5+2*12 -> 30 | S6: 5.1 | U6: ="" | V6: ="" | W6: 289.99 | X6: =IF(Table5[[#This Row],[Cost]],Table5[[#This Row],[Cost]]/Table5[[#This Row],[SizTB]]*Exchange_Rate,"") -> 28.999 | Y6: =Table5[[#This Row],[Cost]]+((CompareWarrYrs-Table5[[#This Row],[Warranty]])*(Incremental_Warr_Yr*Table5[[#This Row],[Cost]]))*Exchange_Rate -> 353.7878 | Z6: =IF(Table5[[#This Row],[$+Warr]],Table5[[#This Row],[$+Warr]]/Table5[[#This Row],[SizTB]],"") -> 35.37878 | AA6: =IFERROR(Table5[[#This Row],[$PerTB]]/CompareWarrYrs,"") -> 7.075756 | AB6: =IF(OR(Table5[[#This Row],[$ TB/year]]="",Table5[[#This Row],[Energy$yearPerTB]]=""),"",Table5[[#This Row],[$ TB/year]]+Table5[[#This Row],[Energy$yearPerTB]]) | AC6: 29
A7: 43298 | B7: HGST | C7: Travelstar 5K1000 | D7: LT | E7: 2.5 | F7: 1 | G7: 5400 | H7: 5.5 | I7: 12 | J7: =(Table5[[#This Row],[RPM]]/5400-1) -> 0 | K7: 99 | L7: 3 | M7: 600000 | Q7: 4.5 | R7: 1.6 | S7: 0.8 | T7: 0.2 | U7: =(((Table5[[#This Row],[Watts Active]]*Power_On_Hours_Year/1000)*Active_Duty_Cycle)+((Table5[[#This Row],[Watts Idle]]*Power_On_Hours_Year/1000)*(100%-Active_Duty_Cycle)))*CostPerKWH -> 1.0518912 | V7: =Table5[Energy$year]/Table5[[#This Row],[SizTB]] -> 1.0518912 | W7: 48.99 | X7: =IF(Table5[[#This Row],[Cost]],Table5[[#This Row],[Cost]]/Table5[[#This Row],[SizTB]]*Exchange_Rate,"") -> 48.99 | Y7: =Table5[[#This Row],[Cost]]+((CompareWarrYrs-Table5[[#This Row],[Warranty]])*(Incremental_Warr_Yr*Table5[[#This Row],[Cost]]))*Exchange_Rate -> 59.7678 | Z7: =IF(Table5[[#This Row],[$+Warr]],Table5[[#This Row],[$+Warr]]/Table5[[#This Row],[SizTB]],"") -> 59.7678 | AA7: =IFERROR(Table5[[#This Row],[$PerTB]]/CompareWarrYrs,"") -> 11.95356 | AB7: =IF(OR(Table5[[#This Row],[$ TB/year]]="",Table5[[#This Row],[Energy$yearPerTB]]=""),"",Table5[[#This Row],[$ TB/year]]+Table5[[#This Row],[Energy$yearPerTB]]) -> 13.005451
A8: 43298 | B8: HGST | C8: Travelstar 7K1000 | D8: LT | E8: 2.5 | F8: 1 | G8: 7200 | H8: 4.2 | I8: 12 | J8: =(Table5[[#This Row],[RPM]]/5400-1) -> 0.33333333 | K8: 128 | L8: 3 | M8: 600000 | Q8: 5.5 | R8: 2.7 | S8: 2 | T8: 0.2 | U8: =(((Table5[[#This Row],[Watts Active]]*Power_On_Hours_Year/1000)*Active_Duty_Cycle)+((Table5[[#This Row],[Watts Idle]]*Power_On_Hours_Year/1000)*(100%-Active_Duty_Cycle)))*CostPerKWH -> 2.3448408 | V8: =Table5[Energy$year]/Table5[[#This Row],[SizTB]] -> 2.3448408 | W8: 58.75 | X8: =IF(Table5[[#This Row],[Cost]],Table5[[#This Row],[Cost]]/Table5[[#This Row],[SizTB]]*Exchange_Rate,"") -> 58.75 | Y8: =Table5[[#This Row],[Cost]]+((CompareWarrYrs-Table5[[#This Row],[Warranty]])*(Incremental_Warr_Yr*Table5[[#This Row],[Cost]]))*Exchange_Rate -> 71.675 | Z8: =IF(Table5[[#This Row],[$+Warr]],Table5[[#This Row],[$+Warr]]/Table5[[#This Row],[SizTB]],"") -> 71.675 | AA8: =IFERROR(Table5[[#This Row],[$PerTB]]/CompareWarrYrs,"") -> 14.335 | AB8: =IF(OR(Table5[[#This Row],[$ TB/year]]="",Table5[[#This Row],[Energy$yearPerTB]]=""),"",Table5[[#This Row],[$ TB/year]]+Table5[[#This Row],[Energy$yearPerTB]]) -> 16.679841
A9: 43094 | B9: HGST | C9: Ultrastar 7K2000 | D9: NAS | E9: 3.5 | F9: 1 | G9: 7200 | H9: 4.2 | I9: 8.3 | J9: =(Table5[[#This Row],[RPM]]/5400-1) -> 0.33333333 | K9: 175 | L9: 5 | M9: 600000 | N9: 550 | O9: 2000000 | P9: 1e+15 | R9: 8.1 | S9: 5.9 | U9: =(((Table5[[#This Row],[Watts Active]]*Power_On_Hours_Year/1000)*Active_Duty_Cycle)+((Table5[[#This Row],[Watts Idle]]*Power_On_Hours_Year/1000)*(100%-Active_Duty_Cycle)))*CostPerKWH -> 6.9468648 | V9: =Table5[Energy$year]/Table5[[#This Row],[SizTB]] -> 6.9468648 | W9: 53.9 | X9: =IF(Table5[[#This Row],[Cost]],Table5[[#This Row],[Cost]]/Table5[[#This Row],[SizTB]]*Exchange_Rate,"") -> 53.9 | Y9: =Table5[[#This Row],[Cost]]+((CompareWarrYrs-Table5[[#This Row],[Warranty]])*(Incremental_Warr_Yr*Table5[[#This Row],[Cost]]))*Exchange_Rate -> 53.9 | Z9: =IF(Table5[[#This Row],[$+Warr]],Table5[[#This Row],[$+Warr]]/Table5[[#This Row],[SizTB]],"") -> 53.9 | AA9: =IFERROR(Table5[[#This Row],[$PerTB]]/CompareWarrYrs,"") -> 10.78 | AB9: =IF(OR(Table5[[#This Row],[$ TB/year]]="",Table5[[#This Row],[Energy$yearPerTB]]=""),"",Table5[[#This Row],[$ TB/year]]+Table5[[#This Row],[Energy$yearPerTB]]) -> 17.726865
A10: 43094 | B10: HGST | C10: Ultrastar 7K2000 | D10: NAS | E10: 3.5 | F10: 2 | G10: 7200 | H10: 4.2 | I10: 8.3 | J10: =(Table5[[#This Row],[RPM]]/5400-1) -> 0.33333333 | K10: 175 | L10: 5 | M10: 600000 | N10: 550 | O10: 2000000 | P10: 1e+15 | R10: 8.1 | S10: 5.9 | U10: =(((Table5[[#This Row],[Watts Active]]*Power_On_Hours_Year/1000)*Active_Duty_Cycle)+((Table5[[#This Row],[Watts Idle]]*Power_On_Hours_Year/1000)*(100%-Active_Duty_Cycle)))*CostPerKWH -> 6.9468648 | V10: =Table5[Energy$year]/Table5[[#This Row],[SizTB]] -> 3.4734324 | W10: 121.38 | X10: =IF(Table5[[#This Row],[Cost]],Table5[[#This Row],[Cost]]/Table5[[#This Row],[SizTB]]*Exchange_Rate,"") -> 60.69 | Y10: =Table5[[#This Row],[Cost]]+((CompareWarrYrs-Table5[[#This Row],[Warranty]])*(Incremental_Warr_Yr*Table5[[#This Row],[Cost]]))*Exchange_Rate -> 121.38 | Z10: =IF(Table5[[#This Row],[$+Warr]],Table5[[#This Row],[$+Warr]]/Table5[[#This Row],[SizTB]],"") -> 60.69 | AA10: =IFERROR(Table5[[#This Row],[$PerTB]]/CompareWarrYrs,"") -> 12.138 | AB10: =IF(OR(Table5[[#This Row],[$ TB/year]]="",Table5[[#This Row],[Energy$yearPerTB]]=""),"",Table5[[#This Row],[$ TB/year]]+Table5[[#This Row],[Energy$yearPerTB]]) -> 15.611432
A11: 43298 | B11: HGST | C11: Ultrastar 7K4000 | D11: NAS | E11: 3.5 | F11: 2 | G11: 7200 | I11: 8 | J11: =(Table5[[#This Row],[RPM]]/5400-1) -> 0.33333333 | K11: 171 | L11: 5 | M11: 600000 | O11: 2000000 | P11: 1e+15 | Q11: =2*12+1.2*5 -> 30 | R11: 11.4 | S11: 6.9 | U11: =(((Table5[[#This Row],[Watts Active]]*Power_On_Hours_Year/1000)*Active_Duty_Cycle)+((Table5[[#This Row],[Watts Idle]]*Power_On_Hours_Year/1000)*(100%-Active_Duty_Cycle)))*CostPerKWH -> 8.546616 | V11: =Table5[Energy$year]/Table5[[#This Row],[SizTB]] -> 4.273308 | W11: 120.89 | X11: =IF(Table5[[#This Row],[Cost]],Table5[[#This Row],[Cost]]/Table5[[#This Row],[SizTB]]*Exchange_Rate,"") -> 60.445 | Y11: =Table5[[#This Row],[Cost]]+((CompareWarrYrs-Table5[[#This Row],[Warranty]])*(Incremental_Warr_Yr*Table5[[#This Row],[Cost]])) -> 120.89 | Z11: =IF(Table5[[#This Row],[$+Warr]],Table5[[#This Row],[$+Warr]]/Table5[[#This Row],[SizTB]],"") -> 60.445 | AA11: =IFERROR(Table5[[#This Row],[$PerTB]]/CompareWarrYrs,"") -> 12.089 | AB11: =IF(OR(Table5[[#This Row],[$ TB/year]]="",Table5[[#This Row],[Energy$yearPerTB]]=""),"",Table5[[#This Row],[$ TB/year]]+Table5[[#This Row],[Energy$yearPerTB]]) -> 16.362308
A12: 43284 | B12: HGST | C12: Ultrastar 7K4000 | D12: NAS | E12: 3.5 | F12: 3 | G12: 7200 | I12: 8 | J12: =(Table5[[#This Row],[RPM]]/5400-1) -> 0.33333333 | K12: 171 | L12: 5 | M12: 600000 | O12: 2000000 | P12: 1e+15 | Q12: =2*12+1.2*5 -> 30 | R12: 11.4 | S12: 6.9 | U12: =(((Table5[[#This Row],[Watts Active]]*Power_On_Hours_Year/1000)*Active_Duty_Cycle)+((Table5[[#This Row],[Watts Idle]]*Power_On_Hours_Year/1000)*(100%-Active_Duty_Cycle)))*CostPerKWH -> 8.546616 | V12: =Table5[Energy$year]/Table5[[#This Row],[SizTB]] -> 2.848872 | W12: 170 | X12: =IF(Table5[[#This Row],[Cost]],Table5[[#This Row],[Cost]]/Table5[[#This Row],[SizTB]]*Exchange_Rate,"") -> 56.666667 | Y12: =Table5[[#This Row],[Cost]]+((CompareWarrYrs-Table5[[#This Row],[Warranty]])*(Incremental_Warr_Yr*Table5[[#This Row],[Cost]])) -> 170 | Z12: =IF(Table5[[#This Row],[$+Warr]],Table5[[#This Row],[$+Warr]]/Table5[[#This Row],[SizTB]],"") -> 56.666667 | AA12: =IFERROR(Table5[[#This Row],[$PerTB]]/CompareWarrYrs,"") -> 11.333333 | AB12: =IF(OR(Table5[[#This Row],[$ TB/year]]="",Table5[[#This Row],[Energy$yearPerTB]]=""),"",Table5[[#This Row],[$ TB/year]]+Table5[[#This Row],[Energy$yearPerTB]]) -> 14.182205
A13: 43298 | B13: HGST | C13: Ultrastar 7K4000 | D13: NAS | E13: 3.5 | F13: 4 | G13: 7200 | I13: 8 | J13: =(Table5[[#This Row],[RPM]]/5400-1) -> 0.33333333 | K13: 171 | L13: 5 | M13: 600000 | O13: 2000000 | P13: 1e+15 | Q13: =2*12+1.2*5 -> 30 | R13: 11.4 | S13: 6.9 | U13: =(((Table5[[#This Row],[Watts Active]]*Power_On_Hours_Year/1000)*Active_Duty_Cycle)+((Table5[[#This Row],[Watts Idle]]*Power_On_Hours_Year/1000)*(100%-Active_Duty_Cycle)))*CostPerKWH -> 8.546616 | V13: =Table5[Energy$year]/Table5[[#This Row],[SizTB]] -> 2.136654 | W13: 119.59 | X13: =IF(Table5[[#This Row],[Cost]],Table5[[#This Row],[Cost]]/Table5[[#This Row],[SizTB]]*Exchange_Rate,"") -> 29.8975 | Y13: =Table5[[#This Row],[Cost]]+((CompareWarrYrs-Table5[[#This Row],[Warranty]])*(Incremental_Warr_Yr*Table5[[#This Row],[Cost]])) -> 119.59 | Z13: =IF(Table5[[#This Row],[$+Warr]],Table5[[#This Row],[$+Warr]]/Table5[[#This Row],[SizTB]],"") -> 29.8975 | AA13: =IFERROR(Table5[[#This Row],[$PerTB]]/CompareWarrYrs,"") -> 5.9795 | AB13: =IF(OR(Table5[[#This Row],[$ TB/year]]="",Table5[[#This Row],[Energy$yearPerTB]]=""),"",Table5[[#This Row],[$ TB/year]]+Table5[[#This Row],[Energy$yearPerTB]]) -> 8.116154
A14: 43298 | B14: HGST | C14: Ultrastar 7K6000 | D14: NAS | E14: 3.5 | F14: 2 | G14: 7200 | H14: 4.16 | I14: 8 | J14: =(Table5[[#This Row],[RPM]]/5400-1) -> 0.33333333 | K14: 192 | L14: 5 | M14: 600000 | O14: 2000000 | P14: 1e+15 | R14: 9.1 | S14: 7.1 | U14: =(((Table5[[#This Row],[Watts Active]]*Power_On_Hours_Year/1000)*Active_Duty_Cycle)+((Table5[[#This Row],[Watts Idle]]*Power_On_Hours_Year/1000)*(100%-Active_Duty_Cycle)))*CostPerKWH -> 8.2179 | V14: =Table5[Energy$year]/Table5[[#This Row],[SizTB]] -> 4.10895 | W14: 154.21 | X14: =IF(Table5[[#This Row],[Cost]],Table5[[#This Row],[Cost]]/Table5[[#This Row],[SizTB]]*Exchange_Rate,"") -> 77.105 | Y14: =Table5[[#This Row],[Cost]]+((CompareWarrYrs-Table5[[#This Row],[Warranty]])*(Incremental_Warr_Yr*Table5[[#This Row],[Cost]]))*Exchange_Rate -> 154.21 | Z14: =IF(Table5[[#This Row],[$+Warr]],Table5[[#This Row],[$+Warr]]/Table5[[#This Row],[SizTB]],"") -> 77.105 | AA14: =IFERROR(Table5[[#This Row],[$PerTB]]/CompareWarrYrs,"") -> 15.421 | AB14: =IF(OR(Table5[[#This Row],[$ TB/year]]="",Table5[[#This Row],[Energy$yearPerTB]]=""),"",Table5[[#This Row],[$ TB/year]]+Table5[[#This Row],[Energy$yearPerTB]]) -> 19.52995 | AC14: =10*2.9 -> 29 | AD14: =10*3.6 -> 36
A15: 43053 | B15: HGST | C15: Ultrastar 7K6000 | D15: NAS | E15: 3.5 | F15: 4 | G15: 7200 | H15: 4.16 | I15: 8 | J15: =(Table5[[#This Row],[RPM]]/5400-1) -> 0.33333333 | K15: 192 | L15: 5 | M15: 600000 | O15: 2000000 | P15: 1e+15 | R15: 9.1 | S15: 7.1 | U15: =(((Table5[[#This Row],[Watts Active]]*Power_On_Hours_Year/1000)*Active_Duty_Cycle)+((Table5[[#This Row],[Watts Idle]]*Power_On_Hours_Year/1000)*(100%-Active_Duty_Cycle)))*CostPerKWH -> 8.2179 | V15: =Table5[Energy$year]/Table5[[#This Row],[SizTB]] -> 2.054475 | W15: 194.85 | X15: =IF(Table5[[#This Row],[Cost]],Table5[[#This Row],[Cost]]/Table5[[#This Row],[SizTB]]*Exchange_Rate,"") -> 48.7125 | Y15: =Table5[[#This Row],[Cost]]+((CompareWarrYrs-Table5[[#This Row],[Warranty]])*(Incremental_Warr_Yr*Table5[[#This Row],[Cost]]))*Exchange_Rate -> 194.85 | Z15: =IF(Table5[[#This Row],[$+Warr]],Table5[[#This Row],[$+Warr]]/Table5[[#This Row],[SizTB]],"") -> 48.7125 | AA15: =IFERROR(Table5[[#This Row],[$PerTB]]/CompareWarrYrs,"") -> 9.7425 | AB15: =IF(OR(Table5[[#This Row],[$ TB/year]]="",Table5[[#This Row],[Energy$yearPerTB]]=""),"",Table5[[#This Row],[$ TB/year]]+Table5[[#This Row],[Energy$yearPerTB]]) -> 11.796975 | AC15: =10*2.9 -> 29 | AD15: =10*3.6 -> 36
A16: 43053 | B16: HGST | C16: Ultrastar 7K6000 | D16: NAS | E16: 3.5 | F16: 5 | G16: 7200 | H16: 4.16 | I16: 8 | J16: =(Table5[[#This Row],[RPM]]/5400-1) -> 0.33333333 | K16: 192 | L16: 5 | M16: 600000 | O16: 2000000 | P16: 1e+15 | R16: 9.1 | S16: 7.1 | U16: =(((Table5[[#This Row],[Watts Active]]*Power_On_Hours_Year/1000)*Active_Duty_Cycle)+((Table5[[#This Row],[Watts Idle]]*Power_On_Hours_Year/1000)*(100%-Active_Duty_Cycle)))*CostPerKWH -> 8.2179 | V16: =Table5[Energy$year]/Table5[[#This Row],[SizTB]] -> 1.64358 | W16: 281.96 | X16: =IF(Table5[[#This Row],[Cost]],Table5[[#This Row],[Cost]]/Table5[[#This Row],[SizTB]]*Exchange_Rate,"") -> 56.392 | Y16: =Table5[[#This Row],[Cost]]+((CompareWarrYrs-Table5[[#This Row],[Warranty]])*(Incremental_Warr_Yr*Table5[[#This Row],[Cost]]))*Exchange_Rate -> 281.96 | Z16: =IF(Table5[[#This Row],[$+Warr]],Table5[[#This Row],[$+Warr]]/Table5[[#This Row],[SizTB]],"") -> 56.392 | AA16: =IFERROR(Table5[[#This Row],[$PerTB]]/CompareWarrYrs,"") -> 11.2784 | AB16: =IF(OR(Table5[[#This Row],[$ TB/year]]="",Table5[[#This Row],[Energy$yearPerTB]]=""),"",Table5[[#This Row],[$ TB/year]]+Table5[[#This Row],[Energy$yearPerTB]]) -> 12.92198 | AC16: =10*2.9 -> 29 | AD16: =10*3.6 -> 36
A17: 43179 | B17: HGST | C17: Ultrastar 7K6000 | D17: NAS | E17: 3.5 | F17: 6 | G17: 7200 | H17: 4.16 | I17: 8 | J17: =(Table5[[#This Row],[RPM]]/5400-1) -> 0.33333333 | K17: 216 | L17: 5 | M17: 600000 | O17: 2000000 | P17: 1e+15 | R17: 9.1 | S17: 7.1 | U17: =(((Table5[[#This Row],[Watts Active]]*Power_On_Hours_Year/1000)*Active_Duty_Cycle)+((Table5[[#This Row],[Watts Idle]]*Power_On_Hours_Year/1000)*(100%-Active_Duty_Cycle)))*CostPerKWH -> 8.2179 | V17: =Table5[Energy$year]/Table5[[#This Row],[SizTB]] -> 1.36965 | W17: =273.99+7.73 -> 281.72 | X17: =IF(Table5[[#This Row],[Cost]],Table5[[#This Row],[Cost]]/Table5[[#This Row],[SizTB]]*Exchange_Rate,"") -> 46.953333 | Y17: =Table5[[#This Row],[Cost]]+((CompareWarrYrs-Table5[[#This Row],[Warranty]])*(Incremental_Warr_Yr*Table5[[#This Row],[Cost]]))*Exchange_Rate -> 281.72 | Z17: =IF(Table5[[#This Row],[$+Warr]],Table5[[#This Row],[$+Warr]]/Table5[[#This Row],[SizTB]],"") -> 46.953333 | AA17: =IFERROR(Table5[[#This Row],[$PerTB]]/CompareWarrYrs,"") -> 9.3906667 | AB17: =IF(OR(Table5[[#This Row],[$ TB/year]]="",Table5[[#This Row],[Energy$yearPerTB]]=""),"",Table5[[#This Row],[$ TB/year]]+Table5[[#This Row],[Energy$yearPerTB]]) -> 10.760317 | AC17: =10*2.9 -> 29 | AD17: =10*3.6 -> 36
A18: 43033 | B18: HGST | C18: Ultrastar Archive Ha10 | D18: SMR | E18: 3.5 | F18: 8 | G18: 7200 | H18: 4.16 | I18: 8.5 | J18: =(Table5[[#This Row],[RPM]]/5400-1) -> 0.33333333 | K18: 157 | L18: 5 | M18: 600000 | O18: 2000000 | P18: 1e+15 | R18: 7.6 | S18: 5.1 | U18: =(((Table5[[#This Row],[Watts Active]]*Power_On_Hours_Year/1000)*Active_Duty_Cycle)+((Table5[[#This Row],[Watts Idle]]*Power_On_Hours_Year/1000)*(100%-Active_Duty_Cycle)))*CostPerKWH -> 6.136032 | V18: =Table5[Energy$year]/Table5[[#This Row],[SizTB]] -> 0.767004 | W18: 373 | X18: =IF(Table5[[#This Row],[Cost]],Table5[[#This Row],[Cost]]/Table5[[#This Row],[SizTB]]*Exchange_Rate,"") -> 46.625 | Y18: =Table5[[#This Row],[Cost]]+((CompareWarrYrs-Table5[[#This Row],[Warranty]])*(Incremental_Warr_Yr*Table5[[#This Row],[Cost]]))*Exchange_Rate -> 373 | Z18: =IF(Table5[[#This Row],[$+Warr]],Table5[[#This Row],[$+Warr]]/Table5[[#This Row],[SizTB]],"") -> 46.625 | AA18: =IFERROR(Table5[[#This Row],[$PerTB]]/CompareWarrYrs,"") -> 9.325 | AB18: =IF(OR(Table5[[#This Row],[$ TB/year]]="",Table5[[#This Row],[Energy$yearPerTB]]=""),"",Table5[[#This Row],[$ TB/year]]+Table5[[#This Row],[Energy$yearPerTB]]) -> 10.092004 | AE18: Helium filled, Shingled (SMR)
A19: 43114 | B19: HGST | C19: Ultrastar C10K900 | D19: NAS | E19: 2.5 | F19: 0.9 | G19: 10520 | H19: 2.85 | I19: 8.5 | J19: =(Table5[[#This Row],[RPM]]/5400-1) -> 0.94814815 | K19: 224 | L19: 5 | O19: 2000000 | P19: 1e+16 | R19: 6.5 | S19: 4.7 | U19: =(((Table5[[#This Row],[Watts Active]]*Power_On_Hours_Year/1000)*Active_Duty_Cycle)+((Table5[[#This Row],[Watts Idle]]*Power_On_Hours_Year/1000)*(100%-Active_Duty_Cycle)))*CostPerKWH -> 5.5443432 | V19: =Table5[Energy$year]/Table5[[#This Row],[SizTB]] -> 6.1603813 | W19: 129.99 | X19: =IF(Table5[[#This Row],[Cost]],Table5[[#This Row],[Cost]]/Table5[[#This Row],[SizTB]]*Exchange_Rate,"") -> 144.43333 | Y19: =Table5[[#This Row],[Cost]]+((CompareWarrYrs-Table5[[#This Row],[Warranty]])*(Incremental_Warr_Yr*Table5[[#This Row],[Cost]]))*Exchange_Rate -> 129.99 | Z19: =IF(Table5[[#This Row],[$+Warr]],Table5[[#This Row],[$+Warr]]/Table5[[#This Row],[SizTB]],"") -> 144.43333 | AA19: =IFERROR(Table5[[#This Row],[$PerTB]]/CompareWarrYrs,"") -> 28.886667 | AB19: =IF(OR(Table5[[#This Row],[$ TB/year]]="",Table5[[#This Row],[Energy$yearPerTB]]=""),"",Table5[[#This Row],[$ TB/year]]+Table5[[#This Row],[Energy$yearPerTB]]) -> 35.047048
A20: 43114 | B20: HGST | C20: Ultrastar C10K1200 | D20: NAS | E20: 2.5 | F20: 1.2 | G20: 10520 | H20: 2.85 | I20: 8.5 | J20: =(Table5[[#This Row],[RPM]]/5400-1) -> 0.94814815 | K20: 224 | L20: 5 | O20: 2000000 | P20: 1e+16 | R20: 6.5 | S20: 4.7 | U20: =(((Table5[[#This Row],[Watts Active]]*Power_On_Hours_Year/1000)*Active_Duty_Cycle)+((Table5[[#This Row],[Watts Idle]]*Power_On_Hours_Year/1000)*(100%-Active_Duty_Cycle)))*CostPerKWH -> 5.5443432 | V20: =Table5[Energy$year]/Table5[[#This Row],[SizTB]] -> 4.620286 | W20: 170 | X20: =IF(Table5[[#This Row],[Cost]],Table5[[#This Row],[Cost]]/Table5[[#This Row],[SizTB]]*Exchange_Rate,"") -> 141.66667 | Y20: =Table5[[#This Row],[Cost]]+((CompareWarrYrs-Table5[[#This Row],[Warranty]])*(Incremental_Warr_Yr*Table5[[#This Row],[Cost]]))*Exchange_Rate -> 170 | Z20: =IF(Table5[[#This Row],[$+Warr]],Table5[[#This Row],[$+Warr]]/Table5[[#This Row],[SizTB]],"") -> 141.66667 | AA20: =IFERROR(Table5[[#This Row],[$PerTB]]/CompareWarrYrs,"") -> 28.333333 | AB20: =IF(OR(Table5[[#This Row],[$ TB/year]]="",Table5[[#This Row],[Energy$yearPerTB]]=""),"",Table5[[#This Row],[$ TB/year]]+Table5[[#This Row],[Energy$yearPerTB]]) -> 32.953619
A21: 43114 | B21: HGST | C21: Ultrastar C10K1800 | D21: NAS | E21: 2.5 | F21: 1.8 | G21: 10520 | H21: 2.85 | I21: 8.5 | J21: =(Table5[[#This Row],[RPM]]/5400-1) -> 0.94814815 | K21: 224 | L21: 5 | O21: 2000000 | P21: 1e+16 | R21: 6.6 | S21: 4.7 | U21: =(((Table5[[#This Row],[Watts Active]]*Power_On_Hours_Year/1000)*Active_Duty_Cycle)+((Table5[[#This Row],[Watts Idle]]*Power_On_Hours_Year/1000)*(100%-Active_Duty_Cycle)))*CostPerKWH -> 5.5662576 | V21: =Table5[Energy$year]/Table5[[#This Row],[SizTB]] -> 3.0923653 | W21: 199.99 | X21: =IF(Table5[[#This Row],[Cost]],Table5[[#This Row],[Cost]]/Table5[[#This Row],[SizTB]]*Exchange_Rate,"") -> 111.10556 | Y21: =Table5[[#This Row],[Cost]]+((CompareWarrYrs-Table5[[#This Row],[Warranty]])*(Incremental_Warr_Yr*Table5[[#This Row],[Cost]]))*Exchange_Rate -> 199.99 | Z21: =IF(Table5[[#This Row],[$+Warr]],Table5[[#This Row],[$+Warr]]/Table5[[#This Row],[SizTB]],"") -> 111.10556 | AA21: =IFERROR(Table5[[#This Row],[$PerTB]]/CompareWarrYrs,"") -> 22.221111 | AB21: =IF(OR(Table5[[#This Row],[$ TB/year]]="",Table5[[#This Row],[Energy$yearPerTB]]=""),"",Table5[[#This Row],[$ TB/year]]+Table5[[#This Row],[Energy$yearPerTB]]) -> 25.313476
A22: 43284 | B22: HGST | C22: Ultrastar C15K600 | D22: NAS | E22: 2.5 | F22: 0.6 | G22: 15030 | H22: 1.99 | I22: 8.5 | J22: =(Table5[[#This Row],[RPM]]/5400-1) -> 1.7833333 | K22: 250 | L22: 5 | O22: 2000000 | P22: 1e+17 | R22: 7.5 | S22: 5.8 | U22: =(((Table5[[#This Row],[Watts Active]]*Power_On_Hours_Year/1000)*Active_Duty_Cycle)+((Table5[[#This Row],[Watts Idle]]*Power_On_Hours_Year/1000)*(100%-Active_Duty_Cycle)))*CostPerKWH -> 6.7277208 | V22: =Table5[Energy$year]/Table5[[#This Row],[SizTB]] -> 11.212868 | W22: 169.99 | X22: =IF(Table5[[#This Row],[Cost]],Table5[[#This Row],[Cost]]/Table5[[#This Row],[SizTB]]*Exchange_Rate,"") -> 283.31667 | Y22: =Table5[[#This Row],[Cost]]+((CompareWarrYrs-Table5[[#This Row],[Warranty]])*(Incremental_Warr_Yr*Table5[[#This Row],[Cost]]))*Exchange_Rate -> 169.99 | Z22: =IF(Table5[[#This Row],[$+Warr]],Table5[[#This Row],[$+Warr]]/Table5[[#This Row],[SizTB]],"") -> 283.31667 | AA22: =IFERROR(Table5[[#This Row],[$PerTB]]/CompareWarrYrs,"") -> 56.663333 | AB22: =IF(OR(Table5[[#This Row],[$ TB/year]]="",Table5[[#This Row],[Energy$yearPerTB]]=""),"",Table5[[#This Row],[$ TB/year]]+Table5[[#This Row],[Energy$yearPerTB]]) -> 67.876201 | AE22: 32GB NAND, Media caching
A23: 43284 | B23: HGST | C23: Ultrastar He6 | D23: NAS | E23: 3.5 | F23: 6 | G23: 7200 | H23: 4.16 | I23: 8.5 | J23: =(Table5[[#This Row],[RPM]]/5400-1) -> 0.33333333 | K23: 195 | L23: 5 | M23: 600000 | N23: 550 | O23: 2500000 | P23: 1e+15 | R23: 7.4 | S23: 5.1 | U23: =(((Table5[[#This Row],[Watts Active]]*Power_On_Hours_Year/1000)*Active_Duty_Cycle)+((Table5[[#This Row],[Watts Idle]]*Power_On_Hours_Year/1000)*(100%-Active_Duty_Cycle)))*CostPerKWH -> 6.0922032 | V23: =Table5[Energy$year]/Table5[[#This Row],[SizTB]] -> 1.0153672 | W23: =313.6+12.95 -> 326.55 | X23: =IF(Table5[[#This Row],[Cost]],Table5[[#This Row],[Cost]]/Table5[[#This Row],[SizTB]]*Exchange_Rate,"") -> 54.425 | Y23: =Table5[[#This Row],[Cost]]+((CompareWarrYrs-Table5[[#This Row],[Warranty]])*(Incremental_Warr_Yr*Table5[[#This Row],[Cost]]))*Exchange_Rate -> 326.55 | Z23: =IF(Table5[[#This Row],[$+Warr]],Table5[[#This Row],[$+Warr]]/Table5[[#This Row],[SizTB]],"") -> 54.425 | AA23: =IFERROR(Table5[[#This Row],[$PerTB]]/CompareWarrYrs,"") -> 10.885 | AB23: =IF(OR(Table5[[#This Row],[$ TB/year]]="",Table5[[#This Row],[Energy$yearPerTB]]=""),"",Table5[[#This Row],[$ TB/year]]+Table5[[#This Row],[Energy$yearPerTB]]) -> 11.900367 | AC23: 20 | AE23: Helium filled
A24: 43284 | B24: HGST | C24: Ultrastar He8 | D24: NAS | E24: 3.5 | F24: 8 | G24: 7200 | H24: 4.16 | I24: 8.5 | J24: =(Table5[[#This Row],[RPM]]/5400-1) -> 0.33333333 | K24: 237 | L24: 5 | M24: 600000 | N24: 550 | O24: 2500000 | P24: 1e+15 | R24: 7.4 | S24: 5.1 | U24: =(((Table5[[#This Row],[Watts Active]]*Power_On_Hours_Year/1000)*Active_Duty_Cycle)+((Table5[[#This Row],[Watts Idle]]*Power_On_Hours_Year/1000)*(100%-Active_Duty_Cycle)))*CostPerKWH -> 6.0922032 | V24: =Table5[Energy$year]/Table5[[#This Row],[SizTB]] -> 0.7615254 | W24: 330.59 | X24: =IF(Table5[[#This Row],[Cost]],Table5[[#This Row],[Cost]]/Table5[[#This Row],[SizTB]]*Exchange_Rate,"") -> 41.32375 | Y24: =Table5[[#This Row],[Cost]]+((CompareWarrYrs-Table5[[#This Row],[Warranty]])*(Incremental_Warr_Yr*Table5[[#This Row],[Cost]]))*Exchange_Rate -> 330.59 | Z24: =IF(Table5[[#This Row],[$+Warr]],Table5[[#This Row],[$+Warr]]/Table5[[#This Row],[SizTB]],"") -> 41.32375 | AA24: =IFERROR(Table5[[#This Row],[$PerTB]]/CompareWarrYrs,"") -> 8.26475 | AB24: =IF(OR(Table5[[#This Row],[$ TB/year]]="",Table5[[#This Row],[Energy$yearPerTB]]=""),"",Table5[[#This Row],[$ TB/year]]+Table5[[#This Row],[Energy$yearPerTB]]) -> 9.0262754 | AC24: 20 | AD24: 36 | AE24: Helium filled, Media caching
A25: 43284 | B25: HGST | C25: Ultrastar He10 | D25: NAS | E25: 3.5 | F25: 10 | G25: 7200 | H25: 4.16 | I25: 8.5 | J25: =(Table5[[#This Row],[RPM]]/5400-1) -> 0.33333333 | K25: 237 | L25: 5 | M25: 600000 | N25: 550 | O25: 2500000 | P25: 1e+15 | R25: 6.8 | S25: 5 | U25: =(((Table5[[#This Row],[Watts Active]]*Power_On_Hours_Year/1000)*Active_Duty_Cycle)+((Table5[[#This Row],[Watts Idle]]*Power_On_Hours_Year/1000)*(100%-Active_Duty_Cycle)))*CostPerKWH -> 5.8730592 | V25: =Table5[Energy$year]/Table5[[#This Row],[SizTB]] -> 0.58730592 | W25: 344.56 | X25: =IF(Table5[[#This Row],[Cost]],Table5[[#This Row],[Cost]]/Table5[[#This Row],[SizTB]]*Exchange_Rate,"") -> 34.456 | Y25: =Table5[[#This Row],[Cost]]+((CompareWarrYrs-Table5[[#This Row],[Warranty]])*(Incremental_Warr_Yr*Table5[[#This Row],[Cost]]))*Exchange_Rate -> 344.56 | Z25: =IF(Table5[[#This Row],[$+Warr]],Table5[[#This Row],[$+Warr]]/Table5[[#This Row],[SizTB]],"") -> 34.456 | AA25: =IFERROR(Table5[[#This Row],[$PerTB]]/CompareWarrYrs,"") -> 6.8912 | AB25: =IF(OR(Table5[[#This Row],[$ TB/year]]="",Table5[[#This Row],[Energy$yearPerTB]]=""),"",Table5[[#This Row],[$ TB/year]]+Table5[[#This Row],[Energy$yearPerTB]]) -> 7.4785059 | AC25: 20 | AD25: 36 | AE25: Helium filled
A26: 43284 | B26: HGST | C26: Ultrastar He12 | D26: NAS | E26: 3.5 | F26: 12 | G26: 7200 | H26: 4.16 | I26: 8.5 | J26: =(Table5[[#This Row],[RPM]]/5400-1) -> 0.33333333 | K26: 243 | L26: 5 | M26: 600000 | N26: 550 | O26: 2500000 | P26: 1e+15 | R26: 7.2 | S26: 5.3 | U26: =(((Table5[[#This Row],[Watts Active]]*Power_On_Hours_Year/1000)*Active_Duty_Cycle)+((Table5[[#This Row],[Watts Idle]]*Power_On_Hours_Year/1000)*(100%-Active_Duty_Cycle)))*CostPerKWH -> 6.2236896 | V26: =Table5[Energy$year]/Table5[[#This Row],[SizTB]] -> 0.5186408 | W26: 429.99 | X26: =IF(Table5[[#This Row],[Cost]],Table5[[#This Row],[Cost]]/Table5[[#This Row],[SizTB]]*Exchange_Rate,"") -> 35.8325 | Y26: =Table5[[#This Row],[Cost]]+((CompareWarrYrs-Table5[[#This Row],[Warranty]])*(Incremental_Warr_Yr*Table5[[#This Row],[Cost]]))*Exchange_Rate -> 429.99 | Z26: =IF(Table5[[#This Row],[$+Warr]],Table5[[#This Row],[$+Warr]]/Table5[[#This Row],[SizTB]],"") -> 35.8325 | AA26: =IFERROR(Table5[[#This Row],[$PerTB]]/CompareWarrYrs,"") -> 7.1665 | AB26: =IF(OR(Table5[[#This Row],[$ TB/year]]="",Table5[[#This Row],[Energy$yearPerTB]]=""),"",Table5[[#This Row],[$ TB/year]]+Table5[[#This Row],[Energy$yearPerTB]]) -> 7.6851408 | AC26: 20 | AD26: 36 | AE26: Helium filled
A27: 43127 | B27: HGST | C27: Ultrastar Hs14 | D27: SMR | E27: 3.5 | F27: 14 | G27: 7200 | H27: 4.16 | I27: 8.5 | J27: =(Table5[[#This Row],[RPM]]/5400-1) -> 0.33333333 | K27: 223 | L27: 5 | M27: 600000 | N27: 550 | O27: 2500000 | P27: 1e+15 | Q27: =12*1.51+5*0.39 -> 20.07 | R27: 6.4 | S27: 5.2 | T27: 0.8 | U27: =(((Table5[[#This Row],[Watts Active]]*Power_On_Hours_Year/1000)*Active_Duty_Cycle)+((Table5[[#This Row],[Watts Idle]]*Power_On_Hours_Year/1000)*(100%-Active_Duty_Cycle)))*CostPerKWH -> 5.9607168 | V27: =Table5[Energy$year]/Table5[[#This Row],[SizTB]] -> 0.42576549 | W27: 650 | X27: =IF(Table5[[#This Row],[Cost]],Table5[[#This Row],[Cost]]/Table5[[#This Row],[SizTB]]*Exchange_Rate,"") -> 46.428571 | Y27: =Table5[[#This Row],[Cost]]+((CompareWarrYrs-Table5[[#This Row],[Warranty]])*(Incremental_Warr_Yr*Table5[[#This Row],[Cost]]))*Exchange_Rate -> 650 | Z27: =IF(Table5[[#This Row],[$+Warr]],Table5[[#This Row],[$+Warr]]/Table5[[#This Row],[SizTB]],"") -> 46.428571 | AA27: =IFERROR(Table5[[#This Row],[$PerTB]]/CompareWarrYrs,"") -> 9.2857143 | AB27: =IF(OR(Table5[[#This Row],[$ TB/year]]="",Table5[[#This Row],[Energy$yearPerTB]]=""),"",Table5[[#This Row],[$ TB/year]]+Table5[[#This Row],[Energy$yearPerTB]]) -> 9.7114798 | AC27: 20 | AD27: 36 | AE27: Helium filled, Shingled (SMR)
A28: 43064 | B28: Seagate | C28: Archive | D28: SMR | E28: 3.5 | F28: 5 | G28: 5900 | J28: =(Table5[[#This Row],[RPM]]/5400-1) -> 0.092592593 | K28: 180 | L28: 3 | M28: 300000 | N28: 180 | O28: 800000 | P28: =10^14 -> 100000000000000 | Q28: 24 | R28: 5.5 | S28: 3.5 | T28: 0.74 | U28: =(((Table5[[#This Row],[Watts Active]]*Power_On_Hours_Year/1000)*Active_Duty_Cycle)+((Table5[[#This Row],[Watts Idle]]*Power_On_Hours_Year/1000)*(100%-Active_Duty_Cycle)))*CostPerKWH -> 4.273308 | V28: =Table5[Energy$year]/Table5[[#This Row],[SizTB]] -> 0.8546616 | W28: 212 | X28: =IF(Table5[[#This Row],[Cost]],Table5[[#This Row],[Cost]]/Table5[[#This Row],[SizTB]]*Exchange_Rate,"") -> 42.4 | Y28: =Table5[[#This Row],[Cost]]+((CompareWarrYrs-Table5[[#This Row],[Warranty]])*(Incremental_Warr_Yr*Table5[[#This Row],[Cost]]))*Exchange_Rate -> 258.64 | Z28: =IF(Table5[[#This Row],[$+Warr]],Table5[[#This Row],[$+Warr]]/Table5[[#This Row],[SizTB]],"") -> 51.728 | AA28: =IFERROR(Table5[[#This Row],[$PerTB]]/CompareWarrYrs,"") -> 10.3456 | AB28: =IF(OR(Table5[[#This Row],[$ TB/year]]="",Table5[[#This Row],[Energy$yearPerTB]]=""),"",Table5[[#This Row],[$ TB/year]]+Table5[[#This Row],[Energy$yearPerTB]]) -> 11.200262
A29: 43064 | B29: Seagate | C29: Archive | D29: SMR | E29: 3.5 | F29: 6 | G29: 5900 | J29: =(Table5[[#This Row],[RPM]]/5400-1) -> 0.092592593 | K29: 190 | L29: 3 | M29: 300000 | N29: 180 | O29: 800000 | P29: =10^14 -> 100000000000000 | Q29: 24 | R29: 7.5 | S29: 5 | T29: 0.999 | U29: =(((Table5[[#This Row],[Watts Active]]*Power_On_Hours_Year/1000)*Active_Duty_Cycle)+((Table5[[#This Row],[Watts Idle]]*Power_On_Hours_Year/1000)*(100%-Active_Duty_Cycle)))*CostPerKWH -> 6.02646 | V29: =Table5[Energy$year]/Table5[[#This Row],[SizTB]] -> 1.00441 | W29: 194.79 | X29: =IF(Table5[[#This Row],[Cost]],Table5[[#This Row],[Cost]]/Table5[[#This Row],[SizTB]]*Exchange_Rate,"") -> 32.465 | Y29: =Table5[[#This Row],[Cost]]+((CompareWarrYrs-Table5[[#This Row],[Warranty]])*(Incremental_Warr_Yr*Table5[[#This Row],[Cost]]))*Exchange_Rate -> 237.6438 | Z29: =IF(Table5[[#This Row],[$+Warr]],Table5[[#This Row],[$+Warr]]/Table5[[#This Row],[SizTB]],"") -> 39.6073 | AA29: =IFERROR(Table5[[#This Row],[$PerTB]]/CompareWarrYrs,"") -> 7.92146 | AB29: =IF(OR(Table5[[#This Row],[$ TB/year]]="",Table5[[#This Row],[Energy$yearPerTB]]=""),"",Table5[[#This Row],[$ TB/year]]+Table5[[#This Row],[Energy$yearPerTB]]) -> 8.92587
A30: 43066 | B30: Seagate | C30: Archive | D30: SMR | E30: 3.5 | F30: 8 | G30: 5900 | H30: 5.5 | I30: 11.99 | J30: =(Table5[[#This Row],[RPM]]/5400-1) -> 0.092592593 | K30: 190 | L30: 3 | M30: 300000 | N30: 180 | O30: 800000 | P30: =10^14 -> 100000000000000 | Q30: 24 | R30: 7.5 | S30: 5 | T30: 0.999 | U30: =(((Table5[[#This Row],[Watts Active]]*Power_On_Hours_Year/1000)*Active_Duty_Cycle)+((Table5[[#This Row],[Watts Idle]]*Power_On_Hours_Year/1000)*(100%-Active_Duty_Cycle)))*CostPerKWH -> 6.02646 | V30: =Table5[Energy$year]/Table5[[#This Row],[SizTB]] -> 0.7533075 | W30: 221.88 | X30: =IF(Table5[[#This Row],[Cost]],Table5[[#This Row],[Cost]]/Table5[[#This Row],[SizTB]]*Exchange_Rate,"") -> 27.735 | Y30: =Table5[[#This Row],[Cost]]+((CompareWarrYrs-Table5[[#This Row],[Warranty]])*(Incremental_Warr_Yr*Table5[[#This Row],[Cost]]))*Exchange_Rate -> 270.6936 | Z30: =IF(Table5[[#This Row],[$+Warr]],Table5[[#This Row],[$+Warr]]/Table5[[#This Row],[SizTB]],"") -> 33.8367 | AA30: =IFERROR(Table5[[#This Row],[$PerTB]]/CompareWarrYrs,"") -> 6.76734 | AB30: =IF(OR(Table5[[#This Row],[$ TB/year]]="",Table5[[#This Row],[Energy$yearPerTB]]=""),"",Table5[[#This Row],[$ TB/year]]+Table5[[#This Row],[Energy$yearPerTB]]) -> 7.5206475
A31: 43320 | B31: Seagate | C31: BarraCuda | D31: LT | E31: 2.5 | F31: 1 | G31: 5400 | J31: =(Table5[[#This Row],[RPM]]/5400-1) -> 0 | K31: 140 | L31: 2 | M31: 600000 | P31: =10^14 -> 100000000000000 | Q31: =1*5 -> 5 | R31: 1.7 | S31: 0.45 | U31: =(((Table5[[#This Row],[Watts Active]]*Power_On_Hours_Year/1000)*Active_Duty_Cycle)+((Table5[[#This Row],[Watts Idle]]*Power_On_Hours_Year/1000)*(100%-Active_Duty_Cycle)))*CostPerKWH -> 0.767004 | V31: =Table5[Energy$year]/Table5[[#This Row],[SizTB]] -> 0.767004 | W31: 41.99 | X31: =IF(Table5[[#This Row],[Cost]],Table5[[#This Row],[Cost]]/Table5[[#This Row],[SizTB]]*Exchange_Rate,"") -> 41.99 | Y31: =Table5[[#This Row],[Cost]]+((CompareWarrYrs-Table5[[#This Row],[Warranty]])*(Incremental_Warr_Yr*Table5[[#This Row],[Cost]]))*Exchange_Rate -> 55.8467 | Z31: =IF(Table5[[#This Row],[$+Warr]],Table5[[#This Row],[$+Warr]]/Table5[[#This Row],[SizTB]],"") -> 55.8467 | AA31: =IFERROR(Table5[[#This Row],[$PerTB]]/CompareWarrYrs,"") -> 11.16934 | AB31: =IF(OR(Table5[[#This Row],[$ TB/year]]="",Table5[[#This Row],[Energy$yearPerTB]]=""),"",Table5[[#This Row],[$ TB/year]]+Table5[[#This Row],[Energy$yearPerTB]]) -> 11.936344 | AC31: 22 | AD31: 24
A32: 43334 | B32: Seagate | C32: BarraCuda | D32: LT | E32: 2.5 | F32: 2 | G32: 5400 | J32: =(Table5[[#This Row],[RPM]]/5400-1) -> 0 | K32: 140 | L32: 2 | M32: 600000 | P32: =10^14 -> 100000000000000 | Q32: =1*5 -> 5 | R32: 1.8 | S32: 0.5 | U32: =(((Table5[[#This Row],[Watts Active]]*Power_On_Hours_Year/1000)*Active_Duty_Cycle)+((Table5[[#This Row],[Watts Idle]]*Power_On_Hours_Year/1000)*(100%-Active_Duty_Cycle)))*CostPerKWH -> 0.8327472 | V32: =Table5[Energy$year]/Table5[[#This Row],[SizTB]] -> 0.4163736 | W32: 69.99 | X32: =IF(Table5[[#This Row],[Cost]],Table5[[#This Row],[Cost]]/Table5[[#This Row],[SizTB]]*Exchange_Rate,"") -> 34.995 | Y32: =Table5[[#This Row],[Cost]]+((CompareWarrYrs-Table5[[#This Row],[Warranty]])*(Incremental_Warr_Yr*Table5[[#This Row],[Cost]]))*Exchange_Rate -> 93.0867 | Z32: =IF(Table5[[#This Row],[$+Warr]],Table5[[#This Row],[$+Warr]]/Table5[[#This Row],[SizTB]],"") -> 46.54335 | AA32: =IFERROR(Table5[[#This Row],[$PerTB]]/CompareWarrYrs,"") -> 9.30867 | AB32: =IF(OR(Table5[[#This Row],[$ TB/year]]="",Table5[[#This Row],[Energy$yearPerTB]]=""),"",Table5[[#This Row],[$ TB/year]]+Table5[[#This Row],[Energy$yearPerTB]]) -> 9.7250436 | AC32: 24 | AD32: 26
A33: 43114 | B33: Seagate | C33: BarraCuda | D33: LT | E33: 2.5 | F33: 3 | G33: 5400 | J33: =(Table5[[#This Row],[RPM]]/5400-1) -> 0 | K33: 140 | L33: 2 | M33: 600000 | P33: =10^14 -> 100000000000000 | Q33: =1.2*5 -> 6 | R33: 2.1 | S33: 1.1 | U33: =(((Table5[[#This Row],[Watts Active]]*Power_On_Hours_Year/1000)*Active_Duty_Cycle)+((Table5[[#This Row],[Watts Idle]]*Power_On_Hours_Year/1000)*(100%-Active_Duty_Cycle)))*CostPerKWH -> 1.424436 | V33: =Table5[Energy$year]/Table5[[#This Row],[SizTB]] -> 0.474812 | W33: 129.99 | X33: =IF(Table5[[#This Row],[Cost]],Table5[[#This Row],[Cost]]/Table5[[#This Row],[SizTB]]*Exchange_Rate,"") -> 43.33 | Y33: =Table5[[#This Row],[Cost]]+((CompareWarrYrs-Table5[[#This Row],[Warranty]])*(Incremental_Warr_Yr*Table5[[#This Row],[Cost]]))*Exchange_Rate -> 172.8867 | Z33: =IF(Table5[[#This Row],[$+Warr]],Table5[[#This Row],[$+Warr]]/Table5[[#This Row],[SizTB]],"") -> 57.6289 | AA33: =IFERROR(Table5[[#This Row],[$PerTB]]/CompareWarrYrs,"") -> 11.52578 | AB33: =IF(OR(Table5[[#This Row],[$ TB/year]]="",Table5[[#This Row],[Energy$yearPerTB]]=""),"",Table5[[#This Row],[$ TB/year]]+Table5[[#This Row],[Energy$yearPerTB]]) -> 12.000592 | AC33: 26 | AD33: 27
A34: 43103 | B34: Seagate | C34: BarraCuda | D34: LT | E34: 2.5 | F34: 4 | G34: 5400 | J34: =(Table5[[#This Row],[RPM]]/5400-1) -> 0 | K34: 140 | L34: 2 | M34: 600000 | P34: =10^14 -> 100000000000000 | Q34: =1.2*5 -> 6 | R34: 2.1 | S34: 1.1 | U34: =(((Table5[[#This Row],[Watts Active]]*Power_On_Hours_Year/1000)*Active_Duty_Cycle)+((Table5[[#This Row],[Watts Idle]]*Power_On_Hours_Year/1000)*(100%-Active_Duty_Cycle)))*CostPerKWH -> 1.424436 | V34: =Table5[Energy$year]/Table5[[#This Row],[SizTB]] -> 0.356109 | W34: 157.09 | X34: =IF(Table5[[#This Row],[Cost]],Table5[[#This Row],[Cost]]/Table5[[#This Row],[SizTB]]*Exchange_Rate,"") -> 39.2725 | Y34: =Table5[[#This Row],[Cost]]+((CompareWarrYrs-Table5[[#This Row],[Warranty]])*(Incremental_Warr_Yr*Table5[[#This Row],[Cost]]))*Exchange_Rate -> 208.9297 | Z34: =IF(Table5[[#This Row],[$+Warr]],Table5[[#This Row],[$+Warr]]/Table5[[#This Row],[SizTB]],"") -> 52.232425 | AA34: =IFERROR(Table5[[#This Row],[$PerTB]]/CompareWarrYrs,"") -> 10.446485 | AB34: =IF(OR(Table5[[#This Row],[$ TB/year]]="",Table5[[#This Row],[Energy$yearPerTB]]=""),"",Table5[[#This Row],[$ TB/year]]+Table5[[#This Row],[Energy$yearPerTB]]) -> 10.802594 | AC34: 26 | AD34: 27
A35: 43114 | B35: Seagate | C35: BarraCuda | D35: LT | E35: 2.5 | F35: 5 | G35: 5400 | J35: =(Table5[[#This Row],[RPM]]/5400-1) -> 0 | K35: 140 | L35: 2 | M35: 600000 | P35: =10^14 -> 100000000000000 | Q35: =1.2*5 -> 6 | R35: 2.1 | S35: 1.1 | U35: =(((Table5[[#This Row],[Watts Active]]*Power_On_Hours_Year/1000)*Active_Duty_Cycle)+((Table5[[#This Row],[Watts Idle]]*Power_On_Hours_Year/1000)*(100%-Active_Duty_Cycle)))*CostPerKWH -> 1.424436 | V35: =Table5[Energy$year]/Table5[[#This Row],[SizTB]] -> 0.2848872 | W35: 196.22 | X35: =IF(Table5[[#This Row],[Cost]],Table5[[#This Row],[Cost]]/Table5[[#This Row],[SizTB]]*Exchange_Rate,"") -> 39.244 | Y35: =Table5[[#This Row],[Cost]]+((CompareWarrYrs-Table5[[#This Row],[Warranty]])*(Incremental_Warr_Yr*Table5[[#This Row],[Cost]]))*Exchange_Rate -> 260.9726 | Z35: =IF(Table5[[#This Row],[$+Warr]],Table5[[#This Row],[$+Warr]]/Table5[[#This Row],[SizTB]],"") -> 52.19452 | AA35: =IFERROR(Table5[[#This Row],[$PerTB]]/CompareWarrYrs,"") -> 10.438904 | AB35: =IF(OR(Table5[[#This Row],[$ TB/year]]="",Table5[[#This Row],[Energy$yearPerTB]]=""),"",Table5[[#This Row],[$ TB/year]]+Table5[[#This Row],[Energy$yearPerTB]]) -> 10.723791 | AC35: 26 | AD35: 27
A36: 43319 | B36: Seagate | C36: BarraCuda | D36: DT | E36: 3.5 | F36: 1 | G36: 7200 | H36: 4.16 | I36: 9.5 | J36: =(Table5[[#This Row],[RPM]]/5400-1) -> 0.33333333 | K36: 156 | L36: 2 | M36: 300000 | N36: 55 | P36: =10^14 -> 100000000000000 | Q36: 24 | R36: 5.3 | S36: 4.6 | T36: 0.94 | U36: =(((Table5[[#This Row],[Watts Active]]*Power_On_Hours_Year/1000)*Active_Duty_Cycle)+((Table5[[#This Row],[Watts Idle]]*Power_On_Hours_Year/1000)*(100%-Active_Duty_Cycle)))*CostPerKWH -> 5.1937128 | V36: =Table5[Energy$year]/Table5[[#This Row],[SizTB]] -> 5.1937128 | W36: 39.99 | X36: =IF(Table5[[#This Row],[Cost]],Table5[[#This Row],[Cost]]/Table5[[#This Row],[SizTB]]*Exchange_Rate,"") -> 39.99 | Y36: =Table5[[#This Row],[Cost]]+((CompareWarrYrs-Table5[[#This Row],[Warranty]])*(Incremental_Warr_Yr*Table5[[#This Row],[Cost]]))*Exchange_Rate -> 53.1867 | Z36: =IF(Table5[[#This Row],[$+Warr]],Table5[[#This Row],[$+Warr]]/Table5[[#This Row],[SizTB]],"") -> 53.1867 | AA36: =IFERROR(Table5[[#This Row],[$PerTB]]/CompareWarrYrs,"") -> 10.63734 | AB36: =IF(OR(Table5[[#This Row],[$ TB/year]]="",Table5[[#This Row],[Energy$yearPerTB]]=""),"",Table5[[#This Row],[$ TB/year]]+Table5[[#This Row],[Energy$yearPerTB]]) -> 15.831053 | AC36: 24 | AD36: 25
A37: 43306 | B37: Seagate | C37: BarraCuda | D37: DT | E37: 3.5 | F37: 2 | G37: 7200 | H37: 6 | I37: 15 | J37: =(Table5[[#This Row],[RPM]]/5400-1) -> 0.33333333 | K37: 190 | L37: 2 | M37: 600000 | N37: 55 | P37: =10^14 -> 100000000000000 | Q37: =2.5*12 -> 30 | R37: 8 | S37: 5.4 | T37: 0.75 | U37: =(((Table5[[#This Row],[Watts Active]]*Power_On_Hours_Year/1000)*Active_Duty_Cycle)+((Table5[[#This Row],[Watts Idle]]*Power_On_Hours_Year/1000)*(100%-Active_Duty_Cycle)))*CostPerKWH -> 6.4866624 | V37: =Table5[Energy$year]/Table5[[#This Row],[SizTB]] -> 3.2433312 | W37: 53.99 | X37: =IF(Table5[[#This Row],[Cost]],Table5[[#This Row],[Cost]]/Table5[[#This Row],[SizTB]]*Exchange_Rate,"") -> 26.995 | Y37: =Table5[[#This Row],[Cost]]+((CompareWarrYrs-Table5[[#This Row],[Warranty]])*(Incremental_Warr_Yr*Table5[[#This Row],[Cost]]))*Exchange_Rate -> 71.8067 | Z37: =IF(Table5[[#This Row],[$+Warr]],Table5[[#This Row],[$+Warr]]/Table5[[#This Row],[SizTB]],"") -> 35.90335 | AA37: =IFERROR(Table5[[#This Row],[$PerTB]]/CompareWarrYrs,"") -> 7.18067 | AB37: =IF(OR(Table5[[#This Row],[$ TB/year]]="",Table5[[#This Row],[Energy$yearPerTB]]=""),"",Table5[[#This Row],[$ TB/year]]+Table5[[#This Row],[Energy$yearPerTB]]) -> 10.424001 | AC37: =2.1*10 -> 21 | AD37: =2.3*10 -> 23
A38: 43320 | B38: Seagate | C38: BarraCuda | D38: DT | E38: 3.5 | F38: 3 | G38: 7200 | H38: 6 | I38: 15 | J38: =(Table5[[#This Row],[RPM]]/5400-1) -> 0.33333333 | K38: 185 | L38: 2 | M38: 600000 | N38: 55 | P38: =10^14 -> 100000000000000 | Q38: =2.5*12 -> 30 | R38: 8 | S38: 5.4 | T38: 0.75 | U38: =(((Table5[[#This Row],[Watts Active]]*Power_On_Hours_Year/1000)*Active_Duty_Cycle)+((Table5[[#This Row],[Watts Idle]]*Power_On_Hours_Year/1000)*(100%-Active_Duty_Cycle)))*CostPerKWH -> 6.4866624 | V38: =Table5[Energy$year]/Table5[[#This Row],[SizTB]] -> 2.1622208 | W38: 69.99 | X38: =IF(Table5[[#This Row],[Cost]],Table5[[#This Row],[Cost]]/Table5[[#This Row],[SizTB]]*Exchange_Rate,"") -> 23.33 | Y38: =Table5[[#This Row],[Cost]]+((CompareWarrYrs-Table5[[#This Row],[Warranty]])*(Incremental_Warr_Yr*Table5[[#This Row],[Cost]]))*Exchange_Rate -> 93.0867 | Z38: =IF(Table5[[#This Row],[$+Warr]],Table5[[#This Row],[$+Warr]]/Table5[[#This Row],[SizTB]],"") -> 31.0289 | AA38: =IFERROR(Table5[[#This Row],[$PerTB]]/CompareWarrYrs,"") -> 6.20578 | AB38: =IF(OR(Table5[[#This Row],[$ TB/year]]="",Table5[[#This Row],[Energy$yearPerTB]]=""),"",Table5[[#This Row],[$ TB/year]]+Table5[[#This Row],[Energy$yearPerTB]]) -> 8.3680008 | AC38: =2.4*10 -> 24 | AD38: =2.7*10 -> 27
A39: 43334 | B39: Seagate | C39: BarraCuda | D39: DT | E39: 3.5 | F39: 4 | G39: 7200 | H39: 6 | I39: 15 | J39: =(Table5[[#This Row],[RPM]]/5400-1) -> 0.33333333 | K39: 190 | L39: 2 | M39: 600000 | N39: 55 | P39: =10^14 -> 100000000000000 | Q39: 24 | R39: 5 | S39: 2.5 | T39: 0.25 | U39: =(((Table5[[#This Row],[Watts Active]]*Power_On_Hours_Year/1000)*Active_Duty_Cycle)+((Table5[[#This Row],[Watts Idle]]*Power_On_Hours_Year/1000)*(100%-Active_Duty_Cycle)))*CostPerKWH -> 3.28716 | V39: =Table5[Energy$year]/Table5[[#This Row],[SizTB]] -> 0.82179 | W39: 89.99 | X39: =IF(Table5[[#This Row],[Cost]],Table5[[#This Row],[Cost]]/Table5[[#This Row],[SizTB]]*Exchange_Rate,"") -> 22.4975 | Y39: =Table5[[#This Row],[Cost]]+((CompareWarrYrs-Table5[[#This Row],[Warranty]])*(Incremental_Warr_Yr*Table5[[#This Row],[Cost]]))*Exchange_Rate -> 119.6867 | Z39: =IF(Table5[[#This Row],[$+Warr]],Table5[[#This Row],[$+Warr]]/Table5[[#This Row],[SizTB]],"") -> 29.921675 | AA39: =IFERROR(Table5[[#This Row],[$PerTB]]/CompareWarrYrs,"") -> 5.984335 | AB39: =IF(OR(Table5[[#This Row],[$ TB/year]]="",Table5[[#This Row],[Energy$yearPerTB]]=""),"",Table5[[#This Row],[$ TB/year]]+Table5[[#This Row],[Energy$yearPerTB]]) -> 6.806125 | AC39: =2.4*10 -> 24 | AD39: =2.7*10 -> 27
A40: 43314 | B40: Seagate | C40: BarraCuda | D40: DT | E40: 3.5 | F40: 6 | G40: 7200 | H40: 6 | I40: 15 | J40: =(Table5[[#This Row],[RPM]]/5400-1) -> 0.33333333 | K40: 185 | L40: 2 | M40: 600000 | N40: 55 | P40: =10^15 -> 1e+15 | Q40: 24 | R40: 5.3 | S40: 3.4 | T40: 0.25 | U40: =(((Table5[[#This Row],[Watts Active]]*Power_On_Hours_Year/1000)*Active_Duty_Cycle)+((Table5[[#This Row],[Watts Idle]]*Power_On_Hours_Year/1000)*(100%-Active_Duty_Cycle)))*CostPerKWH -> 4.1418216 | V40: =Table5[Energy$year]/Table5[[#This Row],[SizTB]] -> 0.6903036 | W40: 140.99 | X40: =IF(Table5[[#This Row],[Cost]],Table5[[#This Row],[Cost]]/Table5[[#This Row],[SizTB]]*Exchange_Rate,"") -> 23.498333 | Y40: =Table5[[#This Row],[Cost]]+((CompareWarrYrs-Table5[[#This Row],[Warranty]])*(Incremental_Warr_Yr*Table5[[#This Row],[Cost]])) -> 187.5167 | Z40: =IF(Table5[[#This Row],[$+Warr]],Table5[[#This Row],[$+Warr]]/Table5[[#This Row],[SizTB]],"") -> 31.252783 | AA40: =IFERROR(Table5[[#This Row],[$PerTB]]/CompareWarrYrs,"") -> 6.2505567 | AB40: =IF(OR(Table5[[#This Row],[$ TB/year]]="",Table5[[#This Row],[Energy$yearPerTB]]=""),"",Table5[[#This Row],[$ TB/year]]+Table5[[#This Row],[Energy$yearPerTB]]) -> 6.9408603 | AC40: =2.5*10 -> 25 | AD40: =2.6*10 -> 26
...

Sheet Tables
A2: Type | B2: NAS
A3: FormFactor | B3: 3.5
A4: NAS Drives Avg Cost By Size Per Year
A5: Row Labels | B5: Average of $ TB/year
A6: 0.9 | B6: 92.657778
A7: 1 | B7: 17.673093
A8: 2 | B8: 13.584556
A9: 3 | B9: 9.9244667
A10: 4 | B10: 7.5289891
A11: 5 | B11: 11.714556
A12: 6 | B12: 7.6296282
A13: 8 | B13: 7.487792
A14: 10 | B14: 7.6139585
A15: 12 | B15: 8.0872593
A16: 14 | B16: #DIV/0!
A17: Avg By Size | B17: 10.891758
A20: Type | B20: NAS
A21: FormFactor | B21: 3.5
A22: Avg Energy Cost by Size per TB per Year
A23: Row Labels | B23: Cost per TB per year
A24: 0.9 | B24: 7.4021973
A25: 1 | B25: 5.0538259
A26: 2 | B26: 3.0546482
A27: 3 | B27: 2.0628755
A28: 4 | B28: 1.7020516
A29: 5 | B29: 1.2359722
A30: 6 | B30: 1.2288666
A31: 8 | B31: 0.85959234
A32: 10 | B32: 0.60361997
A33: 12 | B33: 0.49313487
A34: 14 | B34: 0.38631957
A35: Average | B35: 1.8148846
A38: Type | B38: NAS
A39: FormFactor | B39: 3.5
A40: Avg Energy Cost by Size per Year
A41: Row Labels | B41: Average of Energy$year
A42: 0.9 | B42: 6.6619776
A43: 1 | B43: 5.0538259
A44: 2 | B44: 6.1092964
A45: 3 | B45: 6.1886266
...

Sheet Charts
A1: These are incomplete at this time…

Sheet Database
A1: Date | B1: Manu | C1: Model | D1: Type | E1: SizTB | F1: RPM | G1: AvgLatency | H1: SeekT | I1: PerfCmp | J1: XferRate | K1: Warnty | L1: CycleCnt | M1: WorkLoad | N1: MTBF | O1: RErrRate | P1: MaxStartupWatts | Q1: Watts Active | R1: Watts Idle | S1: WattsStandby | T1: Cost | U1: $ TB | V1: $+Warr | W1: $PerTB | X1: $ TB/year | Y1: Comp $/Perf/Size | Z1: Energy$year | AA1: Energy$yearPerTB | AB1: Notes
D2: NAS | E2: 10 | T2: >100
A4: =DVAR('Drive Table'!$A$2:$AE$149,"Cost",$A$1:$AB$2) -> 5855.4877 | B4: Mean
A5: =DAVERAGE('Drive Table'!$A$2:$AE$149,"Cost",$A$1:$AB$2) -> 357.63111 | B5: Avg
A6: =DMIN('Drive Table'!$A$2:$AE$149,"Cost",$A$1:$AB$2) -> 279.99 | B6: Min
A7: =DMAX('Drive Table'!$A$2:$AE$149,"Cost",$A$1:$AB$2) -> 540.68 | B7: Max
A8: =DCOUNTA('Drive Table'!$A$2:$AE$149,"Cost",$A$1:$AB$2) -> 9 | B8: Qty
