Workbook
Name Active_Duty_Cycle: 'Drive Table'!$D$146
Name CompareWarrYrs: 'Drive Table'!$D$147
Name CostPerKWH: 'Drive Table'!$D$145
Name Day_in_Year: 'Drive Table'!$D$153
Name Days_In_Month: 'Drive Table'!$D$152
Name Days_in_Year: 'Drive Table'!$D$153
Name Exchange_Rate: 'Drive Table'!$D$155
Name Hours_In_Day: 'Drive Table'!$D$150
Name Hours_In_Month: 'Drive Table'!$D$151
Name Incremental_Warr_Yr: 'Drive Table'!$D$148
Name Months_In_Year: 'Drive Table'!$D$154
Name Power_On_Hours_Year: 'Drive Table'!$D$149

Sheet Drive Table
A1: SPECIFICATIONS | G1: PERFORMANCE | L1: DURABILITY | Q1: POWER USAGE | W1: ACTUAL COST | Y1: Warranty_Normalized_Computed | AB1: ACOUSTICS
A2: Date | B2: Manu | C2: Model | D2: Type | E2: FormFactor | F2: SizTB | G2: RPM | H2: AvgLatency | I2: SeekT | J2: PerfCmp | K2: XferRate | L2: S | M2: CycleCnt | N2: WorkLoad | O2: MTBF | P2: RErrRate | Q2: MaxStartupWatts | R2: Watts Active | S2: Watts Idle | T2: WattsStandby | U2: Energy$year | V2: Energy$yearPerTB | W2: Cost | X2: $ TB | Y2: $+Warr | Z2: $PerTB | AA2: $ TB/year | AB2: DBA_Idle | AC2: DBA_Seek | AD2: Notes
A3: 43036 | B3: HGST | C3: Deskstar NAS | D3: NAS | E3: 3.5 | F3: 4 | G3: 7200 | I3: 11.99 | J3: =(Table5[[#This Row],[RPM]]/5400-1) -> 0.33333333 | K3: 202 | L3: 3 | M3: 600000 | O3: 1000000 | P3: =10^14 -> 100000000000000 | Q3: =1.2*5+2*12 -> 30 | S3: 7.3 | W3: =219.99/2 -> 109.995 | X3: =Table5[[#This Row],[Cost]]/Table5[[#This Row],[SizTB]]*Exchange_Rate -> 27.49875 | Y3: =Table5[[#This Row],[Cost]]+((CompareWarrYrs-Table5[[#This Row],[S]])*(Incremental_Warr_Yr*Table5[[#This Row],[Cost]]))*Exchange_Rate -> 134.1939 | Z3: =Table5[[#This Row],[$+Warr]]/Table5[[#This Row],[SizTB]] -> 33.548475 | AA3: =Table5[[#This Row],[$PerTB]]/CompareWarrYrs -> 6.709695 | AD3: Enterprise HGST drives are now
A4: 43101 | B4: HGST | C4: Deskstar NAS | D4: NAS | E4: 3.5 | F4: 6 | G4: 7200 | I4: 11.99 | J4: =(Table5[[#This Row],[RPM]]/5400-1) -> 0.33333333 | K4: 227 | L4: 3 | M4: 600000 | O4: 1000000 | P4: =10^14 -> 100000000000000 | Q4: =1.2*5+2*12 -> 30 | S4: 7.3 | W4: 164.99 | X4: =Table5[[#This Row],[Cost]]/Table5[[#This Row],[SizTB]]*Exchange_Rate -> 27.498333 | Y4: =Table5[[#This Row],[Cost]]+((CompareWarrYrs-Table5[[#This Row],[S]])*(Incremental_Warr_Yr*Table5[[#This Row],[Cost]]))*Exchange_Rate -> 201.2878 | Z4: =Table5[[#This Row],[$+Warr]]/Table5[[#This Row],[SizTB]] -> 33.547967 | AA4: =Table5[[#This Row],[$PerTB]]/CompareWarrYrs -> 6.7095933 | AD4: owned by WD
A5: 43094 | B5: HGST | C5: Deskstar NAS | D5: NAS | E5: 3.5 | F5: 8 | G5: 7200 | I5: 11.99 | J5: =(Table5[[#This Row],[RPM]]/5400-1) -> 0.33333333 | K5: 205 | L5: 3 | M5: 600000 | O5: 1000000 | P5: =10^14 -> 100000000000000 | Q5: =1.2*5+2*12 -> 30 | S5: 5.1 | W5: 244.99 | X5: =Table5[[#This Row],[Cost]]/Table5[[#This Row],[SizTB]]*Exchange_Rate -> 30.62375 | Y5: =Table5[[#This Row],[Cost]]+((CompareWarrYrs-Table5[[#This Row],[S]])*(Incremental_Warr_Yr*Table5[[#This Row],[Cost]]))*Exchange_Rate -> 298.8878 | Z5: =Table5[[#This Row],[$+Warr]]/Table5[[#This Row],[SizTB]] -> 37.360975 | AA5: =Table5[[#This Row],[$PerTB]]/CompareWarrYrs -> 7.472195
A6: 43080 | B6: HGST | C6: Deskstar NAS | D6: NAS | E6: 3.5 | F6: 10 | G6: 7200 | I6: 11.99 | J6: =(Table5[[#This Row],[RPM]]/5400-1) -> 0.33333333 | K6: 240 | L6: 3 | M6: 600000 | O6: 1000000 | P6: =10^14 -> 100000000000000 | Q6: =1.2*5+2*12 -> 30 | S6: 5.1 | W6: 319 | X6: =Table5[[#This Row],[Cost]]/Table5[[#This Row],[SizTB]]*Exchange_Rate -> 31.9 | Y6: =Table5[[#This Row],[Cost]]+((CompareWarrYrs-Table5[[#This Row],[S]])*(Incremental_Warr_Yr*Table5[[#This Row],[Cost]]))*Exchange_Rate -> 389.18 | Z6: =Table5[[#This Row],[$+Warr]]/Table5[[#This Row],[SizTB]] -> 38.918 | AA6: =Table5[[#This Row],[$PerTB]]/CompareWarrYrs -> 7.7836
A7: 43005 | B7: HGST | C7: Travelstar 5K1000 | D7: LT | E7: 2.5 | F7: 1 | G7: 5400 | H7: 5.5 | I7: 12 | J7: =(Table5[[#This Row],[RPM]]/5400-1) -> 0 | K7: 99 | L7: 3 | M7: 600000 | Q7: 4.5 | R7: 1.6 | S7: 0.8 | T7: 0.2 | U7: =(((Table5[[#This Row],[Watts Active]]*Power_On_Hours_Year/1000)*Active_Duty_Cycle)+((Table5[[#This Row],[Watts Idle]]*Power_On_Hours_Year/1000)*(100%-Active_Duty_Cycle)))*CostPerKWH -> 1.0518912 | V7: =Table5[Energy$year]/Table5[[#This Row],[SizTB]] -> 1.0518912 | W7: 49.99 | X7: =Table5[[#This Row],[Cost]]/Table5[[#This Row],[SizTB]]*Exchange_Rate -> 49.99 | Y7: =Table5[[#This Row],[Cost]]+((CompareWarrYrs-Table5[[#This Row],[S]])*(Incremental_Warr_Yr*Table5[[#This Row],[Cost]]))*Exchange_Rate -> 60.9878 | Z7: =Table5[[#This Row],[$+Warr]]/Table5[[#This Row],[SizTB]] -> 60.9878 | AA7: =Table5[[#This Row],[$PerTB]]/CompareWarrYrs -> 12.19756
A8: 43080 | B8: HGST | C8: Travelstar 7K1000 | D8: LT | E8: 2.5 | F8: 1 | G8: 7200 | H8: 4.2 | I8: 12 | J8: =(Table5[[#This Row],[RPM]]/5400-1) -> 0.33333333 | K8: 128 | L8: 3 | M8: 600000 | Q8: 5.5 | R8: 2.7 | S8: 2 | T8: 0.2 | U8: =(((Table5[[#This Row],[Watts Active]]*Power_On_Hours_Year/1000)*Active_Duty_Cycle)+((Table5[[#This Row],[Watts Idle]]*Power_On_Hours_Year/1000)*(100%-Active_Duty_Cycle)))*CostPerKWH -> 2.3448408 | V8: =Table5[Energy$year]/Table5[[#This Row],[SizTB]] -> 2.3448408 | W8: 54.99 | X8: =Table5[[#This Row],[Cost]]/Table5[[#This Row],[SizTB]]*Exchange_Rate -> 54.99 | Y8: =Table5[[#This Row],[Cost]]+((CompareWarrYrs-Table5[[#This Row],[S]])*(Incremental_Warr_Yr*Table5[[#This Row],[Cost]]))*Exchange_Rate -> 67.0878 | Z8: =Table5[[#This Row],[$+Warr]]/Table5[[#This Row],[SizTB]] -> 67.0878 | AA8: =Table5[[#This Row],[$PerTB]]/CompareWarrYrs -> 13.41756
A9: 43094 | B9: HGST | C9: Ultrastar 7K2000 | D9: NAS | E9: 3.5 | F9: 1 | G9: 7200 | H9: 4.2 | I9: 8.3 | J9: =(Table5[[#This Row],[RPM]]/5400-1) -> 0.33333333 | K9: 175 | L9: 5 | M9: 600000 | N9: 550 | O9: 2000000 | P9: 1e+15 | R9: 8.1 | S9: 5.9 | U9: =(((Table5[[#This Row],[Watts Active]]*Power_On_Hours_Year/1000)*Active_Duty_Cycle)+((Table5[[#This Row],[Watts Idle]]*Power_On_Hours_Year/1000)*(100%-Active_Duty_Cycle)))*CostPerKWH -> 6.9468648 | V9: =Table5[Energy$year]/Table5[[#This Row],[SizTB]] -> 6.9468648 | W9: 53.9 | X9: =Table5[[#This Row],[Cost]]/Table5[[#This Row],[SizTB]]*Exchange_Rate -> 53.9 | Y9: =Table5[[#This Row],[Cost]]+((CompareWarrYrs-Table5[[#This Row],[S]])*(Incremental_Warr_Yr*Table5[[#This Row],[Cost]]))*Exchange_Rate -> 53.9 | Z9: =Table5[[#This Row],[$+Warr]]/Table5[[#This Row],[SizTB]] -> 53.9 | AA9: =Table5[[#This Row],[$PerTB]]/CompareWarrYrs -> 10.78
A10: 43094 | B10: HGST | C10: Ultrastar 7K2000 | D10: NAS | E10: 3.5 | F10: 2 | G10: 7200 | H10: 4.2 | I10: 8.3 | J10: =(Table5[[#This Row],[RPM]]/5400-1) -> 0.33333333 | K10: 175 | L10: 5 | M10: 600000 | N10: 550 | O10: 2000000 | P10: 1e+15 | R10: 8.1 | S10: 5.9 | U10: =(((Table5[[#This Row],[Watts Active]]*Power_On_Hours_Year/1000)*Active_Duty_Cycle)+((Table5[[#This Row],[Watts Idle]]*Power_On_Hours_Year/1000)*(100%-Active_Duty_Cycle)))*CostPerKWH -> 6.9468648 | V10: =Table5[Energy$year]/Table5[[#This Row],[SizTB]] -> 3.4734324 | W10: 121.38 | X10: =Table5[[#This Row],[Cost]]/Table5[[#This Row],[SizTB]]*Exchange_Rate -> 60.69 | Y10: =Table5[[#This Row],[Cost]]+((CompareWarrYrs-Table5[[#This Row],[S]])*(Incremental_Warr_Yr*Table5[[#This Row],[Cost]]))*Exchange_Rate -> 121.38 | Z10: =Table5[[#This Row],[$+Warr]]/Table5[[#This Row],[SizTB]] -> 60.69 | AA10: =Table5[[#This Row],[$PerTB]]/CompareWarrYrs -> 12.138
A11: 43053 | B11: HGST | C11: Ultrastar 7K6000 | D11: NAS | E11: 3.5 | F11: 2 | G11: 7200 | H11: 4.16 | I11: 8 | J11: =(Table5[[#This Row],[RPM]]/5400-1) -> 0.33333333 | K11: 192 | L11: 5 | M11: 600000 | O11: 2000000 | P11: 1e+15 | R11: 9.1 | S11: 7.1 | U11: =(((Table5[[#This Row],[Watts Active]]*Power_On_Hours_Year/1000)*Active_Duty_Cycle)+((Table5[[#This Row],[Watts Idle]]*Power_On_Hours_Year/1000)*(100%-Active_Duty_Cycle)))*CostPerKWH -> 8.2179 | V11: =Table5[Energy$year]/Table5[[#This Row],[SizTB]] -> 4.10895 | W11: 146.38 | X11: =Table5[[#This Row],[Cost]]/Table5[[#This Row],[SizTB]]*Exchange_Rate -> 73.19 | Y11: =Table5[[#This Row],[Cost]]+((CompareWarrYrs-Table5[[#This Row],[S]])*(Incremental_Warr_Yr*Table5[[#This Row],[Cost]]))*Exchange_Rate -> 146.38 | Z11: =Table5[[#This Row],[$+Warr]]/Table5[[#This Row],[SizTB]] -> 73.19 | AA11: =Table5[[#This Row],[$PerTB]]/CompareWarrYrs -> 14.638
A12: 43053 | B12: HGST | C12: Ultrastar 7K6000 | D12: NAS | E12: 3.5 | F12: 4 | G12: 7200 | H12: 4.16 | I12: 8 | J12: =(Table5[[#This Row],[RPM]]/5400-1) -> 0.33333333 | K12: 192 | L12: 5 | M12: 600000 | O12: 2000000 | P12: 1e+15 | R12: 9.1 | S12: 7.1 | U12: =(((Table5[[#This Row],[Watts Active]]*Power_On_Hours_Year/1000)*Active_Duty_Cycle)+((Table5[[#This Row],[Watts Idle]]*Power_On_Hours_Year/1000)*(100%-Active_Duty_Cycle)))*CostPerKWH -> 8.2179 | V12: =Table5[Energy$year]/Table5[[#This Row],[SizTB]] -> 2.054475 | W12: 194.85 | X12: =Table5[[#This Row],[Cost]]/Table5[[#This Row],[SizTB]]*Exchange_Rate -> 48.7125 | Y12: =Table5[[#This Row],[Cost]]+((CompareWarrYrs-Table5[[#This Row],[S]])*(Incremental_Warr_Yr*Table5[[#This Row],[Cost]]))*Exchange_Rate -> 194.85 | Z12: =Table5[[#This Row],[$+Warr]]/Table5[[#This Row],[SizTB]] -> 48.7125 | AA12: =Table5[[#This Row],[$PerTB]]/CompareWarrYrs -> 9.7425
A13: 43053 | B13: HGST | C13: Ultrastar 7K6000 | D13: NAS | E13: 3.5 | F13: 5 | G13: 7200 | H13: 4.16 | I13: 8 | J13: =(Table5[[#This Row],[RPM]]/5400-1) -> 0.33333333 | K13: 192 | L13: 5 | M13: 600000 | O13: 2000000 | P13: 1e+15 | R13: 9.1 | S13: 7.1 | U13: =(((Table5[[#This Row],[Watts Active]]*Power_On_Hours_Year/1000)*Active_Duty_Cycle)+((Table5[[#This Row],[Watts Idle]]*Power_On_Hours_Year/1000)*(100%-Active_Duty_Cycle)))*CostPerKWH -> 8.2179 | V13: =Table5[Energy$year]/Table5[[#This Row],[SizTB]] -> 1.64358 | W13: 281.96 | X13: =Table5[[#This Row],[Cost]]/Table5[[#This Row],[SizTB]]*Exchange_Rate -> 56.392 | Y13: =Table5[[#This Row],[Cost]]+((CompareWarrYrs-Table5[[#This Row],[S]])*(Incremental_Warr_Yr*Table5[[#This Row],[Cost]]))*Exchange_Rate -> 281.96 | Z13: =Table5[[#This Row],[$+Warr]]/Table5[[#This Row],[SizTB]] -> 56.392 | AA13: =Table5[[#This Row],[$PerTB]]/CompareWarrYrs -> 11.2784
A14: 43053 | B14: HGST | C14: Ultrastar 7K6000 | D14: NAS | E14: 3.5 | F14: 6 | G14: 7200 | H14: 4.16 | I14: 8 | J14: =(Table5[[#This Row],[RPM]]/5400-1) -> 0.33333333 | K14: 216 | L14: 5 | M14: 600000 | O14: 2000000 | P14: 1e+15 | R14: 9.1 | S14: 7.1 | U14: =(((Table5[[#This Row],[Watts Active]]*Power_On_Hours_Year/1000)*Active_Duty_Cycle)+((Table5[[#This Row],[Watts Idle]]*Power_On_Hours_Year/1000)*(100%-Active_Duty_Cycle)))*CostPerKWH -> 8.2179 | V14: =Table5[Energy$year]/Table5[[#This Row],[SizTB]] -> 1.36965 | W14: 257.62 | X14: =Table5[[#This Row],[Cost]]/Table5[[#This Row],[SizTB]]*Exchange_Rate -> 42.936667 | Y14: =Table5[[#This Row],[Cost]]+((CompareWarrYrs-Table5[[#This Row],[S]])*(Incremental_Warr_Yr*Table5[[#This Row],[Cost]]))*Exchange_Rate -> 257.62 | Z14: =Table5[[#This Row],[$+Warr]]/Table5[[#This Row],[SizTB]] -> 42.936667 | AA14: =Table5[[#This Row],[$PerTB]]/CompareWarrYrs -> 8.5873333
A15: 43033 | B15: HGST | C15: Ultrastar Archive Ha10 | D15: SMR | E15: 3.5 | F15: 8 | G15: 7200 | H15: 4.16 | I15: 8.5 | J15: =(Table5[[#This Row],[RPM]]/5400-1) -> 0.33333333 | K15: 157 | L15: 5 | M15: 600000 | O15: 2000000 | P15: 1e+15 | R15: 7.6 | S15: 5.1 | U15: =(((Table5[[#This Row],[Watts Active]]*Power_On_Hours_Year/1000)*Active_Duty_Cycle)+((Table5[[#This Row],[Watts Idle]]*Power_On_Hours_Year/1000)*(100%-Active_Duty_Cycle)))*CostPerKWH -> 6.136032 | V15: =Table5[Energy$year]/Table5[[#This Row],[SizTB]] -> 0.767004 | W15: 373 | X15: =Table5[[#This Row],[Cost]]/Table5[[#This Row],[SizTB]]*Exchange_Rate -> 46.625 | Y15: =Table5[[#This Row],[Cost]]+((CompareWarrYrs-Table5[[#This Row],[S]])*(Incremental_Warr_Yr*Table5[[#This Row],[Cost]]))*Exchange_Rate -> 373 | Z15: =Table5[[#This Row],[$+Warr]]/Table5[[#This Row],[SizTB]] -> 46.625 | AA15: =Table5[[#This Row],[$PerTB]]/CompareWarrYrs -> 9.325 | AD15: Helium filled, Shingled (SMR)
A16: 43047 | B16: HGST | C16: Ultrastar C10K1200 | D16: NAS | E16: 2.5 | F16: 1.2 | G16: 10520 | H16: 2.85 | I16: 4.4 | J16: =(Table5[[#This Row],[RPM]]/5400-1) -> 0.94814815 | K16: 224 | L16: 5 | O16: 2000000 | P16: 1e+16 | R16: 6.5 | S16: 4.7 | U16: =(((Table5[[#This Row],[Watts Active]]*Power_On_Hours_Year/1000)*Active_Duty_Cycle)+((Table5[[#This Row],[Watts Idle]]*Power_On_Hours_Year/1000)*(100%-Active_Duty_Cycle)))*CostPerKWH -> 5.5443432 | V16: =Table5[Energy$year]/Table5[[#This Row],[SizTB]] -> 4.620286 | W16: 170 | X16: =Table5[[#This Row],[Cost]]/Table5[[#This Row],[SizTB]]*Exchange_Rate -> 141.66667 | Y16: =Table5[[#This Row],[Cost]]+((CompareWarrYrs-Table5[[#This Row],[S]])*(Incremental_Warr_Yr*Table5[[#This Row],[Cost]]))*Exchange_Rate -> 170 | Z16: =Table5[[#This Row],[$+Warr]]/Table5[[#This Row],[SizTB]] -> 141.66667 | AA16: =Table5[[#This Row],[$PerTB]]/CompareWarrYrs -> 28.333333
A17: 43047 | B17: HGST | C17: Ultrastar C10K1800 | D17: NAS | E17: 2.5 | F17: 1.8 | G17: 10520 | H17: 2.85 | I17: 4.4 | J17: =(Table5[[#This Row],[RPM]]/5400-1) -> 0.94814815 | K17: 224 | L17: 5 | O17: 2000000 | P17: 1e+16 | R17: 6.6 | S17: 4.7 | U17: =(((Table5[[#This Row],[Watts Active]]*Power_On_Hours_Year/1000)*Active_Duty_Cycle)+((Table5[[#This Row],[Watts Idle]]*Power_On_Hours_Year/1000)*(100%-Active_Duty_Cycle)))*CostPerKWH -> 5.5662576 | V17: =Table5[Energy$year]/Table5[[#This Row],[SizTB]] -> 3.0923653 | W17: 229.99 | X17: =Table5[[#This Row],[Cost]]/Table5[[#This Row],[SizTB]]*Exchange_Rate -> 127.77222 | Y17: =Table5[[#This Row],[Cost]]+((CompareWarrYrs-Table5[[#This Row],[S]])*(Incremental_Warr_Yr*Table5[[#This Row],[Cost]]))*Exchange_Rate -> 229.99 | Z17: =Table5[[#This Row],[$+Warr]]/Table5[[#This Row],[SizTB]] -> 127.77222 | AA17: =Table5[[#This Row],[$PerTB]]/CompareWarrYrs -> 25.554444
A18: 43050 | B18: HGST | C18: Ultrastar C15K600 | D18: NAS | E18: 2.5 | F18: 0.6 | G18: 15030 | H18: 1.99 | I18: 3.1 | J18: =(Table5[[#This Row],[RPM]]/5400-1) -> 1.7833333 | K18: 250 | L18: 5 | O18: 2000000 | P18: 1e+17 | R18: 7.5 | S18: 5.8 | U18: =(((Table5[[#This Row],[Watts Active]]*Power_On_Hours_Year/1000)*Active_Duty_Cycle)+((Table5[[#This Row],[Watts Idle]]*Power_On_Hours_Year/1000)*(100%-Active_Duty_Cycle)))*CostPerKWH -> 6.7277208 | V18: =Table5[Energy$year]/Table5[[#This Row],[SizTB]] -> 11.212868 | W18: 189.95 | X18: =Table5[[#This Row],[Cost]]/Table5[[#This Row],[SizTB]]*Exchange_Rate -> 316.58333 | Y18: =Table5[[#This Row],[Cost]]+((CompareWarrYrs-Table5[[#This Row],[S]])*(Incremental_Warr_Yr*Table5[[#This Row],[Cost]]))*Exchange_Rate -> 189.95 | Z18: =Table5[[#This Row],[$+Warr]]/Table5[[#This Row],[SizTB]] -> 316.58333 | AA18: =Table5[[#This Row],[$PerTB]]/CompareWarrYrs -> 63.316667 | AD18: 32GB NAND, Media caching
A19: 43019 | B19: HGST | C19: Ultrastar He6 | D19: NAS | E19: 3.5 | F19: 6 | G19: 7200 | H19: 4.16 | I19: 9 | J19: =(Table5[[#This Row],[RPM]]/5400-1) -> 0.33333333 | K19: 195 | L19: 5 | M19: 600000 | N19: 550 | O19: 2500000 | P19: 1e+15 | R19: 7.4 | S19: 5.1 | U19: =(((Table5[[#This Row],[Watts Active]]*Power_On_Hours_Year/1000)*Active_Duty_Cycle)+((Table5[[#This Row],[Watts Idle]]*Power_On_Hours_Year/1000)*(100%-Active_Duty_Cycle)))*CostPerKWH -> 6.0922032 | V19: =Table5[Energy$year]/Table5[[#This Row],[SizTB]] -> 1.0153672 | W19: 169.99 | X19: =Table5[[#This Row],[Cost]]/Table5[[#This Row],[SizTB]]*Exchange_Rate -> 28.331667 | Y19: =Table5[[#This Row],[Cost]]+((CompareWarrYrs-Table5[[#This Row],[S]])*(Incremental_Warr_Yr*Table5[[#This Row],[Cost]]))*Exchange_Rate -> 169.99 | Z19: =Table5[[#This Row],[$+Warr]]/Table5[[#This Row],[SizTB]] -> 28.331667 | AA19: =Table5[[#This Row],[$PerTB]]/CompareWarrYrs -> 5.6663333 | AD19: Helium filled
A20: 43094 | B20: HGST | C20: Ultrastar He8 | D20: NAS | E20: 3.5 | F20: 8 | G20: 7200 | H20: 4.16 | I20: 8.5 | J20: =(Table5[[#This Row],[RPM]]/5400-1) -> 0.33333333 | K20: 237 | L20: 5 | M20: 600000 | N20: 550 | O20: 2500000 | P20: 1e+15 | R20: 7.4 | S20: 5.1 | U20: =(((Table5[[#This Row],[Watts Active]]*Power_On_Hours_Year/1000)*Active_Duty_Cycle)+((Table5[[#This Row],[Watts Idle]]*Power_On_Hours_Year/1000)*(100%-Active_Duty_Cycle)))*CostPerKWH -> 6.0922032 | V20: =Table5[Energy$year]/Table5[[#This Row],[SizTB]] -> 0.7615254 | W20: 199.99 | X20: =Table5[[#This Row],[Cost]]/Table5[[#This Row],[SizTB]]*Exchange_Rate -> 24.99875 | Y20: =Table5[[#This Row],[Cost]]+((CompareWarrYrs-Table5[[#This Row],[S]])*(Incremental_Warr_Yr*Table5[[#This Row],[Cost]]))*Exchange_Rate -> 199.99 | Z20: =Table5[[#This Row],[$+Warr]]/Table5[[#This Row],[SizTB]] -> 24.99875 | AA20: =Table5[[#This Row],[$PerTB]]/CompareWarrYrs -> 4.99975 | AD20: Helium filled, Media caching
A21: 43066 | B21: HGST | C21: Ultrastar He10 | D21: NAS | E21: 3.5 | F21: 10 | G21: 7200 | H21: 4.16 | I21: 8 | J21: =(Table5[[#This Row],[RPM]]/5400-1) -> 0.33333333 | K21: 237 | L21: 5 | M21: 600000 | N21: 550 | O21: 2500000 | P21: 1e+15 | R21: 6.8 | S21: 5 | U21: =(((Table5[[#This Row],[Watts Active]]*Power_On_Hours_Year/1000)*Active_Duty_Cycle)+((Table5[[#This Row],[Watts Idle]]*Power_On_Hours_Year/1000)*(100%-Active_Duty_Cycle)))*CostPerKWH -> 5.8730592 | V21: =Table5[Energy$year]/Table5[[#This Row],[SizTB]] -> 0.58730592 | W21: 369.99 | X21: =Table5[[#This Row],[Cost]]/Table5[[#This Row],[SizTB]]*Exchange_Rate -> 36.999 | Y21: =Table5[[#This Row],[Cost]]+((CompareWarrYrs-Table5[[#This Row],[S]])*(Incremental_Warr_Yr*Table5[[#This Row],[Cost]]))*Exchange_Rate -> 369.99 | Z21: =Table5[[#This Row],[$+Warr]]/Table5[[#This Row],[SizTB]] -> 36.999 | AA21: =Table5[[#This Row],[$PerTB]]/CompareWarrYrs -> 7.3998 | AD21: Helium filled
A22: 43066 | B22: HGST | C22: Ultrastar He12 | D22: NAS | E22: 3.5 | F22: 12 | G22: 7200 | H22: 4.16 | I22: 8.6 | J22: =(Table5[[#This Row],[RPM]]/5400-1) -> 0.33333333 | K22: 243 | L22: 5 | M22: 600000 | N22: 550 | O22: 2500000 | P22: 1e+15 | R22: 7.2 | S22: 5.3 | U22: =(((Table5[[#This Row],[Watts Active]]*Power_On_Hours_Year/1000)*Active_Duty_Cycle)+((Table5[[#This Row],[Watts Idle]]*Power_On_Hours_Year/1000)*(100%-Active_Duty_Cycle)))*CostPerKWH -> 6.2236896 | V22: =Table5[Energy$year]/Table5[[#This Row],[SizTB]] -> 0.5186408 | W22: 730 | X22: =Table5[[#This Row],[Cost]]/Table5[[#This Row],[SizTB]]*Exchange_Rate -> 60.833333 | Y22: =Table5[[#This Row],[Cost]]+((CompareWarrYrs-Table5[[#This Row],[S]])*(Incremental_Warr_Yr*Table5[[#This Row],[Cost]]))*Exchange_Rate -> 730 | Z22: =Table5[[#This Row],[$+Warr]]/Table5[[#This Row],[SizTB]] -> 60.833333 | AA22: =Table5[[#This Row],[$PerTB]]/CompareWarrYrs -> 12.166667 | AD22: Helium filled
A23: 43021 | B23: HGST | C23: Ultrastar Hs14 | D23: SMR | E23: 3.5 | F23: 14 | G23: 7200 | H23: 4.16 | I23: 12 | J23: =(Table5[[#This Row],[RPM]]/5400-1) -> 0.33333333 | K23: 223 | L23: 5 | M23: 600000 | N23: 550 | O23: 2500000 | P23: 1e+15 | Q23: =12*1.51+5*0.39 -> 20.07 | R23: 6.4 | S23: 5.2 | T23: 0.8 | U23: =(((Table5[[#This Row],[Watts Active]]*Power_On_Hours_Year/1000)*Active_Duty_Cycle)+((Table5[[#This Row],[Watts Idle]]*Power_On_Hours_Year/1000)*(100%-Active_Duty_Cycle)))*CostPerKWH -> 5.9607168 | V23: =Table5[Energy$year]/Table5[[#This Row],[SizTB]] -> 0.42576549 | X23: =Table5[[#This Row],[Cost]]/Table5[[#This Row],[SizTB]]*Exchange_Rate -> 0 | Y23: =Table5[[#This Row],[Cost]]+((CompareWarrYrs-Table5[[#This Row],[S]])*(Incremental_Warr_Yr*Table5[[#This Row],[Cost]]))*Exchange_Rate -> 0 | Z23: =Table5[[#This Row],[$+Warr]]/Table5[[#This Row],[SizTB]] -> 0 | AA23: =Table5[[#This Row],[$PerTB]]/CompareWarrYrs -> 0 | AD23: Helium filled, Shingled (SMR)
A24: 43064 | B24: Seagate | C24: Archive | D24: SMR | E24: 3.5 | F24: 5 | G24: 5900 | J24: =(Table5[[#This Row],[RPM]]/5400-1) -> 0.092592593 | K24: 180 | L24: 3 | M24: 300000 | N24: 180 | O24: 800000 | P24: =10^14 -> 100000000000000 | Q24: 24 | R24: 5.5 | S24: 3.5 | T24: 0.74 | U24: =(((Table5[[#This Row],[Watts Active]]*Power_On_Hours_Year/1000)*Active_Duty_Cycle)+((Table5[[#This Row],[Watts Idle]]*Power_On_Hours_Year/1000)*(100%-Active_Duty_Cycle)))*CostPerKWH -> 4.273308 | V24: =Table5[Energy$year]/Table5[[#This Row],[SizTB]] -> 0.8546616 | W24: 212 | X24: =Table5[[#This Row],[Cost]]/Table5[[#This Row],[SizTB]]*Exchange_Rate -> 42.4 | Y24: =Table5[[#This Row],[Cost]]+((CompareWarrYrs-Table5[[#This Row],[S]])*(Incremental_Warr_Yr*Table5[[#This Row],[Cost]]))*Exchange_Rate -> 258.64 | Z24: =Table5[[#This Row],[$+Warr]]/Table5[[#This Row],[SizTB]] -> 51.728 | AA24: =Table5[[#This Row],[$PerTB]]/CompareWarrYrs -> 10.3456
A25: 43064 | B25: Seagate | C25: Archive | D25: SMR | E25: 3.5 | F25: 6 | G25: 5900 | J25: =(Table5[[#This Row],[RPM]]/5400-1) -> 0.092592593 | K25: 190 | L25: 3 | M25: 300000 | N25: 180 | O25: 800000 | P25: =10^14 -> 100000000000000 | Q25: 24 | R25: 7.5 | S25: 5 | T25: 0.999 | U25: =(((Table5[[#This Row],[Watts Active]]*Power_On_Hours_Year/1000)*Active_Duty_Cycle)+((Table5[[#This Row],[Watts Idle]]*Power_On_Hours_Year/1000)*(100%-Active_Duty_Cycle)))*CostPerKWH -> 6.02646 | V25: =Table5[Energy$year]/Table5[[#This Row],[SizTB]] -> 1.00441 | W25: 194.79 | X25: =Table5[[#This Row],[Cost]]/Table5[[#This Row],[SizTB]]*Exchange_Rate -> 32.465 | Y25: =Table5[[#This Row],[Cost]]+((CompareWarrYrs-Table5[[#This Row],[S]])*(Incremental_Warr_Yr*Table5[[#This Row],[Cost]]))*Exchange_Rate -> 237.6438 | Z25: =Table5[[#This Row],[$+Warr]]/Table5[[#This Row],[SizTB]] -> 39.6073 | AA25: =Table5[[#This Row],[$PerTB]]/CompareWarrYrs -> 7.92146
A26: 43066 | B26: Seagate | C26: Archive | D26: SMR | E26: 3.5 | F26: 8 | G26: 5900 | H26: 5.5 | I26: 11.99 | J26: =(Table5[[#This Row],[RPM]]/5400-1) -> 0.092592593 | K26: 190 | L26: 3 | M26: 300000 | N26: 180 | O26: 800000 | P26: =10^14 -> 100000000000000 | Q26: 24 | R26: 7.5 | S26: 5 | T26: 0.999 | U26: =(((Table5[[#This Row],[Watts Active]]*Power_On_Hours_Year/1000)*Active_Duty_Cycle)+((Table5[[#This Row],[Watts Idle]]*Power_On_Hours_Year/1000)*(100%-Active_Duty_Cycle)))*CostPerKWH -> 6.02646 | V26: =Table5[Energy$year]/Table5[[#This Row],[SizTB]] -> 0.7533075 | W26: 221.88 | X26: =Table5[[#This Row],[Cost]]/Table5[[#This Row],[SizTB]]*Exchange_Rate -> 27.735 | Y26: =Table5[[#This Row],[Cost]]+((CompareWarrYrs-Table5[[#This Row],[S]])*(Incremental_Warr_Yr*Table5[[#This Row],[Cost]]))*Exchange_Rate -> 270.6936 | Z26: =Table5[[#This Row],[$+Warr]]/Table5[[#This Row],[SizTB]] -> 33.8367 | AA26: =Table5[[#This Row],[$PerTB]]/CompareWarrYrs -> 6.76734
A27: 43069 | B27: Seagate | C27: BarraCuda | D27: DT | E27: 3.5 | F27: 1 | G27: 7200 | H27: 4.16 | I27: 9.5 | J27: =(Table5[[#This Row],[RPM]]/5400-1) -> 0.33333333 | K27: 156 | L27: 2 | M27: 300000 | N27: 55 | P27: =10^14 -> 100000000000000 | Q27: 24 | R27: 5.3 | S27: 4.6 | T27: 0.94 | U27: =(((Table5[[#This Row],[Watts Active]]*Power_On_Hours_Year/1000)*Active_Duty_Cycle)+((Table5[[#This Row],[Watts Idle]]*Power_On_Hours_Year/1000)*(100%-Active_Duty_Cycle)))*CostPerKWH -> 5.1937128 | V27: =Table5[Energy$year]/Table5[[#This Row],[SizTB]] -> 5.1937128 | W27: 42.49 | X27: =Table5[[#This Row],[Cost]]/Table5[[#This Row],[SizTB]]*Exchange_Rate -> 42.49 | Y27: =Table5[[#This Row],[Cost]]+((CompareWarrYrs-Table5[[#This Row],[S]])*(Incremental_Warr_Yr*Table5[[#This Row],[Cost]]))*Exchange_Rate -> 56.5117 | Z27: =Table5[[#This Row],[$+Warr]]/Table5[[#This Row],[SizTB]] -> 56.5117 | AA27: =Table5[[#This Row],[$PerTB]]/CompareWarrYrs -> 11.30234
A28: 43065 | B28: Seagate | C28: BarraCuda | D28: DT | E28: 3.5 | F28: 2 | G28: 7200 | H28: 6 | I28: 9.5 | J28: =(Table5[[#This Row],[RPM]]/5400-1) -> 0.33333333 | K28: 156 | L28: 2 | M28: 300000 | N28: 55 | P28: =10^14 -> 100000000000000 | Q28: =2.5*12 -> 30 | R28: 8 | S28: 5.4 | T28: 0.75 | U28: =(((Table5[[#This Row],[Watts Active]]*Power_On_Hours_Year/1000)*Active_Duty_Cycle)+((Table5[[#This Row],[Watts Idle]]*Power_On_Hours_Year/1000)*(100%-Active_Duty_Cycle)))*CostPerKWH -> 6.4866624 | V28: =Table5[Energy$year]/Table5[[#This Row],[SizTB]] -> 3.2433312 | W28: 66.99 | X28: =Table5[[#This Row],[Cost]]/Table5[[#This Row],[SizTB]]*Exchange_Rate -> 33.495 | Y28: =Table5[[#This Row],[Cost]]+((CompareWarrYrs-Table5[[#This Row],[S]])*(Incremental_Warr_Yr*Table5[[#This Row],[Cost]]))*Exchange_Rate -> 89.0967 | Z28: =Table5[[#This Row],[$+Warr]]/Table5[[#This Row],[SizTB]] -> 44.54835 | AA28: =Table5[[#This Row],[$PerTB]]/CompareWarrYrs -> 8.90967
A29: 43080 | B29: Seagate | C29: BarraCuda | D29: DT | E29: 3.5 | F29: 3 | G29: 7200 | H29: 6 | I29: 9.5 | J29: =(Table5[[#This Row],[RPM]]/5400-1) -> 0.33333333 | K29: 156 | L29: 2 | M29: 300000 | N29: 55 | P29: =10^14 -> 100000000000000 | Q29: =2.5*12 -> 30 | R29: 8 | S29: 5.4 | T29: 0.75 | U29: =(((Table5[[#This Row],[Watts Active]]*Power_On_Hours_Year/1000)*Active_Duty_Cycle)+((Table5[[#This Row],[Watts Idle]]*Power_On_Hours_Year/1000)*(100%-Active_Duty_Cycle)))*CostPerKWH -> 6.4866624 | V29: =Table5[Energy$year]/Table5[[#This Row],[SizTB]] -> 2.1622208 | W29: 89.99 | X29: =Table5[[#This Row],[Cost]]/Table5[[#This Row],[SizTB]]*Exchange_Rate -> 29.996667 | Y29: =Table5[[#This Row],[Cost]]+((CompareWarrYrs-Table5[[#This Row],[S]])*(Incremental_Warr_Yr*Table5[[#This Row],[Cost]]))*Exchange_Rate -> 119.6867 | Z29: =Table5[[#This Row],[$+Warr]]/Table5[[#This Row],[SizTB]] -> 39.895567 | AA29: =Table5[[#This Row],[$PerTB]]/CompareWarrYrs -> 7.9791133
A30: 43050 | B30: Seagate | C30: BarraCuda | D30: DT | E30: 3.5 | F30: 4 | G30: 7200 | H30: 6 | I30: 9.5 | J30: =(Table5[[#This Row],[RPM]]/5400-1) -> 0.33333333 | K30: 190 | L30: 2 | M30: 300000 | N30: 55 | P30: =10^14 -> 100000000000000 | Q30: 24 | R30: 5 | S30: 2.5 | T30: 0.25 | U30: =(((Table5[[#This Row],[Watts Active]]*Power_On_Hours_Year/1000)*Active_Duty_Cycle)+((Table5[[#This Row],[Watts Idle]]*Power_On_Hours_Year/1000)*(100%-Active_Duty_Cycle)))*CostPerKWH -> 3.28716 | V30: =Table5[Energy$year]/Table5[[#This Row],[SizTB]] -> 0.82179 | W30: 89.99 | X30: =Table5[[#This Row],[Cost]]/Table5[[#This Row],[SizTB]]*Exchange_Rate -> 22.4975 | Y30: =Table5[[#This Row],[Cost]]+((CompareWarrYrs-Table5[[#This Row],[S]])*(Incremental_Warr_Yr*Table5[[#This Row],[Cost]]))*Exchange_Rate -> 119.6867 | Z30: =Table5[[#This Row],[$+Warr]]/Table5[[#This Row],[SizTB]] -> 29.921675 | AA30: =Table5[[#This Row],[$PerTB]]/CompareWarrYrs -> 5.984335
A31: 43019 | B31: Seagate | C31: BarraCuda | D31: LT | E31: 2.5 | F31: 1 | G31: 5400 | J31: =(Table5[[#This Row],[RPM]]/5400-1) -> 0 | K31: 140 | L31: 2 | M31: 600000 | P31: =10^14 -> 100000000000000 | Q31: =1*5 -> 5 | R31: 1.7 | S31: 0.45 | U31: =(((Table5[[#This Row],[Watts Active]]*Power_On_Hours_Year/1000)*Active_Duty_Cycle)+((Table5[[#This Row],[Watts Idle]]*Power_On_Hours_Year/1000)*(100%-Active_Duty_Cycle)))*CostPerKWH -> 0.767004 | V31: =Table5[Energy$year]/Table5[[#This Row],[SizTB]] -> 0.767004 | W31: 49.99 | X31: =Table5[[#This Row],[Cost]]/Table5[[#This Row],[SizTB]]*Exchange_Rate -> 49.99 | Y31: =Table5[[#This Row],[Cost]]+((CompareWarrYrs-Table5[[#This Row],[S]])*(Incremental_Warr_Yr*Table5[[#This Row],[Cost]]))*Exchange_Rate -> 66.4867 | Z31: =Table5[[#This Row],[$+Warr]]/Table5[[#This Row],[SizTB]] -> 66.4867 | AA31: =Table5[[#This Row],[$PerTB]]/CompareWarrYrs -> 13.29734
A32: 43066 | B32: Seagate | C32: BarraCuda | D32: LT | E32: 2.5 | F32: 2 | G32: 5400 | J32: =(Table5[[#This Row],[RPM]]/5400-1) -> 0 | K32: 140 | L32: 2 | M32: 600000 | P32: =10^14 -> 100000000000000 | Q32: =1*5 -> 5 | R32: 1.8 | S32: 0.5 | U32: =(((Table5[[#This Row],[Watts Active]]*Power_On_Hours_Year/1000)*Active_Duty_Cycle)+((Table5[[#This Row],[Watts Idle]]*Power_On_Hours_Year/1000)*(100%-Active_Duty_Cycle)))*CostPerKWH -> 0.8327472 | V32: =Table5[Energy$year]/Table5[[#This Row],[SizTB]] -> 0.4163736 | W32: 69.99 | X32: =Table5[[#This Row],[Cost]]/Table5[[#This Row],[SizTB]]*Exchange_Rate -> 34.995 | Y32: =Table5[[#This Row],[Cost]]+((CompareWarrYrs-Table5[[#This Row],[S]])*(Incremental_Warr_Yr*Table5[[#This Row],[Cost]]))*Exchange_Rate -> 93.0867 | Z32: =Table5[[#This Row],[$+Warr]]/Table5[[#This Row],[SizTB]] -> 46.54335 | AA32: =Table5[[#This Row],[$PerTB]]/CompareWarrYrs -> 9.30867
A33: 43019 | B33: Seagate | C33: BarraCuda | D33: LT | E33: 2.5 | F33: 3 | G33: 5400 | J33: =(Table5[[#This Row],[RPM]]/5400-1) -> 0 | K33: 140 | L33: 2 | M33: 600000 | P33: =10^14 -> 100000000000000 | Q33: =1.2*5 -> 6 | R33: 2.1 | S33: 1.1 | U33: =(((Table5[[#This Row],[Watts Active]]*Power_On_Hours_Year/1000)*Active_Duty_Cycle)+((Table5[[#This Row],[Watts Idle]]*Power_On_Hours_Year/1000)*(100%-Active_Duty_Cycle)))*CostPerKWH -> 1.424436 | V33: =Table5[Energy$year]/Table5[[#This Row],[SizTB]] -> 0.474812 | W33: 89.99 | X33: =Table5[[#This Row],[Cost]]/Table5[[#This Row],[SizTB]]*Exchange_Rate -> 29.996667 | Y33: =Table5[[#This Row],[Cost]]+((CompareWarrYrs-Table5[[#This Row],[S]])*(Incremental_Warr_Yr*Table5[[#This Row],[Cost]]))*Exchange_Rate -> 119.6867 | Z33: =Table5[[#This Row],[$+Warr]]/Table5[[#This Row],[SizTB]] -> 39.895567 | AA33: =Table5[[#This Row],[$PerTB]]/CompareWarrYrs -> 7.9791133
A34: 43103 | B34: Seagate | C34: BarraCuda | D34: LT | E34: 2.5 | F34: 4 | G34: 5400 | J34: =(Table5[[#This Row],[RPM]]/5400-1) -> 0 | K34: 140 | L34: 2 | M34: 600000 | P34: =10^14 -> 100000000000000 | Q34: =1.2*5 -> 6 | R34: 2.1 | S34: 1.1 | U34: =(((Table5[[#This Row],[Watts Active]]*Power_On_Hours_Year/1000)*Active_Duty_Cycle)+((Table5[[#This Row],[Watts Idle]]*Power_On_Hours_Year/1000)*(100%-Active_Duty_Cycle)))*CostPerKWH -> 1.424436 | V34: =Table5[Energy$year]/Table5[[#This Row],[SizTB]] -> 0.356109 | W34: 92.99 | X34: =Table5[[#This Row],[Cost]]/Table5[[#This Row],[SizTB]]*Exchange_Rate -> 23.2475 | Y34: =Table5[[#This Row],[Cost]]+((CompareWarrYrs-Table5[[#This Row],[S]])*(Incremental_Warr_Yr*Table5[[#This Row],[Cost]]))*Exchange_Rate -> 123.6767 | Z34: =Table5[[#This Row],[$+Warr]]/Table5[[#This Row],[SizTB]] -> 30.919175 | AA34: =Table5[[#This Row],[$PerTB]]/CompareWarrYrs -> 6.183835
A35: 43053 | B35: Seagate | C35: BarraCuda | D35: LT | E35: 2.5 | F35: 5 | G35: 5400 | J35: =(Table5[[#This Row],[RPM]]/5400-1) -> 0 | K35: 140 | L35: 2 | M35: 600000 | P35: =10^14 -> 100000000000000 | Q35: =1.2*5 -> 6 | R35: 2.1 | S35: 1.1 | U35: =(((Table5[[#This Row],[Watts Active]]*Power_On_Hours_Year/1000)*Active_Duty_Cycle)+((Table5[[#This Row],[Watts Idle]]*Power_On_Hours_Year/1000)*(100%-Active_Duty_Cycle)))*CostPerKWH -> 1.424436 | V35: =Table5[Energy$year]/Table5[[#This Row],[SizTB]] -> 0.2848872 | W35: 209.99 | X35: =Table5[[#This Row],[Cost]]/Table5[[#This Row],[SizTB]]*Exchange_Rate -> 41.998 | Y35: =Table5[[#This Row],[Cost]]+((CompareWarrYrs-Table5[[#This Row],[S]])*(Incremental_Warr_Yr*Table5[[#This Row],[Cost]]))*Exchange_Rate -> 279.2867 | Z35: =Table5[[#This Row],[$+Warr]]/Table5[[#This Row],[SizTB]] -> 55.85734 | AA35: =Table5[[#This Row],[$PerTB]]/CompareWarrYrs -> 11.171468
A36: 43088 | B36: Seagate | C36: BarraCuda Pro | D36: DT | E36: 3.5 | F36: 2 | G36: 7200 | H36: 4.16 | J36: =(Table5[[#This Row],[RPM]]/5400-1) -> 0.33333333 | K36: 195 | L36: 5 | M36: 600000+M11 | N36: 180 | O36: 1200000 | P36: 1e+15 | Q36: 24 | R36: 6.7 | S36: 4.5 | T36: 0.8 | U36: =(((Table5[[#This Row],[Watts Active]]*Power_On_Hours_Year/1000)*Active_Duty_Cycle)+((Table5[[#This Row],[Watts Idle]]*Power_On_Hours_Year/1000)*(100%-Active_Duty_Cycle)))*CostPerKWH -> 5.4128568 | V36: =Table5[Energy$year]/Table5[[#This Row],[SizTB]] -> 2.7064284 | W36: 119.99 | X36: =Table5[[#This Row],[Cost]]/Table5[[#This Row],[SizTB]]*Exchange_Rate -> 59.995 | Y36: =Table5[[#This Row],[Cost]]+((CompareWarrYrs-Table5[[#This Row],[S]])*(Incremental_Warr_Yr*Table5[[#This Row],[Cost]]))*Exchange_Rate -> 119.99 | Z36: =Table5[[#This Row],[$+Warr]]/Table5[[#This Row],[SizTB]] -> 59.995 | AA36: =Table5[[#This Row],[$PerTB]]/CompareWarrYrs -> 11.999
A37: 43088 | B37: Seagate | C37: BarraCuda Pro | D37: DT | E37: 3.5 | F37: 4 | G37: 7200 | H37: 4.16 | J37: =(Table5[[#This Row],[RPM]]/5400-1) -> 0.33333333 | K37: 214 | L37: 5 | M37: 600000 | N37: 180 | O37: 1200000 | P37: 1e+15 | Q37: 24 | R37: 6.7 | S37: 6 | T37: 0.6 | U37: =(((Table5[[#This Row],[Watts Active]]*Power_On_Hours_Year/1000)*Active_Duty_Cycle)+((Table5[[#This Row],[Watts Idle]]*Power_On_Hours_Year/1000)*(100%-Active_Duty_Cycle)))*CostPerKWH -> 6.7277208 | V37: =Table5[Energy$year]/Table5[[#This Row],[SizTB]] -> 1.6819302 | W37: 174.98 | X37: =Table5[[#This Row],[Cost]]/Table5[[#This Row],[SizTB]]*Exchange_Rate -> 43.745 | Y37: =Table5[[#This Row],[Cost]]+((CompareWarrYrs-Table5[[#This Row],[S]])*(Incremental_Warr_Yr*Table5[[#This Row],[Cost]]))*Exchange_Rate -> 174.98 | Z37: =Table5[[#This Row],[$+Warr]]/Table5[[#This Row],[SizTB]] -> 43.745 | AA37: =Table5[[#This Row],[$PerTB]]/CompareWarrYrs -> 8.749
A38: 43088 | B38: Seagate | C38: BarraCuda Pro | D38: DT | E38: 3.5 | F38: 6 | G38: 7200 | H38: 4.16 | J38: =(Table5[[#This Row],[RPM]]/5400-1) -> 0.33333333 | K38: 214 | L38: 5 | M38: 600000 | N38: 300 | O38: 1200000 | P38: 1e+15 | Q38: 24 | R38: 9 | S38: 7.2 | T38: 0.6 | U38: =(((Table5[[#This Row],[Watts Active]]*Power_On_Hours_Year/1000)*Active_Duty_Cycle)+((Table5[[#This Row],[Watts Idle]]*Power_On_Hours_Year/1000)*(100%-Active_Duty_Cycle)))*CostPerKWH -> 8.2836432 | V38: =Table5[Energy$year]/Table5[[#This Row],[SizTB]] -> 1.3806072 | W38: 234.99 | X38: =Table5[[#This Row],[Cost]]/Table5[[#This Row],[SizTB]]*Exchange_Rate -> 39.165 | Y38: =Table5[[#This Row],[Cost]]+((CompareWarrYrs-Table5[[#This Row],[S]])*(Incremental_Warr_Yr*Table5[[#This Row],[Cost]]))*Exchange_Rate -> 234.99 | Z38: =Table5[[#This Row],[$+Warr]]/Table5[[#This Row],[SizTB]] -> 39.165 | AA38: =Table5[[#This Row],[$PerTB]]/CompareWarrYrs -> 7.833
A39: 43088 | B39: Seagate | C39: BarraCuda Pro | D39: DT | E39: 3.5 | F39: 8 | G39: 7200 | H39: 4.16 | J39: =(Table5[[#This Row],[RPM]]/5400-1) -> 0.33333333 | K39: 210 | L39: 5 | M39: 300000 | N39: 300 | O39: 1000000 | P39: 1e+15 | Q39: =12*2 -> 24 | R39: 6.8 | S39: 4.42 | T39: 0.8 | U39: =(((Table5[[#This Row],[Watts Active]]*Power_On_Hours_Year/1000)*Active_Duty_Cycle)+((Table5[[#This Row],[Watts Idle]]*Power_On_Hours_Year/1000)*(100%-Active_Duty_Cycle)))*CostPerKWH -> 5.3646451 | V39: =Table5[Energy$year]/Table5[[#This Row],[SizTB]] -> 0.67058064 | W39: 299.99 | X39: =Table5[[#This Row],[Cost]]/Table5[[#This Row],[SizTB]]*Exchange_Rate -> 37.49875 | Y39: =Table5[[#This Row],[Cost]]+((CompareWarrYrs-Table5[[#This Row],[S]])*(Incremental_Warr_Yr*Table5[[#This Row],[Cost]]))*Exchange_Rate -> 299.99 | Z39: =Table5[[#This Row],[$+Warr]]/Table5[[#This Row],[SizTB]] -> 37.49875 | AA39: =Table5[[#This Row],[$PerTB]]/CompareWarrYrs -> 7.49975
A40: 43088 | B40: Seagate | C40: BarraCuda Pro | D40: DT | E40: 3.5 | F40: 10 | G40: 7200 | H40: 4.16 | J40: =(Table5[[#This Row],[RPM]]/5400-1) -> 0.33333333 | K40: 210 | L40: 5 | M40: 300000 | N40: 300 | O40: 1000000 | P40: 1e+15 | Q40: 24 | R40: 7.8 | S40: 4.42 | T40: 0.8 | U40: =(((Table5[[#This Row],[Watts Active]]*Power_On_Hours_Year/1000)*Active_Duty_Cycle)+((Table5[[#This Row],[Watts Idle]]*Power_On_Hours_Year/1000)*(100%-Active_Duty_Cycle)))*CostPerKWH -> 5.5837891 | V40: =Table5[Energy$year]/Table5[[#This Row],[SizTB]] -> 0.55837891 | W40: 379.99 | X40: =Table5[[#This Row],[Cost]]/Table5[[#This Row],[SizTB]]*Exchange_Rate -> 37.999 | Y40: =Table5[[#This Row],[Cost]]+((CompareWarrYrs-Table5[[#This Row],[S]])*(Incremental_Warr_Yr*Table5[[#This Row],[Cost]]))*Exchange_Rate -> 379.99 | Z40: =Table5[[#This Row],[$+Warr]]/Table5[[#This Row],[SizTB]] -> 37.999 | AA40: =Table5[[#This Row],[$PerTB]]/CompareWarrYrs -> 7.5998
...

Sheet Tables
A2: Type | B2: NAS
A3: FormFactor | B3: 3.5
A4: NAS Drives Avg Cost By Size Per Year
A5: Row Labels | B5: Average of $ TB/year
A6: 0.9 | B6: 0
A7: 1 | B7: 12.59752
A8: 2 | B8: 14.029951
A9: 3 | B9: 7.9291867
A10: 4 | B10: 8.6131394
A11: 5 | B11: 12.032
A12: 6 | B12: 7.5875424
A13: 8 | B13: 6.678903
A14: 10 | B14: 6.598289
A15: 12 | B15: 7.2396883
A16: 14 | B16: 0
A17: Avg By Size | B17: 8.7041807
A20: Type | B20: NAS
A21: FormFactor | B21: 3.5
A22: Avg Energy Cost by Size per TB per Year
A23: Row Labels | B23: Cost per TB per year
A24: 0.9 | B24: 7.4021973
A25: 1 | B25: 5.0538259
A26: 2 | B26: 2.9192416
A27: 3 | B27: 1.789676
A28: 4 | B28: 1.6106475
A29: 5 | B29: 1.2359722
A30: 6 | B30: 1.199747
A31: 8 | B31: 0.85959234
A32: 10 | B32: 0.57497907
A33: 12 | B33: 0.42246093
A34: 14 | B34: 0
A35: Average | B35: 1.7464071
A38: Type | B38: NAS
A39: FormFactor | B39: 3.5
A40: Avg Energy Cost by Size per Year
A41: Row Labels | B41: Average of Energy$year
A42: 0.9 | B42: 6.6619776
A43: 1 | B43: 5.0538259
A44: 2 | B44: 5.8384831
A45: 3 | B45: 5.369028
...

Sheet Charts
A1: These are incomplete at this time…

Sheet Database
A1: Date | B1: Manu | C1: Model | D1: Type | E1: SizTB | F1: RPM | G1: AvgLatency | H1: SeekT | I1: PerfCmp | J1: XferRate | K1: Warnty | L1: CycleCnt | M1: WorkLoad | N1: MTBF | O1: RErrRate | P1: MaxStartupWatts | Q1: Watts Active | R1: Watts Idle | S1: WattsStandby | T1: Cost | U1: $ TB | V1: $+Warr | W1: $PerTB | X1: $ TB/year | Y1: Comp $/Perf/Size | Z1: Energy$year | AA1: Energy$yearPerTB | AB1: Notes
D2: NAS | E2: 10 | T2: >100
A4: =DVAR('Drive Table'!$A$2:$AD$135,"Cost",$A$1:$AB$2) -> 1771.6672 | B4: Mean
A5: =DAVERAGE('Drive Table'!$A$2:$AD$135,"Cost",$A$1:$AB$2) -> 358.08875 | B5: Avg
A6: =DMIN('Drive Table'!$A$2:$AD$135,"Cost",$A$1:$AB$2) -> 299.99 | B6: Min
A7: =DMAX('Drive Table'!$A$2:$AD$135,"Cost",$A$1:$AB$2) -> 440.77 | B7: Max
A8: =DCOUNTA('Drive Table'!$A$2:$AD$135,"Cost",$A$1:$AB$2) -> 8 | B8: Qty
