Workbook
Name Active_Duty_Cycle: 'Drive Table'!$D$146
Name CompareWarrYrs: 'Drive Table'!$D$147
Name CostPerKWH: 'Drive Table'!$D$145
Name Day_in_Year: 'Drive Table'!$D$153
Name Days_In_Month: 'Drive Table'!$D$152
Name Days_in_Year: 'Drive Table'!$D$153
Name Exchange_Rate: 'Drive Table'!$D$155
Name Hours_In_Day: 'Drive Table'!$D$150
Name Hours_In_Month: 'Drive Table'!$D$151
Name Incremental_Warr_Yr: 'Drive Table'!$D$148
Name Months_In_Year: 'Drive Table'!$D$154
Name Power_On_Hours_Year: 'Drive Table'!$D$149

Sheet Drive Table
A1: SPECIFICATIONS | G1: PERFORMANCE | L1: DURABILITY | Q1: POWER USAGE | W1: ACTUAL COST | Y1: Warranty_Normalized_Computed | AB1: ACOUSTICS
A2: Date | B2: Manu | C2: Model | D2: Type | E2: FormFactor | F2: SizTB | G2: RPM | H2: AvgLatency | I2: SeekT | J2: PerfCmp | K2: XferRate | L2: S | M2: CycleCnt | N2: WorkLoad | O2: MTBF | P2: RErrRate | Q2: MaxStartupWatts | R2: Watts Active | S2: Watts Idle | T2: WattsStandby | U2: Energy$year | V2: Energy$yearPerTB | W2: Cost | X2: $ TB | Y2: $+Warr | Z2: $PerTB | AA2: $ TB/year | AB2: DBA_Idle | AC2: DBA_Seek | AD2: Notes
A3: 43036 | B3: HGST | C3: Deskstar NAS | D3: NAS | E3: 3.5 | F3: 4 | G3: 7200 | I3: 11.99 | J3: =(Table5[[#This Row],[RPM]]/5400-1) -> 0.33333333 | K3: 202 | L3: 3 | M3: 600000 | O3: 1000000 | P3: =10^14 -> 100000000000000 | Q3: =1.2*5+2*12 -> 30 | S3: 7.3 | W3: =219.99/2 -> 109.995 | X3: =Table5[[#This Row],[Cost]]/Table5[[#This Row],[SizTB]]*Exchange_Rate -> 27.49875 | Y3: =Table5[[#This Row],[Cost]]+((CompareWarrYrs-Table5[[#This Row],[S]])*(Incremental_Warr_Yr*Table5[[#This Row],[Cost]]))*Exchange_Rate -> 134.1939 | Z3: =Table5[[#This Row],[$+Warr]]/Table5[[#This Row],[SizTB]] -> 33.548475 | AA3: =Table5[[#This Row],[$PerTB]]/CompareWarrYrs -> 6.709695 | AD3: Enterprise HGST drives are now
A4: 43101 | B4: HGST | C4: Deskstar NAS | D4: NAS | E4: 3.5 | F4: 6 | G4: 7200 | I4: 11.99 | J4: =(Table5[[#This Row],[RPM]]/5400-1) -> 0.33333333 | K4: 227 | L4: 3 | M4: 600000 | O4: 1000000 | P4: =10^14 -> 100000000000000 | Q4: =1.2*5+2*12 -> 30 | S4: 7.3 | W4: 164.99 | X4: =Table5[[#This Row],[Cost]]/Table5[[#This Row],[SizTB]]*Exchange_Rate -> 27.498333 | Y4: =Table5[[#This Row],[Cost]]+((CompareWarrYrs-Table5[[#This Row],[S]])*(Incremental_Warr_Yr*Table5[[#This Row],[Cost]]))*Exchange_Rate -> 201.2878 | Z4: =Table5[[#This Row],[$+Warr]]/Table5[[#This Row],[SizTB]] -> 33.547967 | AA4: =Table5[[#This Row],[$PerTB]]/CompareWarrYrs -> 6.7095933 | AD4: owned by WD
A5: 43094 | B5: HGST | C5: Deskstar NAS | D5: NAS | E5: 3.5 | F5: 8 | G5: 7200 | I5: 11.99 | J5: =(Table5[[#This Row],[RPM]]/5400-1) -> 0.33333333 | K5: 205 | L5: 3 | M5: 600000 | O5: 1000000 | P5: =10^14 -> 100000000000000 | Q5: =1.2*5+2*12 -> 30 | S5: 5.1 | W5: 244.99 | X5: =Table5[[#This Row],[Cost]]/Table5[[#This Row],[SizTB]]*Exchange_Rate -> 30.62375 | Y5: =Table5[[#This Row],[Cost]]+((CompareWarrYrs-Table5[[#This Row],[S]])*(Incremental_Warr_Yr*Table5[[#This Row],[Cost]]))*Exchange_Rate -> 298.8878 | Z5: =Table5[[#This Row],[$+Warr]]/Table5[[#This Row],[SizTB]] -> 37.360975 | AA5: =Table5[[#This Row],[$PerTB]]/CompareWarrYrs -> 7.472195
A6: 43080 | B6: HGST | C6: Deskstar NAS | D6: NAS | E6: 3.5 | F6: 10 | G6: 7200 | I6: 11.99 | J6: =(Table5[[#This Row],[RPM]]/5400-1) -> 0.33333333 | K6: 240 | L6: 3 | M6: 600000 | O6: 1000000 | P6: =10^14 -> 100000000000000 | Q6: =1.2*5+2*12 -> 30 | S6: 5.1 | W6: 319 | X6: =Table5[[#This Row],[Cost]]/Table5[[#This Row],[SizTB]]*Exchange_Rate -> 31.9 | Y6: =Table5[[#This Row],[Cost]]+((CompareWarrYrs-Table5[[#This Row],[S]])*(Incremental_Warr_Yr*Table5[[#This Row],[Cost]]))*Exchange_Rate -> 389.18 | Z6: =Table5[[#This Row],[$+Warr]]/Table5[[#This Row],[SizTB]] -> 38.918 | AA6: =Table5[[#This Row],[$PerTB]]/CompareWarrYrs -> 7.7836
A7: 43005 | B7: HGST | C7: Travelstar 5K1000 | D7: LT | E7: 2.5 | F7: 1 | G7: 5400 | H7: 5.5 | I7: 12 | J7: =(Table5[[#This Row],[RPM]]/5400-1) -> 0 | K7: 99 | L7: 3 | M7: 600000 | Q7: 4.5 | R7: 1.6 | S7: 0.8 | T7: 0.2 | U7: =(((Table5[[#This Row],[Watts Active]]*Power_On_Hours_Year/1000)*Active_Duty_Cycle)+((Table5[[#This Row],[Watts Idle]]*Power_On_Hours_Year/1000)*(100%-Active_Duty_Cycle)))*CostPerKWH -> 1.0518912 | V7: =Table5[Energy$year]/Table5[[#This Row],[SizTB]] -> 1.0518912 | W7: 49.99 | X7: =Table5[[#This Row],[Cost]]/Table5[[#This Row],[SizTB]]*Exchange_Rate -> 49.99 | Y7: =Table5[[#This Row],[Cost]]+((CompareWarrYrs-Table5[[#This Row],[S]])*(Incremental_Warr_Yr*Table5[[#This Row],[Cost]]))*Exchange_Rate -> 60.9878 | Z7: =Table5[[#This Row],[$+Warr]]/Table5[[#This Row],[SizTB]] -> 60.9878 | AA7: =Table5[[#This Row],[$PerTB]]/CompareWarrYrs -> 12.19756
A8: 43080 | B8: HGST | C8: Travelstar 7K1000 | D8: LT | E8: 2.5 | F8: 1 | G8: 7200 | H8: 4.2 | I8: 12 | J8: =(Table5[[#This Row],[RPM]]/5400-1) -> 0.33333333 | K8: 128 | L8: 3 | M8: 600000 | Q8: 5.5 | R8: 2.7 | S8: 2 | T8: 0.2 | U8: =(((Table5[[#This Row],[Watts Active]]*Power_On_Hours_Year/1000)*Active_Duty_Cycle)+((Table5[[#This Row],[Watts Idle]]*Power_On_Hours_Year/1000)*(100%-Active_Duty_Cycle)))*CostPerKWH -> 2.3448408 | V8: =Table5[Energy$year]/Table5[[#This Row],[SizTB]] -> 2.3448408 | W8: 54.99 | X8: =Table5[[#This Row],[Cost]]/Table5[[#This Row],[SizTB]]*Exchange_Rate -> 54.99 | Y8: =Table5[[#This Row],[Cost]]+((CompareWarrYrs-Table5[[#This Row],[S]])*(Incremental_Warr_Yr*Table5[[#This Row],[Cost]]))*Exchange_Rate -> 67.0878 | Z8: =Table5[[#This Row],[$+Warr]]/Table5[[#This Row],[SizTB]] -> 67.0878 | AA8: =Table5[[#This Row],[$PerTB]]/CompareWarrYrs -> 13.41756
A9: 43094 | B9: HGST | C9: Ultrastar 7K2000 | D9: NAS | E9: 3.5 | F9: 1 | G9: 7200 | H9: 4.2 | I9: 8.3 | J9: =(Table5[[#This Row],[RPM]]/5400-1) -> 0.33333333 | K9: 175 | L9: 5 | M9: 600000 | N9: 550 | O9: 2000000 | P9: 1e+15 | R9: 8.1 | S9: 5.9 | U9: =(((Table5[[#This Row],[Watts Active]]*Power_On_Hours_Year/1000)*Active_Duty_Cycle)+((Table5[[#This Row],[Watts Idle]]*Power_On_Hours_Year/1000)*(100%-Active_Duty_Cycle)))*CostPerKWH -> 6.9468648 | V9: =Table5[Energy$year]/Table5[[#This Row],[SizTB]] -> 6.9468648 | W9: 53.9 | X9: =Table5[[#This Row],[Cost]]/Table5[[#This Row],[SizTB]]*Exchange_Rate -> 53.9 | Y9: =Table5[[#This Row],[Cost]]+((CompareWarrYrs-Table5[[#This Row],[S]])*(Incremental_Warr_Yr*Table5[[#This Row],[Cost]]))*Exchange_Rate -> 53.9 | Z9: =Table5[[#This Row],[$+Warr]]/Table5[[#This Row],[SizTB]] -> 53.9 | AA9: =Table5[[#This Row],[$PerTB]]/CompareWarrYrs -> 10.78
A10: 43094 | B10: HGST | C10: Ultrastar 7K2000 | D10: NAS | E10: 3.5 | F10: 2 | G10: 7200 | H10: 4.2 | I10: 8.3 | J10: =(Table5[[#This Row],[RPM]]/5400-1) -> 0.33333333 | K10: 175 | L10: 5 | M10: 600000 | N10: 550 | O10: 2000000 | P10: 1e+15 | R10: 8.1 | S10: 5.9 | U10: =(((Table5[[#This Row],[Watts Active]]*Power_On_Hours_Year/1000)*Active_Duty_Cycle)+((Table5[[#This Row],[Watts Idle]]*Power_On_Hours_Year/1000)*(100%-Active_Duty_Cycle)))*CostPerKWH -> 6.9468648 | V10: =Table5[Energy$year]/Table5[[#This Row],[SizTB]] -> 3.4734324 | W10: 121.38 | X10: =Table5[[#This Row],[Cost]]/Table5[[#This Row],[SizTB]]*Exchange_Rate -> 60.69 | Y10: =Table5[[#This Row],[Cost]]+((CompareWarrYrs-Table5[[#This Row],[S]])*(Incremental_Warr_Yr*Table5[[#This Row],[Cost]]))*Exchange_Rate -> 121.38 | Z10: =Table5[[#This Row],[$+Warr]]/Table5[[#This Row],[SizTB]] -> 60.69 | AA10: =Table5[[#This Row],[$PerTB]]/CompareWarrYrs -> 12.138
A11: 43053 | B11: HGST | C11: Ultrastar 7K6000 | D11: NAS | E11: 3.5 | F11: 2 | G11: 7200 | H11: 4.16 | I11: 8 | J11: =(Table5[[#This Row],[RPM]]/5400-1) -> 0.33333333 | K11: 192 | L11: 5 | M11: 600000 | O11: 2000000 | P11: 1e+15 | R11: 9.1 | S11: 7.1 | U11: =(((Table5[[#This Row],[Watts Active]]*Power_On_Hours_Year/1000)*Active_Duty_Cycle)+((Table5[[#This Row],[Watts Idle]]*Power_On_Hours_Year/1000)*(100%-Active_Duty_Cycle)))*CostPerKWH -> 8.2179 | V11: =Table5[Energy$year]/Table5[[#This Row],[SizTB]] -> 4.10895 | W11: 146.38 | X11: =Table5[[#This Row],[Cost]]/Table5[[#This Row],[SizTB]]*Exchange_Rate -> 73.19 | Y11: =Table5[[#This Row],[Cost]]+((CompareWarrYrs-Table5[[#This Row],[S]])*(Incremental_Warr_Yr*Table5[[#This Row],[Cost]]))*Exchange_Rate -> 146.38 | Z11: =Table5[[#This Row],[$+Warr]]/Table5[[#This Row],[SizTB]] -> 73.19 | AA11: =Table5[[#This Row],[$PerTB]]/CompareWarrYrs -> 14.638
A12: 43053 | B12: HGST | C12: Ultrastar 7K6000 | D12: NAS | E12: 3.5 | F12: 4 | G12: 7200 | H12: 4.16 | I12: 8 | J12: =(Table5[[#This Row],[RPM]]/5400-1) -> 0.33333333 | K12: 192 | L12: 5 | M12: 600000 | O12: 2000000 | P12: 1e+15 | R12: 9.1 | S12: 7.1 | U12: =(((Table5[[#This Row],[Watts Active]]*Power_On_Hours_Year/1000)*Active_Duty_Cycle)+((Table5[[#This Row],[Watts Idle]]*Power_On_Hours_Year/1000)*(100%-Active_Duty_Cycle)))*CostPerKWH -> 8.2179 | V12: =Table5[Energy$year]/Table5[[#This Row],[SizTB]] -> 2.054475 | W12: 194.85 | X12: =Table5[[#This Row],[Cost]]/Table5[[#This Row],[SizTB]]*Exchange_Rate -> 48.7125 | Y12: =Table5[[#This Row],[Cost]]+((CompareWarrYrs-Table5[[#This Row],[S]])*(Incremental_Warr_Yr*Table5[[#This Row],[Cost]]))*Exchange_Rate -> 194.85 | Z12: =Table5[[#This Row],[$+Warr]]/Table5[[#This Row],[SizTB]] -> 48.7125 | AA12: =Table5[[#This Row],[$PerTB]]/CompareWarrYrs -> 9.7425
A13: 43053 | B13: HGST | C13: Ultrastar 7K6000 | D13: NAS | E13: 3.5 | F13: 5 | G13: 7200 | H13: 4.16 | I13: 8 | J13: =(Table5[[#This Row],[RPM]]/5400-1) -> 0.33333333 | K13: 192 | L13: 5 | M13: 600000 | O13: 2000000 | P13: 1e+15 | R13: 9.1 | S13: 7.1 | U13: =(((Table5[[#This Row],[Watts Active]]*Power_On_Hours_Year/1000)*Active_Duty_Cycle)+((Table5[[#This Row],[Watts Idle]]*Power_On_Hours_Year/1000)*(100%-Active_Duty_Cycle)))*CostPerKWH -> 8.2179 | V13: =Table5[Energy$year]/Table5[[#This Row],[SizTB]] -> 1.64358 | W13: 281.96 | X13: =Table5[[#This Row],[Cost]]/Table5[[#This Row],[SizTB]]*Exchange_Rate -> 56.392 | Y13: =Table5[[#This Row],[Cost]]+((CompareWarrYrs-Table5[[#This Row],[S]])*(Incremental_Warr_Yr*Table5[[#This Row],[Cost]]))*Exchange_Rate -> 281.96 | Z13: =Table5[[#This Row],[$+Warr]]/Table5[[#This Row],[SizTB]] -> 56.392 | AA13: =Table5[[#This Row],[$PerTB]]/CompareWarrYrs -> 11.2784
A14: 43053 | B14: HGST | C14: Ultrastar 7K6000 | D14: NAS | E14: 3.5 | F14: 6 | G14: 7200 | H14: 4.16 | I14: 8 | J14: =(Table5[[#This Row],[RPM]]/5400-1) -> 0.33333333 | K14: 216 | L14: 5 | M14: 600000 | O14: 2000000 | P14: 1e+15 | R14: 9.1 | S14: 7.1 | U14: =(((Table5[[#This Row],[Watts Active]]*Power_On_Hours_Year/1000)*Active_Duty_Cycle)+((Table5[[#This Row],[Watts Idle]]*Power_On_Hours_Year/1000)*(100%-Active_Duty_Cycle)))*CostPerKWH -> 8.2179 | V14: =Table5[Energy$year]/Table5[[#This Row],[SizTB]] -> 1.36965 | W14: 257.62 | X14: =Table5[[#This Row],[Cost]]/Table5[[#This Row],[SizTB]]*Exchange_Rate -> 42.936667 | Y14: =Table5[[#This Row],[Cost]]+((CompareWarrYrs-Table5[[#This Row],[S]])*(Incremental_Warr_Yr*Table5[[#This Row],[Cost]]))*Exchange_Rate -> 257.62 | Z14: =Table5[[#This Row],[$+Warr]]/Table5[[#This Row],[SizTB]] -> 42.936667 | AA14: =Table5[[#This Row],[$PerTB]]/CompareWarrYrs -> 8.5873333
A15: 43033 | B15: HGST | C15: Ultrastar Archive Ha10 | D15: SMR | E15: 3.5 | F15: 8 | G15: 7200 | H15: 4.16 | I15: 8.5 | J15: =(Table5[[#This Row],[RPM]]/5400-1) -> 0.33333333 | K15: 157 | L15: 5 | M15: 600000 | O15: 2000000 | P15: 1e+15 | R15: 7.6 | S15: 5.1 | U15: =(((Table5[[#This Row],[Watts Active]]*Power_On_Hours_Year/1000)*Active_Duty_Cycle)+((Table5[[#This Row],[Watts Idle]]*Power_On_Hours_Year/1000)*(100%-Active_Duty_Cycle)))*CostPerKWH -> 6.136032 | V15: =Table5[Energy$year]/Table5[[#This Row],[SizTB]] -> 0.767004 | W15: 373 | X15: =Table5[[#This Row],[Cost]]/Table5[[#This Row],[SizTB]]*Exchange_Rate -> 46.625 | Y15: =Table5[[#This Row],[Cost]]+((CompareWarrYrs-Table5[[#This Row],[S]])*(Incremental_Warr_Yr*Table5[[#This Row],[Cost]]))*Exchange_Rate -> 373 | Z15: =Table5[[#This Row],[$+Warr]]/Table5[[#This Row],[SizTB]] -> 46.625 | AA15: =Table5[[#This Row],[$PerTB]]/CompareWarrYrs -> 9.325 | AD15: Helium filled, Shingled (SMR)
A16: 43047 | B16: HGST | C16: Ultrastar C10K1200 | D16: NAS | E16: 2.5 | F16: 1.2 | G16: 10520 | H16: 2.85 | I16: 4.4 | J16: =(Table5[[#This Row],[RPM]]/5400-1) -> 0.94814815 | K16: 224 | L16: 5 | O16: 2000000 | P16: 1e+16 | R16: 6.5 | S16: 4.7 | U16: =(((Table5[[#This Row],[Watts Active]]*Power_On_Hours_Year/1000)*Active_Duty_Cycle)+((Table5[[#This Row],[Watts Idle]]*Power_On_Hours_Year/1000)*(100%-Active_Duty_Cycle)))*CostPerKWH -> 5.5443432 | V16: =Table5[Energy$year]/Table5[[#This Row],[SizTB]] -> 4.620286 | W16: 170 | X16: =Table5[[#This Row],[Cost]]/Table5[[#This Row],[SizTB]]*Exchange_Rate -> 141.66667 | Y16: =Table5[[#This Row],[Cost]]+((CompareWarrYrs-Table5[[#This Row],[S]])*(Incremental_Warr_Yr*Table5[[#This Row],[Cost]]))*Exchange_Rate -> 170 | Z16: =Table5[[#This Row],[$+Warr]]/Table5[[#This Row],[SizTB]] -> 141.66667 | AA16: =Table5[[#This Row],[$PerTB]]/CompareWarrYrs -> 28.333333
A17: 43047 | B17: HGST | C17: Ultrastar C10K1800 | D17: NAS | E17: 2.5 | F17: 1.8 | G17: 10520 | H17: 2.85 | I17: 4.4 | J17: =(Table5[[#This Row],[RPM]]/5400-1) -> 0.94814815 | K17: 224 | L17: 5 | O17: 2000000 | P17: 1e+16 | R17: 6.6 | S17: 4.7 | U17: =(((Table5[[#This Row],[Watts Active]]*Power_On_Hours_Year/1000)*Active_Duty_Cycle)+((Table5[[#This Row],[Watts Idle]]*Power_On_Hours_Year/1000)*(100%-Active_Duty_Cycle)))*CostPerKWH -> 5.5662576 | V17: =Table5[Energy$year]/Table5[[#This Row],[SizTB]] -> 3.0923653 | W17: 229.99 | X17: =Table5[[#This Row],[Cost]]/Table5[[#This Row],[SizTB]]*Exchange_Rate -> 127.77222 | Y17: =Table5[[#This Row],[Cost]]+((CompareWarrYrs-Table5[[#This Row],[S]])*(Incremental_Warr_Yr*Table5[[#This Row],[Cost]]))*Exchange_Rate -> 229.99 | Z17: =Table5[[#This Row],[$+Warr]]/Table5[[#This Row],[SizTB]] -> 127.77222 | AA17: =Table5[[#This Row],[$PerTB]]/CompareWarrYrs -> 25.554444
A18: 43050 | B18: HGST | C18: Ultrastar C15K600 | D18: NAS | E18: 2.5 | F18: 0.6 | G18: 15030 | H18: 1.99 | I18: 3.1 | J18: =(Table5[[#This Row],[RPM]]/5400-1) -> 1.7833333 | K18: 250 | L18: 5 | O18: 2000000 | P18: 1e+17 | R18: 7.5 | S18: 5.8 | U18: =(((Table5[[#This Row],[Watts Active]]*Power_On_Hours_Year/1000)*Active_Duty_Cycle)+((Table5[[#This Row],[Watts Idle]]*Power_On_Hours_Year/1000)*(100%-Active_Duty_Cycle)))*CostPerKWH -> 6.7277208 | V18: =Table5[Energy$year]/Table5[[#This Row],[SizTB]] -> 11.212868 | W18: 189.95 | X18: =Table5[[#This Row],[Cost]]/Table5[[#This Row],[SizTB]]*Exchange_Rate -> 316.58333 | Y18: =Table5[[#This Row],[Cost]]+((CompareWarrYrs-Table5[[#This Row],[S]])*(Incremental_Warr_Yr*Table5[[#This Row],[Cost]]))*Exchange_Rate -> 189.95 | Z18: =Table5[[#This Row],[$+Warr]]/Table5[[#This Row],[SizTB]] -> 316.58333 | AA18: =Table5[[#This Row],[$PerTB]]/CompareWarrYrs -> 63.316667 | AD18: 32GB NAND, Media caching
A19: 43019 | B19: HGST | C19: Ultrastar He6 | D19: NAS | E19: 3.5 | F19: 6 | G19: 7200 | H19: 4.16 | I19: 9 | J19: =(Table5[[#This Row],[RPM]]/5400-1) -> 0.33333333 | K19: 195 | L19: 5 | M19: 600000 | N19: 550 | O19: 2500000 | P19: 1e+15 | R19: 7.4 | S19: 5.1 | U19: =(((Table5[[#This Row],[Watts Active]]*Power_On_Hours_Year/1000)*Active_Duty_Cycle)+((Table5[[#This Row],[Watts Idle]]*Power_On_Hours_Year/1000)*(100%-Active_Duty_Cycle)))*CostPerKWH -> 6.0922032 | V19: =Table5[Energy$year]/Table5[[#This Row],[SizTB]] -> 1.0153672 | W19: 169.99 | X19: =Table5[[#This Row],[Cost]]/Table5[[#This Row],[SizTB]]*Exchange_Rate -> 28.331667 | Y19: =Table5[[#This Row],[Cost]]+((CompareWarrYrs-Table5[[#This Row],[S]])*(Incremental_Warr_Yr*Table5[[#This Row],[Cost]]))*Exchange_Rate -> 169.99 | Z19: =Table5[[#This Row],[$+Warr]]/Table5[[#This Row],[SizTB]] -> 28.331667 | AA19: =Table5[[#This Row],[$PerTB]]/CompareWarrYrs -> 5.6663333 | AD19: Helium filled
A20: 43094 | B20: HGST | C20: Ultrastar He8 | D20: NAS | E20: 3.5 | F20: 8 | G20: 7200 | H20: 4.16 | I20: 8.5 | J20: =(Table5[[#This Row],[RPM]]/5400-1) -> 0.33333333 | K20: 237 | L20: 5 | M20: 600000 | N20: 550 | O20: 2500000 | P20: 1e+15 | R20: 7.4 | S20: 5.1 | U20: =(((Table5[[#This Row],[Watts Active]]*Power_On_Hours_Year/1000)*Active_Duty_Cycle)+((Table5[[#This Row],[Watts Idle]]*Power_On_Hours_Year/1000)*(100%-Active_Duty_Cycle)))*CostPerKWH -> 6.0922032 | V20: =Table5[Energy$year]/Table5[[#This Row],[SizTB]] -> 0.7615254 | W20: 199.99 | X20: =Table5[[#This Row],[Cost]]/Table5[[#This Row],[SizTB]]*Exchange_Rate -> 24.99875 | Y20: =Table5[[#This Row],[Cost]]+((CompareWarrYrs-Table5[[#This Row],[S]])*(Incremental_Warr_Yr*Table5[[#This Row],[Cost]]))*Exchange_Rate -> 199.99 | Z20: =Table5[[#This Row],[$+Warr]]/Table5[[#This Row],[SizTB]] -> 24.99875 | AA20: =Table5[[#This Row],[$PerTB]]/CompareWarrYrs -> 4.99975 | AD20: Helium filled, Media caching
A21: 43066 | B21: HGST | C21: Ultrastar He10 | D21: NAS | E21: 3.5 | F21: 10 | G21: 7200 | H21: 4.16 | I21: 8 | J21: =(Table5[[#This Row],[RPM]]/5400-1) -> 0.33333333 | K21: 237 | L21: 5 | M21: 600000 | N21: 550 | O21: 2500000 | P21: 1e+15 | R21: 6.8 | S21: 5 | U21: =(((Table5[[#This Row],[Watts Active]]*Power_On_Hours_Year/1000)*Active_Duty_Cycle)+((Table5[[#This Row],[Watts Idle]]*Power_On_Hours_Year/1000)*(100%-Active_Duty_Cycle)))*CostPerKWH -> 5.8730592 | V21: =Table5[Energy$year]/Table5[[#This Row],[SizTB]] -> 0.58730592 | W21: 369.99 | X21: =Table5[[#This Row],[Cost]]/Table5[[#This Row],[SizTB]]*Exchange_Rate -> 36.999 | Y21: =Table5[[#This Row],[Cost]]+((CompareWarrYrs-Table5[[#This Row],[S]])*(Incremental_Warr_Yr*Table5[[#This Row],[Cost]]))*Exchange_Rate -> 369.99 | Z21: =Table5[[#This Row],[$+Warr]]/Table5[[#This Row],[SizTB]] -> 36.999 | AA21: =Table5[[#This Row],[$PerTB]]/CompareWarrYrs -> 7.3998 | AD21: Helium filled
A22: 43066 | B22: HGST | C22: Ultrastar He12 | D22: NAS | E22: 3.5 | F22: 12 | G22: 7200 | H22: 4.16 | I22: 8.6 | J22: =(Table5[[#This Row],[RPM]]/5400-1) -> 0.33333333 | K22: 243 | L22: 5 | M22: 600000 | N22: 550 | O22: 2500000 | P22: 1e+15 | R22: 7.2 | S22: 5.3 | U22: =(((Table5[[#This Row],[Watts Active]]*Power_On_Hours_Year/1000)*Active_Duty_Cycle)+((Table5[[#This Row],[Watts Idle]]*Power_On_Hours_Year/1000)*(100%-Active_Duty_Cycle)))*CostPerKWH -> 6.2236896 | V22: =Table5[Energy$year]/Table5[[#This Row],[SizTB]] -> 0.5186408 | W22: 730 | X22: =Table5[[#This Row],[Cost]]/Table5[[#This Row],[SizTB]]*Exchange_Rate -> 60.833333 | Y22: =Table5[[#This Row],[Cost]]+((CompareWarrYrs-Table5[[#This Row],[S]])*(Incremental_Warr_Yr*Table5[[#This Row],[Cost]]))*Exchange_Rate -> 730 | Z22: =Table5[[#This Row],[$+Warr]]/Table5[[#This Row],[SizTB]] -> 60.833333 | AA22: =Table5[[#This Row],[$PerTB]]/CompareWarrYrs -> 12.166667 | AD22: Helium filled
A23: 43021 | B23: HGST | C23: Ultrastar Hs14 | D23: SMR | E23: 3.5 | F23: 14 | G23: 7200 | H23: 4.16 | I23: 12 | J23: =(Table5[[#This Row],[RPM]]/5400-1) -> 0.33333333 | K23: 223 | L23: 5 | M23: 600000 | N23: 550 | O23: 2500000 | P23: 1e+15 | Q23: =12*1.51+5*0.39 -> 20.07 | R23: 6.4 | S23: 5.2 | T23: 0.8 | U23: =(((Table5[[#This Row],[Watts Active]]*Power_On_Hours_Year/1000)*Active_Duty_Cycle)+((Table5[[#This Row],[Watts Idle]]*Power_On_Hours_Year/1000)*(100%-Active_Duty_Cycle)))*CostPerKWH -> 5.9607168 | V23: =Table5[Energy$year]/Table5[[#This Row],[SizTB]] -> 0.42576549 | X23: =Table5[[#This Row],[Cost]]/Table5[[#This Row],[SizTB]]*Exchange_Rate -> 0 | Y23: =Table5[[#This Row],[Cost]]+((CompareWarrYrs-Table5[[#This Row],[S]])*(Incremental_Warr_Yr*Table5[[#This Row],[Cost]]))*Exchange_Rate -> 0 | Z23: =Table5[[#This Row],[$+Warr]]/Table5[[#This Row],[SizTB]] -> 0 | AA23: =Table5[[#This Row],[$PerTB]]/CompareWarrYrs -> 0 | AD23: Helium filled, Shingled (SMR)
A24: 43064 | B24: Seagate | C24: Archive | D24: SMR | E24: 3.5 | F24: 5 | G24: 5900 | J24: =(Table5[[#This Row],[RPM]]/5400-1) -> 0.092592593 | K24: 180 | L24: 3 | M24: 300000 | N24: 180 | O24: 800000 | P24: =10^14 -> 100000000000000 | Q24: 24 | R24: 5.5 | S24: 3.5 | T24: 0.74 | U24: =(((Table5[[#This Row],[Watts Active]]*Power_On_Hours_Year/1000)*Active_Duty_Cycle)+((Table5[[#This Row],[Watts Idle]]*Power_On_Hours_Year/1000)*(100%-Active_Duty_Cycle)))*CostPerKWH -> 4.273308 | V24: =Table5[Energy$year]/Table5[[#This Row],[SizTB]] -> 0.8546616 | W24: 212 | X24: =Table5[[#This Row],[Cost]]/Table5[[#This Row],[SizTB]]*Exchange_Rate -> 42.4 | Y24: =Table5[[#This Row],[Cost]]+((CompareWarrYrs-Table5[[#This Row],[S]])*(Incremental_Warr_Yr*Table5[[#This Row],[Cost]]))*Exchange_Rate -> 258.64 | Z24: =Table5[[#This Row],[$+Warr]]/Table5[[#This Row],[SizTB]] -> 51.728 | AA24: =Table5[[#This Row],[$PerTB]]/CompareWarrYrs -> 10.3456
A25: 43064 | B25: Seagate | C25: Archive | D25: SMR | E25: 3.5 | F25: 6 | G25: 5900 | J25: =(Table5[[#This Row],[RPM]]/5400-1) -> 0.092592593 | K25: 190 | L25: 3 | M25: 300000 | N25: 180 | O25: 800000 | P25: =10^14 -> 100000000000000 | Q25: 24 | R25: 7.5 | S25: 5 | T25: 0.999 | U25: =(((Table5[[#This Row],[Watts Active]]*Power_On_Hours_Year/1000)*Active_Duty_Cycle)+((Table5[[#This Row],[Watts Idle]]*Power_On_Hours_Year/1000)*(100%-Active_Duty_Cycle)))*CostPerKWH -> 6.02646 | V25: =Table5[Energy$year]/Table5[[#This Row],[SizTB]] -> 1.00441 | W25: 194.79 | X25: =Table5[[#This Row],[Cost]]/Table5[[#This Row],[SizTB]]*Exchange_Rate -> 32.465 | Y25: =Table5[[#This Row],[Cost]]+((CompareWarrYrs-Table5[[#This Row],[S]])*(Incremental_Warr_Yr*Table5[[#This Row],[Cost]]))*Exchange_Rate -> 237.6438 | Z25: =Table5[[#This Row],[$+Warr]]/Table5[[#This Row],[SizTB]] -> 39.6073 | AA25: =Table5[[#This Row],[$PerTB]]/CompareWarrYrs -> 7.92146
A26: 43066 | B26: Seagate | C26: Archive | D26: SMR | E26: 3.5 | F26: 8 | G26: 5900 | H26: 5.5 | I26: 11.99 | J26: =(Table5[[#This Row],[RPM]]/5400-1) -> 0.092592593 | K26: 190 | L26: 3 | M26: 300000 | N26: 180 | O26: 800000 | P26: =10^14 -> 100000000000000 | Q26: 24 | R26: 7.5 | S26: 5 | T26: 0.999 | U26: =(((Table5[[#This Row],[Watts Active]]*Power_On_Hours_Year/1000)*Active_Duty_Cycle)+((Table5[[#This Row],[Watts Idle]]*Power_On_Hours_Year/1000)*(100%-Active_Duty_Cycle)))*CostPerKWH -> 6.02646 | V26: =Table5[Energy$year]/Table5[[#This Row],[SizTB]] -> 0.7533075 | W26: 221.88 | X26: =Table5[[#This Row],[Cost]]/Table5[[#This Row],[SizTB]]*Exchange_Rate -> 27.735 | Y26: =Table5[[#This Row],[Cost]]+((CompareWarrYrs-Table5[[#This Row],[S]])*(Incremental_Warr_Yr*Table5[[#This Row],[Cost]]))*Exchange_Rate -> 270.6936 | Z26: =Table5[[#This Row],[$+Warr]]/Table5[[#This Row],[SizTB]] -> 33.8367 | AA26: =Table5[[#This Row],[$PerTB]]/CompareWarrYrs -> 6.76734
A27: 43069 | B27: Seagate | C27: BarraCuda | D27: DT | E27: 3.5 | F27: 1 | G27: 7200 | H27: 4.16 | I27: 9.5 | J27: =(Table5[[#This Row],[RPM]]/5400-1) -> 0.33333333 | K27: 156 | L27: 2 | M27: 300000 | N27: 55 | P27: =10^14 -> 100000000000000 | Q27: 24 | R27: 5.3 | S27: 4.6 | T27: 0.94 | U27: =(((Table5[[#This Row],[Watts Active]]*Power_On_Hours_Year/1000)*Active_Duty_Cycle)+((Table5[[#This Row],[Watts Idle]]*Power_On_Hours_Year/1000)*(100%-Active_Duty_Cycle)))*CostPerKWH -> 5.1937128 | V27: =Table5[Energy$year]/Table5[[#This Row],[SizTB]] -> 5.1937128 | W27: 42.49 | X27: =Table5[[#This Row],[Cost]]/Table5[[#This Row],[SizTB]]*Exchange_Rate -> 42.49 | Y27: =Table5[[#This Row],[Cost]]+((CompareWarrYrs-Table5[[#This Row],[S]])*(Incremental_Warr_Yr*Table5[[#This Row],[Cost]]))*Exchange_Rate -> 56.5117 | Z27: =Table5[[#This Row],[$+Warr]]/Table5[[#This Row],[SizTB]] -> 56.5117 | AA27: =Table5[[#This Row],[$PerTB]]/CompareWarrYrs -> 11.30234
A28: 43065 | B28: Seagate | C28: BarraCuda | D28: DT | E28: 3.5 | F28: 2 | G28: 7200 | H28: 6 | I28: 9.5 | J28: =(Table5[[#This Row],[RPM]]/5400-1) -> 0.33333333 | K28: 156 | L28: 2 | M28: 300000 | N28: 55 | P28: =10^14 -> 100000000000000 | Q28: =2.5*12 -> 30 | R28: 8 | S28: 5.4 | T28: 0.75 | U28: =(((Table5[[#This Row],[Watts Active]]*Power_On_Hours_Year/1000)*Active_Duty_Cycle)+((Table5[[#This Row],[Watts Idle]]*Power_On_Hours_Year/1000)*(100%-Active_Duty_Cycle)))*CostPerKWH -> 6.4866624 | V28: =Table5[Energy$year]/Table5[[#This Row],[SizTB]] -> 3.2433312 | W28: 66.99 | X28: =Table5[[#This Row],[Cost]]/Table5[[#This Row],[SizTB]]*Exchange_Rate -> 33.495 | Y28: =Table5[[#This Row],[Cost]]+((CompareWarrYrs-Table5[[#This Row],[S]])*(Incremental_Warr_Yr*Table5[[#This Row],[Cost]]))*Exchange_Rate -> 89.0967 | Z28: =Table5[[#This Row],[$+Warr]]/Table5[[#This Row],[SizTB]] -> 44.54835 | AA28: =Table5[[#This Row],[$PerTB]]/CompareWarrYrs -> 8.90967
A29: 43080 | B29: Seagate | C29: BarraCuda | D29: DT | E29: 3.5 | F29: 3 | G29: 7200 | H29: 6 | I29: 9.5 | J29: =(Table5[[#This Row],[RPM]]/5400-1) -> 0.33333333 | K29: 156 | L29: 2 | M29: 300000 | N29: 55 | P29: =10^14 -> 100000000000000 | Q29: =2.5*12 -> 30 | R29: 8 | S29: 5.4 | T29: 0.75 | U29: =(((Table5[[#This Row],[Watts Active]]*Power_On_Hours_Year/1000)*Active_Duty_Cycle)+((Table5[[#This Row],[Watts Idle]]*Power_On_Hours_Year/1000)*(100%-Active_Duty_Cycle)))*CostPerKWH -> 6.4866624 | V29: =Table5[Energy$year]/Table5[[#This Row],[SizTB]] -> 2.1622208 | W29: 89.99 | X29: =Table5[[#This Row],[Cost]]/Table5[[#This Row],[SizTB]]*Exchange_Rate -> 29.996667 | Y29: =Table5[[#This Row],[Cost]]+((CompareWarrYrs-Table5[[#This Row],[S]])*(Incremental_Warr_Yr*Table5[[#This Row],[Cost]]))*Exchange_Rate -> 119.6867 | Z29: =Table5[[#This Row],[$+Warr]]/Table5[[#This Row],[SizTB]] -> 39.895567 | AA29: =Table5[[#This Row],[$PerTB]]/CompareWarrYrs -> 7.9791133
A30: 43050 | B30: Seagate | C30: BarraCuda | D30: DT | E30: 3.5 | F30: 4 | G30: 7200 | H30: 6 | I30: 9.5 | J30: =(Table5[[#This Row],[RPM]]/5400-1) -> 0.33333333 | K30: 190 | L30: 2 | M30: 300000 | N30: 55 | P30: =10^14 -> 100000000000000 | Q30: 24 | R30: 5 | S30: 2.5 | T30: 0.25 | U30: =(((Table5[[#This Row],[Watts Active]]*Power_On_Hours_Year/1000)*Active_Duty_Cycle)+((Table5[[#This Row],[Watts Idle]]*Power_On_Hours_Year/1000)*(100%-Active_Duty_Cycle)))*CostPerKWH -> 3.28716 | V30: =Table5[Energy$year]/Table5[[#This Row],[SizTB]] -> 0.82179 | W30: 89.99 | X30: =Table5[[#This Row],[Cost]]/Table5[[#This Row],[SizTB]]*Exchange_Rate -> 22.4975 | Y30: =Table5[[#This Row],[Cost]]+((CompareWarrYrs-Table5[[#This Row],[S]])*(Incremental_Warr_Yr*Table5[[#This Row],[Cost]]))*Exchange_Rate -> 119.6867 | Z30: =Table5[[#This Row],[$+Warr]]/Table5[[#This Row],[SizTB]] -> 29.921675 | AA30: =Table5[[#This Row],[$PerTB]]/CompareWarrYrs -> 5.984335
A31: 43019 | B31: Seagate | C31: BarraCuda | D31: LT | E31: 2.5 | F31: 1 | G31: 5400 | J31: =(Table5[[#This Row],[RPM]]/5400-1) -> 0 | K31: 140 | L31: 2 | M31: 600000 | P31: =10^14 -> 100000000000000 | Q31: =1*5 -> 5 | R31: 1.7 | S31: 0.45 | U31: =(((Table5[[#This Row],[Watts Active]]*Power_On_Hours_Year/1000)*Active_Duty_Cycle)+((Table5[[#This Row],[Watts Idle]]*Power_On_Hours_Year/1000)*(100%-Active_Duty_Cycle)))*CostPerKWH -> 0.767004 | V31: =Table5[Energy$year]/Table5[[#This Row],[SizTB]] -> 0.767004 | W31: 49.99 | X31: =Table5[[#This Row],[Cost]]/Table5[[#This Row],[SizTB]]*Exchange_Rate -> 49.99 | Y31: =Table5[[#This Row],[Cost]]+((CompareWarrYrs-Table5[[#This Row],[S]])*(Incremental_Warr_Yr*Table5[[#This Row],[Cost]]))*Exchange_Rate -> 66.4867 | Z31: =Table5[[#This Row],[$+Warr]]/Table5[[#This Row],[SizTB]] -> 66.4867 | AA31: =Table5[[#This Row],[$PerTB]]/CompareWarrYrs -> 13.29734
A32: 43066 | B32: Seagate | C32: BarraCuda | D32: LT | E32: 2.5 | F32: 2 | G32: 5400 | J32: =(Table5[[#This Row],[RPM]]/5400-1) -> 0 | K32: 140 | L32: 2 | M32: 600000 | P32: =10^14 -> 100000000000000 | Q32: =1*5 -> 5 | R32: 1.8 | S32: 0.5 | U32: =(((Table5[[#This Row],[Watts Active]]*Power_On_Hours_Year/1000)*Active_Duty_Cycle)+((Table5[[#This Row],[Watts Idle]]*Power_On_Hours_Year/1000)*(100%-Active_Duty_Cycle)))*CostPerKWH -> 0.8327472 | V32: =Table5[Energy$year]/Table5[[#This Row],[SizTB]] -> 0.4163736 | W32: 69.99 | X32: =Table5[[#This Row],[Cost]]/Table5[[#This Row],[SizTB]]*Exchange_Rate -> 34.995 | Y32: =Table5[[#This Row],[Cost]]+((CompareWarrYrs-Table5[[#This Row],[S]])*(Incremental_Warr_Yr*Table5[[#This Row],[Cost]]))*Exchange_Rate -> 93.0867 | Z32: =Table5[[#This Row],[$+Warr]]/Table5[[#This Row],[SizTB]] -> 46.54335 | AA32: =Table5[[#This Row],[$PerTB]]/CompareWarrYrs -> 9.30867
A33: 43019 | B33: Seagate | C33: BarraCuda | D33: LT | E33: 2.5 | F33: 3 | G33: 5400 | J33: =(Table5[[#This Row],[RPM]]/5400-1) -> 0 | K33: 140 | L33: 2 | M33: 600000 | P33: =10^14 -> 100000000000000 | Q33: =1.2*5 -> 6 | R33: 2.1 | S33: 1.1 | U33: =(((Table5[[#This Row],[Watts Active]]*Power_On_Hours_Year/1000)*Active_Duty_Cycle)+((Table5[[#This Row],[Watts Idle]]*Power_On_Hours_Year/1000)*(100%-Active_Duty_Cycle)))*CostPerKWH -> 1.424436 | V33: =Table5[Energy$year]/Table5[[#This Row],[SizTB]] -> 0.474812 | W33: 89.99 | X33: =Table5[[#This Row],[Cost]]/Table5[[#This Row],[SizTB]]*Exchange_Rate -> 29.996667 | Y33: =Table5[[#This Row],[Cost]]+((CompareWarrYrs-Table5[[#This Row],[S]])*(Incremental_Warr_Yr*Table5[[#This Row],[Cost]]))*Exchange_Rate -> 119.6867 | Z33: =Table5[[#This Row],[$+Warr]]/Table5[[#This Row],[SizTB]] -> 39.895567 | AA33: =Table5[[#This Row],[$PerTB]]/CompareWarrYrs -> 7.9791133
A34: 43103 | B34: Seagate | C34: BarraCuda | D34: LT | E34: 2.5 | F34: 4 | G34: 5400 | J34: =(Table5[[#This Row],[RPM]]/5400-1) -> 0 | K34: 140 | L34: 2 | M34: 600000 | P34: =10^14 -> 100000000000000 | Q34: =1.2*5 -> 6 | R34: 2.1 | S34: 1.1 | U34: =(((Table5[[#This Row],[Watts Active]]*Power_On_Hours_Year/1000)*Active_Duty_Cycle)+((Table5[[#This Row],[Watts Idle]]*Power_On_Hours_Year/1000)*(100%-Active_Duty_Cycle)))*CostPerKWH -> 1.424436 | V34: =Table5[Energy$year]/Table5[[#This Row],[SizTB]] -> 0.356109 | W34: 92.99 | X34: =Table5[[#This Row],[Cost]]/Table5[[#This Row],[SizTB]]*Exchange_Rate -> 23.2475 | Y34: =Table5[[#This Row],[Cost]]+((CompareWarrYrs-Table5[[#This Row],[S]])*(Incremental_Warr_Yr*Table5[[#This Row],[Cost]]))*Exchange_Rate -> 123.6767 | Z34: =Table5[[#This Row],[$+Warr]]/Table5[[#This Row],[SizTB]] -> 30.919175 | AA34: =Table5[[#This Row],[$PerTB]]/CompareWarrYrs -> 6.183835
A35: 43053 | B35: Seagate | C35: BarraCuda | D35: LT | E35: 2.5 | F35: 5 | G35: 5400 | J35: =(Table5[[#This Row],[RPM]]/5400-1) -> 0 | K35: 140 | L35: 2 | M35: 600000 | P35: =10^14 -> 100000000000000 | Q35: =1.2*5 -> 6 | R35: 2.1 | S35: 1.1 | U35: =(((Table5[[#This Row],[Watts Active]]*Power_On_Hours_Year/1000)*Active_Duty_Cycle)+((Table5[[#This Row],[Watts Idle]]*Power_On_Hours_Year/1000)*(100%-Active_Duty_Cycle)))*CostPerKWH -> 1.424436 | V35: =Table5[Energy$year]/Table5[[#This Row],[SizTB]] -> 0.2848872 | W35: 209.99 | X35: =Table5[[#This Row],[Cost]]/Table5[[#This Row],[SizTB]]*Exchange_Rate -> 41.998 | Y35: =Table5[[#This Row],[Cost]]+((CompareWarrYrs-Table5[[#This Row],[S]])*(Incremental_Warr_Yr*Table5[[#This Row],[Cost]]))*Exchange_Rate -> 279.2867 | Z35: =Table5[[#This Row],[$+Warr]]/Table5[[#This Row],[SizTB]] -> 55.85734 | AA35: =Table5[[#This Row],[$PerTB]]/CompareWarrYrs -> 11.171468
A36: 43088 | B36: Seagate | C36: BarraCuda Pro | D36: DT | E36: 3.5 | F36: 2 | G36: 7200 | H36: 4.16 | J36: =(Table5[[#This Row],[RPM]]/5400-1) -> 0.33333333 | K36: 195 | L36: 5 | M36: 600000+M11 | N36: 180 | O36: 1200000 | P36: 1e+15 | Q36: 24 | R36: 6.7 | S36: 4.5 | T36: 0.8 | U36: =(((Table5[[#This Row],[Watts Active]]*Power_On_Hours_Year/1000)*Active_Duty_Cycle)+((Table5[[#This Row],[Watts Idle]]*Power_On_Hours_Year/1000)*(100%-Active_Duty_Cycle)))*CostPerKWH -> 5.4128568 | V36: =Table5[Energy$year]/Table5[[#This Row],[SizTB]] -> 2.7064284 | W36: 119.99 | X36: =Table5[[#This Row],[Cost]]/Table5[[#This Row],[SizTB]]*Exchange_Rate -> 59.995 | Y36: =Table5[[#This Row],[Cost]]+((CompareWarrYrs-Table5[[#This Row],[S]])*(Incremental_Warr_Yr*Table5[[#This Row],[Cost]]))*Exchange_Rate -> 119.99 | Z36: =Table5[[#This Row],[$+Warr]]/Table5[[#This Row],[SizTB]] -> 59.995 | AA36: =Table5[[#This Row],[$PerTB]]/CompareWarrYrs -> 11.999
A37: 43088 | B37: Seagate | C37: BarraCuda Pro | D37: DT | E37: 3.5 | F37: 4 | G37: 7200 | H37: 4.16 | J37: =(Table5[[#This Row],[RPM]]/5400-1) -> 0.33333333 | K37: 214 | L37: 5 | M37: 600000 | N37: 180 | O37: 1200000 | P37: 1e+15 | Q37: 24 | R37: 6.7 | S37: 6 | T37: 0.6 | U37: =(((Table5[[#This Row],[Watts Active]]*Power_On_Hours_Year/1000)*Active_Duty_Cycle)+((Table5[[#This Row],[Watts Idle]]*Power_On_Hours_Year/1000)*(100%-Active_Duty_Cycle)))*CostPerKWH -> 6.7277208 | V37: =Table5[Energy$year]/Table5[[#This Row],[SizTB]] -> 1.6819302 | W37: 174.98 | X37: =Table5[[#This Row],[Cost]]/Table5[[#This Row],[SizTB]]*Exchange_Rate -> 43.745 | Y37: =Table5[[#This Row],[Cost]]+((CompareWarrYrs-Table5[[#This Row],[S]])*(Incremental_Warr_Yr*Table5[[#This Row],[Cost]]))*Exchange_Rate -> 174.98 | Z37: =Table5[[#This Row],[$+Warr]]/Table5[[#This Row],[SizTB]] -> 43.745 | AA37: =Table5[[#This Row],[$PerTB]]/CompareWarrYrs -> 8.749
A38: 43088 | B38: Seagate | C38: BarraCuda Pro | D38: DT | E38: 3.5 | F38: 6 | G38: 7200 | H38: 4.16 | J38: =(Table5[[#This Row],[RPM]]/5400-1) -> 0.33333333 | K38: 214 | L38: 5 | M38: 600000 | N38: 300 | O38: 1200000 | P38: 1e+15 | Q38: 24 | R38: 9 | S38: 7.2 | T38: 0.6 | U38: =(((Table5[[#This Row],[Watts Active]]*Power_On_Hours_Year/1000)*Active_Duty_Cycle)+((Table5[[#This Row],[Watts Idle]]*Power_On_Hours_Year/1000)*(100%-Active_Duty_Cycle)))*CostPerKWH -> 8.2836432 | V38: =Table5[Energy$year]/Table5[[#This Row],[SizTB]] -> 1.3806072 | W38: 234.99 | X38: =Table5[[#This Row],[Cost]]/Table5[[#This Row],[SizTB]]*Exchange_Rate -> 39.165 | Y38: =Table5[[#This Row],[Cost]]+((CompareWarrYrs-Table5[[#This Row],[S]])*(Incremental_Warr_Yr*Table5[[#This Row],[Cost]]))*Exchange_Rate -> 234.99 | Z38: =Table5[[#This Row],[$+Warr]]/Table5[[#This Row],[SizTB]] -> 39.165 | AA38: =Table5[[#This Row],[$PerTB]]/CompareWarrYrs -> 7.833
A39: 43088 | B39: Seagate | C39: BarraCuda Pro | D39: DT | E39: 3.5 | F39: 8 | G39: 7200 | H39: 4.16 | J39: =(Table5[[#This Row],[RPM]]/5400-1) -> 0.33333333 | K39: 210 | L39: 5 | M39: 300000 | N39: 300 | O39: 1000000 | P39: 1e+15 | Q39: =12*2 -> 24 | R39: 6.8 | S39: 4.42 | T39: 0.8 | U39: =(((Table5[[#This Row],[Watts Active]]*Power_On_Hours_Year/1000)*Active_Duty_Cycle)+((Table5[[#This Row],[Watts Idle]]*Power_On_Hours_Year/1000)*(100%-Active_Duty_Cycle)))*CostPerKWH -> 5.3646451 | V39: =Table5[Energy$year]/Table5[[#This Row],[SizTB]] -> 0.67058064 | W39: 299.99 | X39: =Table5[[#This Row],[Cost]]/Table5[[#This Row],[SizTB]]*Exchange_Rate -> 37.49875 | Y39: =Table5[[#This Row],[Cost]]+((CompareWarrYrs-Table5[[#This Row],[S]])*(Incremental_Warr_Yr*Table5[[#This Row],[Cost]]))*Exchange_Rate -> 299.99 | Z39: =Table5[[#This Row],[$+Warr]]/Table5[[#This Row],[SizTB]] -> 37.49875 | AA39: =Table5[[#This Row],[$PerTB]]/CompareWarrYrs -> 7.49975
A40: 43088 | B40: Seagate | C40: BarraCuda Pro | D40: DT | E40: 3.5 | F40: 10 | G40: 7200 | H40: 4.16 | J40: =(Table5[[#This Row],[RPM]]/5400-1) -> 0.33333333 | K40: 210 | L40: 5 | M40: 300000 | N40: 300 | O40: 1000000 | P40: 1e+15 | Q40: 24 | R40: 7.8 | S40: 4.42 | T40: 0.8 | U40: =(((Table5[[#This Row],[Watts Active]]*Power_On_Hours_Year/1000)*Active_Duty_Cycle)+((Table5[[#This Row],[Watts Idle]]*Power_On_Hours_Year/1000)*(100%-Active_Duty_Cycle)))*CostPerKWH -> 5.5837891 | V40: =Table5[Energy$year]/Table5[[#This Row],[SizTB]] -> 0.55837891 | W40: 379.99 | X40: =Table5[[#This Row],[Cost]]/Table5[[#This Row],[SizTB]]*Exchange_Rate -> 37.999 | Y40: =Table5[[#This Row],[Cost]]+((CompareWarrYrs-Table5[[#This Row],[S]])*(Incremental_Warr_Yr*Table5[[#This Row],[Cost]]))*Exchange_Rate -> 379.99 | Z40: =Table5[[#This Row],[$+Warr]]/Table5[[#This Row],[SizTB]] -> 37.999 | AA40: =Table5[[#This Row],[$PerTB]]/CompareWarrYrs -> 7.5998
A41: 43066 | B41: Seagate | C41: BarraCuda Pro | D41: DT | E41: 3.5 | F41: 12 | G41: 7200 | H41: 4.16 | J41: =(Table5[[#This Row],[RPM]]/5400-1) -> 0.33333333 | K41: 238 | L41: 5 | M41: 300000 | N41: 300 | O41: 1000000 | P41: 1e+15 | Q41: 24 | R41: 7.8 | S41: 4.83 | T41: 0.84 | U41: =(((Table5[[#This Row],[Watts Active]]*Power_On_Hours_Year/1000)*Active_Duty_Cycle)+((Table5[[#This Row],[Watts Idle]]*Power_On_Hours_Year/1000)*(100%-Active_Duty_Cycle)))*CostPerKWH -> 5.9431853 | V41: =Table5[Energy$year]/Table5[[#This Row],[SizTB]] -> 0.49526544 | W41: 499.99 | X41: =Table5[[#This Row],[Cost]]/Table5[[#This Row],[SizTB]]*Exchange_Rate -> 41.665833 | Y41: =Table5[[#This Row],[Cost]]+((CompareWarrYrs-Table5[[#This Row],[S]])*(Incremental_Warr_Yr*Table5[[#This Row],[Cost]]))*Exchange_Rate -> 499.99 | Z41: =Table5[[#This Row],[$+Warr]]/Table5[[#This Row],[SizTB]] -> 41.665833 | AA41: =Table5[[#This Row],[$PerTB]]/CompareWarrYrs -> 8.3331667
A42: 43027 | B42: Seagate | C42: Exos 10E2400 | D42: NAS | E42: 2.5 | F42: 1.8 | G42: 10500 | H42: 2.9 | J42: =(Table5[[#This Row],[RPM]]/5400-1) -> 0.94444444 | K42: 270 | L42: 5 | N42: 550 | O42: 2000000 | P42: 1e+16 | R42: 6.95 | S42: 4.26 | U42: =(((Table5[[#This Row],[Watts Active]]*Power_On_Hours_Year/1000)*Active_Duty_Cycle)+((Table5[[#This Row],[Watts Idle]]*Power_On_Hours_Year/1000)*(100%-Active_Duty_Cycle)))*CostPerKWH -> 5.2572646 | V42: =Table5[Energy$year]/Table5[[#This Row],[SizTB]] -> 2.9207025 | X42: =Table5[[#This Row],[Cost]]/Table5[[#This Row],[SizTB]]*Exchange_Rate -> 0 | Y42: =Table5[[#This Row],[Cost]]+((CompareWarrYrs-Table5[[#This Row],[S]])*(Incremental_Warr_Yr*Table5[[#This Row],[Cost]]))*Exchange_Rate -> 0 | Z42: =Table5[[#This Row],[$+Warr]]/Table5[[#This Row],[SizTB]] -> 0 | AA42: =Table5[[#This Row],[$PerTB]]/CompareWarrYrs -> 0 | AD42: 16GiB NAND
A43: 43027 | B43: Seagate | C43: Exos 10E2400 | D43: NAS | E43: 2.5 | F43: 2.4 | G43: 10500 | H43: 2.9 | J43: =(Table5[[#This Row],[RPM]]/5400-1) -> 0.94444444 | K43: 270 | L43: 5 | N43: 550 | O43: 2000000 | P43: 1e+16 | R43: 8.57 | S43: 4.9 | U43: =(((Table5[[#This Row],[Watts Active]]*Power_On_Hours_Year/1000)*Active_Duty_Cycle)+((Table5[[#This Row],[Watts Idle]]*Power_On_Hours_Year/1000)*(100%-Active_Duty_Cycle)))*CostPerKWH -> 6.1732865 | V43: =Table5[Energy$year]/Table5[[#This Row],[SizTB]] -> 2.5722027 | W43: 514.99 | X43: =Table5[[#This Row],[Cost]]/Table5[[#This Row],[SizTB]]*Exchange_Rate -> 214.57917 | Y43: =Table5[[#This Row],[Cost]]+((CompareWarrYrs-Table5[[#This Row],[S]])*(Incremental_Warr_Yr*Table5[[#This Row],[Cost]]))*Exchange_Rate -> 514.99 | Z43: =Table5[[#This Row],[$+Warr]]/Table5[[#This Row],[SizTB]] -> 214.57917 | AA43: =Table5[[#This Row],[$PerTB]]/CompareWarrYrs -> 42.915833 | AD43: 16GiB NAND
A44: 43027 | B44: Seagate | C44: Exos 15E900 | D44: NAS | E44: 3.5 | F44: 0.9 | G44: 15000 | H44: 2 | J44: =(Table5[[#This Row],[RPM]]/5400-1) -> 1.7777778 | K44: 215 | L44: 5 | N44: 550 | O44: 2000000 | P44: 1e+16 | R44: 7.6 | S44: 5.7 | U44: =(((Table5[[#This Row],[Watts Active]]*Power_On_Hours_Year/1000)*Active_Duty_Cycle)+((Table5[[#This Row],[Watts Idle]]*Power_On_Hours_Year/1000)*(100%-Active_Duty_Cycle)))*CostPerKWH -> 6.6619776 | V44: =Table5[Energy$year]/Table5[[#This Row],[SizTB]] -> 7.4021973 | X44: =Table5[[#This Row],[Cost]]/Table5[[#This Row],[SizTB]]*Exchange_Rate -> 0 | Y44: =Table5[[#This Row],[Cost]]+((CompareWarrYrs-Table5[[#This Row],[S]])*(Incremental_Warr_Yr*Table5[[#This Row],[Cost]]))*Exchange_Rate -> 0 | Z44: =Table5[[#This Row],[$+Warr]]/Table5[[#This Row],[SizTB]] -> 0 | AA44: =Table5[[#This Row],[$PerTB]]/CompareWarrYrs -> 0 | AD44: 8GiB NAND
A45: 43027 | B45: Seagate | C45: Exos 5E8 | D45: SMR | E45: 3.5 | F45: 8 | G45: 5900 | J45: =(Table5[[#This Row],[RPM]]/5400-1) -> 0.092592593 | K45: 190 | L45: 3 | M45: 300000 | N45: 180 | O45: 800000 | P45: =10^14 -> 100000000000000 | Q45: 24 | R45: 5.3 | S45: 3.7 | T45: 0.99 | U45: =(((Table5[[#This Row],[Watts Active]]*Power_On_Hours_Year/1000)*Active_Duty_Cycle)+((Table5[[#This Row],[Watts Idle]]*Power_On_Hours_Year/1000)*(100%-Active_Duty_Cycle)))*CostPerKWH -> 4.4047944 | V45: =Table5[Energy$year]/Table5[[#This Row],[SizTB]] -> 0.5505993 | W45: 229.99 | X45: =Table5[[#This Row],[Cost]]/Table5[[#This Row],[SizTB]]*Exchange_Rate -> 28.74875 | Y45: =Table5[[#This Row],[Cost]]+((CompareWarrYrs-Table5[[#This Row],[S]])*(Incremental_Warr_Yr*Table5[[#This Row],[Cost]]))*Exchange_Rate -> 280.5878 | Z45: =Table5[[#This Row],[$+Warr]]/Table5[[#This Row],[SizTB]] -> 35.073475 | AA45: =Table5[[#This Row],[$PerTB]]/CompareWarrYrs -> 7.014695 | AD45: Shingled (SMR)
A46: 43027 | B46: Seagate | C46: Exos 7E2 | D46: NAS | E46: 3.5 | F46: 1 | G46: 7200 | H46: 4.16 | J46: =(Table5[[#This Row],[RPM]]/5400-1) -> 0.33333333 | K46: 194 | L46: 5 | N46: 550 | O46: 2000000 | P46: 1e+15 | R46: 7 | S46: 4.7 | U46: =(((Table5[[#This Row],[Watts Active]]*Power_On_Hours_Year/1000)*Active_Duty_Cycle)+((Table5[[#This Row],[Watts Idle]]*Power_On_Hours_Year/1000)*(100%-Active_Duty_Cycle)))*CostPerKWH -> 5.6539152 | V46: =Table5[Energy$year]/Table5[[#This Row],[SizTB]] -> 5.6539152 | X46: =Table5[[#This Row],[Cost]]/Table5[[#This Row],[SizTB]]*Exchange_Rate -> 0 | Y46: =Table5[[#This Row],[Cost]]+((CompareWarrYrs-Table5[[#This Row],[S]])*(Incremental_Warr_Yr*Table5[[#This Row],[Cost]]))*Exchange_Rate -> 0 | Z46: =Table5[[#This Row],[$+Warr]]/Table5[[#This Row],[SizTB]] -> 0 | AA46: =Table5[[#This Row],[$PerTB]]/CompareWarrYrs -> 0
A47: 43027 | B47: Seagate | C47: Exos 7E2 | D47: NAS | E47: 3.5 | F47: 2 | G47: 7200 | H47: 4.16 | J47: =(Table5[[#This Row],[RPM]]/5400-1) -> 0.33333333 | K47: 194 | L47: 5 | N47: 550 | O47: 2000000 | P47: 1e+15 | R47: 7 | S47: 4.7 | U47: =(((Table5[[#This Row],[Watts Active]]*Power_On_Hours_Year/1000)*Active_Duty_Cycle)+((Table5[[#This Row],[Watts Idle]]*Power_On_Hours_Year/1000)*(100%-Active_Duty_Cycle)))*CostPerKWH -> 5.6539152 | V47: =Table5[Energy$year]/Table5[[#This Row],[SizTB]] -> 2.8269576 | W47: 306.6 | X47: =Table5[[#This Row],[Cost]]/Table5[[#This Row],[SizTB]]*Exchange_Rate -> 153.3 | Y47: =Table5[[#This Row],[Cost]]+((CompareWarrYrs-Table5[[#This Row],[S]])*(Incremental_Warr_Yr*Table5[[#This Row],[Cost]]))*Exchange_Rate -> 306.6 | Z47: =Table5[[#This Row],[$+Warr]]/Table5[[#This Row],[SizTB]] -> 153.3 | AA47: =Table5[[#This Row],[$PerTB]]/CompareWarrYrs -> 30.66
A48: 43037 | B48: Seagate | C48: Exos 7E2000 | D48: NAS | E48: 2.5 | F48: 1 | G48: 7200 | H48: 4.16 | J48: =(Table5[[#This Row],[RPM]]/5400-1) -> 0.33333333 | K48: 136 | L48: 5 | M48: 300000 | N48: 550 | O48: 2000000 | P48: 1e+15 | R48: 5.9 | S48: 3.29 | T48: 1.52 | U48: =(((Table5[[#This Row],[Watts Active]]*Power_On_Hours_Year/1000)*Active_Duty_Cycle)+((Table5[[#This Row],[Watts Idle]]*Power_On_Hours_Year/1000)*(100%-Active_Duty_Cycle)))*CostPerKWH -> 4.1768846 | V48: =Table5[Energy$year]/Table5[[#This Row],[SizTB]] -> 4.1768846 | W48: 184.41 | X48: =Table5[[#This Row],[Cost]]/Table5[[#This Row],[SizTB]]*Exchange_Rate -> 184.41 | Y48: =Table5[[#This Row],[Cost]]+((CompareWarrYrs-Table5[[#This Row],[S]])*(Incremental_Warr_Yr*Table5[[#This Row],[Cost]]))*Exchange_Rate -> 184.41 | Z48: =Table5[[#This Row],[$+Warr]]/Table5[[#This Row],[SizTB]] -> 184.41 | AA48: =Table5[[#This Row],[$PerTB]]/CompareWarrYrs -> 36.882
A49: 43027 | B49: Seagate | C49: Exos 7E2000 | D49: NAS | E49: 2.5 | F49: 2 | G49: 7200 | H49: 4.16 | J49: =(Table5[[#This Row],[RPM]]/5400-1) -> 0.33333333 | K49: 136 | L49: 5 | M49: 300000 | N49: 550 | O49: 2000000 | P49: 1e+15 | R49: 6.02 | S49: 3.53 | T49: 1.52 | U49: =(((Table5[[#This Row],[Watts Active]]*Power_On_Hours_Year/1000)*Active_Duty_Cycle)+((Table5[[#This Row],[Watts Idle]]*Power_On_Hours_Year/1000)*(100%-Active_Duty_Cycle)))*CostPerKWH -> 4.4135602 | V49: =Table5[Energy$year]/Table5[[#This Row],[SizTB]] -> 2.2067801 | W49: 329.99 | X49: =Table5[[#This Row],[Cost]]/Table5[[#This Row],[SizTB]]*Exchange_Rate -> 164.995 | Y49: =Table5[[#This Row],[Cost]]+((CompareWarrYrs-Table5[[#This Row],[S]])*(Incremental_Warr_Yr*Table5[[#This Row],[Cost]]))*Exchange_Rate -> 329.99 | Z49: =Table5[[#This Row],[$+Warr]]/Table5[[#This Row],[SizTB]] -> 164.995 | AA49: =Table5[[#This Row],[$PerTB]]/CompareWarrYrs -> 32.999
A50: 43027 | B50: Seagate | C50: Exos 7E8 | D50: NAS | E50: 3.5 | F50: 1 | G50: 7200 | H50: 4.16 | J50: =(Table5[[#This Row],[RPM]]/5400-1) -> 0.33333333 | K50: 215 | L50: 5 | N50: 550 | O50: 2000000 | P50: 1e+15 | R50: 5.91 | S50: 4.25 | U50: =(((Table5[[#This Row],[Watts Active]]*Power_On_Hours_Year/1000)*Active_Duty_Cycle)+((Table5[[#This Row],[Watts Idle]]*Power_On_Hours_Year/1000)*(100%-Active_Duty_Cycle)))*CostPerKWH -> 5.020589 | V50: =Table5[Energy$year]/Table5[[#This Row],[SizTB]] -> 5.020589 | W50: 99.99 | X50: =Table5[[#This Row],[Cost]]/Table5[[#This Row],[SizTB]]*Exchange_Rate -> 99.99 | Y50: =Table5[[#This Row],[Cost]]+((CompareWarrYrs-Table5[[#This Row],[S]])*(Incremental_Warr_Yr*Table5[[#This Row],[Cost]]))*Exchange_Rate -> 99.99 | Z50: =Table5[[#This Row],[$+Warr]]/Table5[[#This Row],[SizTB]] -> 99.99 | AA50: =Table5[[#This Row],[$PerTB]]/CompareWarrYrs -> 19.998
A51: 43080 | B51: Seagate | C51: Exos 7E8 | D51: NAS | E51: 3.5 | F51: 2 | G51: 7200 | H51: 4.16 | J51: =(Table5[[#This Row],[RPM]]/5400-1) -> 0.33333333 | K51: 226 | L51: 5 | N51: 550 | O51: 2000000 | P51: 1e+15 | R51: 5.9 | S51: 4.25 | T51: 0.6 | U51: =(((Table5[[#This Row],[Watts Active]]*Power_On_Hours_Year/1000)*Active_Duty_Cycle)+((Table5[[#This Row],[Watts Idle]]*Power_On_Hours_Year/1000)*(100%-Active_Duty_Cycle)))*CostPerKWH -> 5.0183976 | V51: =Table5[Energy$year]/Table5[[#This Row],[SizTB]] -> 2.5091988 | W51: 114.99 | X51: =Table5[[#This Row],[Cost]]/Table5[[#This Row],[SizTB]]*Exchange_Rate -> 57.495 | Y51: =Table5[[#This Row],[Cost]]+((CompareWarrYrs-Table5[[#This Row],[S]])*(Incremental_Warr_Yr*Table5[[#This Row],[Cost]]))*Exchange_Rate -> 114.99 | Z51: =Table5[[#This Row],[$+Warr]]/Table5[[#This Row],[SizTB]] -> 57.495 | AA51: =Table5[[#This Row],[$PerTB]]/CompareWarrYrs -> 11.499
A52: 43080 | B52: Seagate | C52: Exos 7E8 | D52: NAS | E52: 3.5 | F52: 4 | G52: 7200 | H52: 4.16 | J52: =(Table5[[#This Row],[RPM]]/5400-1) -> 0.33333333 | K52: 226 | L52: 5 | N52: 550 | O52: 2000000 | P52: 1e+15 | R52: 6.94 | S52: 5.45 | T52: 0.6 | U52: =(((Table5[[#This Row],[Watts Active]]*Power_On_Hours_Year/1000)*Active_Duty_Cycle)+((Table5[[#This Row],[Watts Idle]]*Power_On_Hours_Year/1000)*(100%-Active_Duty_Cycle)))*CostPerKWH -> 6.2981986 | V52: =Table5[Energy$year]/Table5[[#This Row],[SizTB]] -> 1.5745496 | W52: 169.99 | X52: =Table5[[#This Row],[Cost]]/Table5[[#This Row],[SizTB]]*Exchange_Rate -> 42.4975 | Y52: =Table5[[#This Row],[Cost]]+((CompareWarrYrs-Table5[[#This Row],[S]])*(Incremental_Warr_Yr*Table5[[#This Row],[Cost]]))*Exchange_Rate -> 169.99 | Z52: =Table5[[#This Row],[$+Warr]]/Table5[[#This Row],[SizTB]] -> 42.4975 | AA52: =Table5[[#This Row],[$PerTB]]/CompareWarrYrs -> 8.4995
A53: 43080 | B53: Seagate | C53: Exos 7E8 | D53: NAS | E53: 3.5 | F53: 6 | G53: 7200 | H53: 4.16 | J53: =(Table5[[#This Row],[RPM]]/5400-1) -> 0.33333333 | K53: 226 | L53: 5 | N53: 550 | O53: 2000000 | P53: 1e+15 | R53: 8.59 | S53: 6.26 | T53: 0.6 | U53: =(((Table5[[#This Row],[Watts Active]]*Power_On_Hours_Year/1000)*Active_Duty_Cycle)+((Table5[[#This Row],[Watts Idle]]*Power_On_Hours_Year/1000)*(100%-Active_Duty_Cycle)))*CostPerKWH -> 7.3698127 | V53: =Table5[Energy$year]/Table5[[#This Row],[SizTB]] -> 1.2283021 | W53: 203.99 | X53: =Table5[[#This Row],[Cost]]/Table5[[#This Row],[SizTB]]*Exchange_Rate -> 33.998333 | Y53: =Table5[[#This Row],[Cost]]+((CompareWarrYrs-Table5[[#This Row],[S]])*(Incremental_Warr_Yr*Table5[[#This Row],[Cost]]))*Exchange_Rate -> 203.99 | Z53: =Table5[[#This Row],[$+Warr]]/Table5[[#This Row],[SizTB]] -> 33.998333 | AA53: =Table5[[#This Row],[$PerTB]]/CompareWarrYrs -> 6.7996667
A54: 43080 | B54: Seagate | C54: Exos 7E8 | D54: NAS | E54: 3.5 | F54: 8 | G54: 7200 | H54: 4.16 | J54: =(Table5[[#This Row],[RPM]]/5400-1) -> 0.33333333 | K54: 249 | L54: 5 | N54: 550 | O54: 2000000 | P54: 1e+15 | R54: 11 | S54: 7.6 | T54: 0.6 | U54: =(((Table5[[#This Row],[Watts Active]]*Power_On_Hours_Year/1000)*Active_Duty_Cycle)+((Table5[[#This Row],[Watts Idle]]*Power_On_Hours_Year/1000)*(100%-Active_Duty_Cycle)))*CostPerKWH -> 9.0725616 | V54: =Table5[Energy$year]/Table5[[#This Row],[SizTB]] -> 1.1340702 | W54: 259.99 | X54: =Table5[[#This Row],[Cost]]/Table5[[#This Row],[SizTB]]*Exchange_Rate -> 32.49875 | Y54: =Table5[[#This Row],[Cost]]+((CompareWarrYrs-Table5[[#This Row],[S]])*(Incremental_Warr_Yr*Table5[[#This Row],[Cost]]))*Exchange_Rate -> 259.99 | Z54: =Table5[[#This Row],[$+Warr]]/Table5[[#This Row],[SizTB]] -> 32.49875 | AA54: =Table5[[#This Row],[$PerTB]]/CompareWarrYrs -> 6.49975
A55: 43027 | B55: Seagate | C55: Exos X10 | D55: NAS | E55: 3.5 | F55: 8 | G55: 7200 | H55: 4.16 | J55: =(Table5[[#This Row],[RPM]]/5400-1) -> 0.33333333 | K55: 237 | L55: 5 | M55: 600000 | N55: 550 | O55: 2500000 | P55: 1e+15 | Q55: 26.21 | R55: 7.8 | S55: 5 | T55: 0.8 | U55: =(((Table5[[#This Row],[Watts Active]]*Power_On_Hours_Year/1000)*Active_Duty_Cycle)+((Table5[[#This Row],[Watts Idle]]*Power_On_Hours_Year/1000)*(100%-Active_Duty_Cycle)))*CostPerKWH -> 6.0922032 | V55: =Table5[Energy$year]/Table5[[#This Row],[SizTB]] -> 0.7615254 | W55: 259.99 | X55: =Table5[[#This Row],[Cost]]/Table5[[#This Row],[SizTB]]*Exchange_Rate -> 32.49875 | Y55: =Table5[[#This Row],[Cost]]+((CompareWarrYrs-Table5[[#This Row],[S]])*(Incremental_Warr_Yr*Table5[[#This Row],[Cost]]))*Exchange_Rate -> 259.99 | Z55: =Table5[[#This Row],[$+Warr]]/Table5[[#This Row],[SizTB]] -> 32.49875 | AA55: =Table5[[#This Row],[$PerTB]]/CompareWarrYrs -> 6.49975 | AD55: Helium filled
A56: 43027 | B56: Seagate | C56: Exos X10 | D56: NAS | E56: 3.5 | F56: 10 | G56: 7200 | H56: 4.16 | J56: =(Table5[[#This Row],[RPM]]/5400-1) -> 0.33333333 | K56: 237 | L56: 5 | M56: 600000 | N56: 550 | O56: 2500000 | P56: 1e+15 | Q56: =0.58*5+1.94*12 -> 26.18 | R56: 7.8 | S56: 5 | T56: 0.8 | U56: =(((Table5[[#This Row],[Watts Active]]*Power_On_Hours_Year/1000)*Active_Duty_Cycle)+((Table5[[#This Row],[Watts Idle]]*Power_On_Hours_Year/1000)*(100%-Active_Duty_Cycle)))*CostPerKWH -> 6.0922032 | V56: =Table5[Energy$year]/Table5[[#This Row],[SizTB]] -> 0.60922032 | W56: 364.99 | X56: =Table5[[#This Row],[Cost]]/Table5[[#This Row],[SizTB]]*Exchange_Rate -> 36.499 | Y56: =Table5[[#This Row],[Cost]]+((CompareWarrYrs-Table5[[#This Row],[S]])*(Incremental_Warr_Yr*Table5[[#This Row],[Cost]]))*Exchange_Rate -> 364.99 | Z56: =Table5[[#This Row],[$+Warr]]/Table5[[#This Row],[SizTB]] -> 36.499 | AA56: =Table5[[#This Row],[$PerTB]]/CompareWarrYrs -> 7.2998 | AD56: Helium filled
A57: 43080 | B57: Seagate | C57: Exos X12 | D57: NAS | E57: 3.5 | F57: 12 | G57: 7200 | H57: 4.16 | J57: =(Table5[[#This Row],[RPM]]/5400-1) -> 0.33333333 | K57: 261 | L57: 5 | M57: 600000 | N57: 550 | O57: 2500000 | P57: 1e+15 | Q57: =0.914*5+1.729*12 -> 25.318 | R57: 7.8 | S57: 5 | T57: 1.15 | U57: =(((Table5[[#This Row],[Watts Active]]*Power_On_Hours_Year/1000)*Active_Duty_Cycle)+((Table5[[#This Row],[Watts Idle]]*Power_On_Hours_Year/1000)*(100%-Active_Duty_Cycle)))*CostPerKWH -> 6.0922032 | V57: =Table5[Energy$year]/Table5[[#This Row],[SizTB]] -> 0.5076836 | W57: 461.98 | X57: =Table5[[#This Row],[Cost]]/Table5[[#This Row],[SizTB]]*Exchange_Rate -> 38.498333 | Y57: =Table5[[#This Row],[Cost]]+((CompareWarrYrs-Table5[[#This Row],[S]])*(Incremental_Warr_Yr*Table5[[#This Row],[Cost]]))*Exchange_Rate -> 461.98 | Z57: =Table5[[#This Row],[$+Warr]]/Table5[[#This Row],[SizTB]] -> 38.498333 | AA57: =Table5[[#This Row],[$PerTB]]/CompareWarrYrs -> 7.6996667 | AD57: Helium filled
A58: 43044 | B58: Seagate | C58: FireCuda SSHD | D58: DT | E58: 3.5 | F58: 1 | G58: 7200 | J58: =(Table5[[#This Row],[RPM]]/5400-1) -> 0.33333333 | L58: 5 | Q58: 24 | R58: 5.9 | S58: 4.5 | T58: 0.63 | U58: =(((Table5[[#This Row],[Watts Active]]*Power_On_Hours_Year/1000)*Active_Duty_Cycle)+((Table5[[#This Row],[Watts Idle]]*Power_On_Hours_Year/1000)*(100%-Active_Duty_Cycle)))*CostPerKWH -> 5.2375416 | V58: =Table5[Energy$year]/Table5[[#This Row],[SizTB]] -> 5.2375416 | W58: 87.22 | X58: =Table5[[#This Row],[Cost]]/Table5[[#This Row],[SizTB]]*Exchange_Rate -> 87.22 | Y58: =Table5[[#This Row],[Cost]]+((CompareWarrYrs-Table5[[#This Row],[S]])*(Incremental_Warr_Yr*Table5[[#This Row],[Cost]]))*Exchange_Rate -> 87.22 | Z58: =Table5[[#This Row],[$+Warr]]/Table5[[#This Row],[SizTB]] -> 87.22 | AA58: =Table5[[#This Row],[$PerTB]]/CompareWarrYrs -> 17.444 | AD58: 8GiB NAND
A59: 43088 | B59: Seagate | C59: FireCuda SSHD | D59: DT | E59: 3.5 | F59: 2 | G59: 7200 | J59: =(Table5[[#This Row],[RPM]]/5400-1) -> 0.33333333 | L59: 5 | Q59: 24 | R59: 6.7 | S59: 3.36 | T59: 0.75 | U59: =(((Table5[[#This Row],[Watts Active]]*Power_On_Hours_Year/1000)*Active_Duty_Cycle)+((Table5[[#This Row],[Watts Idle]]*Power_On_Hours_Year/1000)*(100%-Active_Duty_Cycle)))*CostPerKWH -> 4.4135602 | V59: =Table5[Energy$year]/Table5[[#This Row],[SizTB]] -> 2.2067801 | W59: 99.99 | X59: =Table5[[#This Row],[Cost]]/Table5[[#This Row],[SizTB]]*Exchange_Rate -> 49.995 | Y59: =Table5[[#This Row],[Cost]]+((CompareWarrYrs-Table5[[#This Row],[S]])*(Incremental_Warr_Yr*Table5[[#This Row],[Cost]]))*Exchange_Rate -> 99.99 | Z59: =Table5[[#This Row],[$+Warr]]/Table5[[#This Row],[SizTB]] -> 49.995 | AA59: =Table5[[#This Row],[$PerTB]]/CompareWarrYrs -> 9.999 | AD59: 8GiB NAND
A60: 43044 | B60: Seagate | C60: FireCuda SSHD | D60: LT | E60: 2.5 | F60: 1 | G60: 5400 | J60: =(Table5[[#This Row],[RPM]]/5400-1) -> 0 | L60: 5 | Q60: 5 | R60: 1.7 | S60: 1.45 | U60: =(((Table5[[#This Row],[Watts Active]]*Power_On_Hours_Year/1000)*Active_Duty_Cycle)+((Table5[[#This Row],[Watts Idle]]*Power_On_Hours_Year/1000)*(100%-Active_Duty_Cycle)))*CostPerKWH -> 1.64358 | V60: =Table5[Energy$year]/Table5[[#This Row],[SizTB]] -> 1.64358 | W60: 68.32 | X60: =Table5[[#This Row],[Cost]]/Table5[[#This Row],[SizTB]]*Exchange_Rate -> 68.32 | Y60: =Table5[[#This Row],[Cost]]+((CompareWarrYrs-Table5[[#This Row],[S]])*(Incremental_Warr_Yr*Table5[[#This Row],[Cost]]))*Exchange_Rate -> 68.32 | Z60: =Table5[[#This Row],[$+Warr]]/Table5[[#This Row],[SizTB]] -> 68.32 | AA60: =Table5[[#This Row],[$PerTB]]/CompareWarrYrs -> 13.664 | AD60: 8GiB NAND
A61: 43088 | B61: Seagate | C61: FireCuda SSHD | D61: LT | E61: 2.5 | F61: 2 | G61: 5400 | J61: =(Table5[[#This Row],[RPM]]/5400-1) -> 0 | L61: 5 | Q61: 5 | R61: 1.8 | S61: 1.5 | U61: =(((Table5[[#This Row],[Watts Active]]*Power_On_Hours_Year/1000)*Active_Duty_Cycle)+((Table5[[#This Row],[Watts Idle]]*Power_On_Hours_Year/1000)*(100%-Active_Duty_Cycle)))*CostPerKWH -> 1.7093232 | V61: =Table5[Energy$year]/Table5[[#This Row],[SizTB]] -> 0.8546616 | W61: 84.99 | X61: =Table5[[#This Row],[Cost]]/Table5[[#This Row],[SizTB]]*Exchange_Rate -> 42.495 | Y61: =Table5[[#This Row],[Cost]]+((CompareWarrYrs-Table5[[#This Row],[S]])*(Incremental_Warr_Yr*Table5[[#This Row],[Cost]]))*Exchange_Rate -> 84.99 | Z61: =Table5[[#This Row],[$+Warr]]/Table5[[#This Row],[SizTB]] -> 42.495 | AA61: =Table5[[#This Row],[$PerTB]]/CompareWarrYrs -> 8.499 | AD61: 8GiB NAND
A62: 43080 | B62: Seagate | C62: IronWolf | D62: NAS | E62: 3.5 | F62: 1 | G62: 5900 | H62: 5.1 | I62: 11.99 | J62: =(Table5[[#This Row],[RPM]]/5400-1) -> 0.092592593 | K62: 180 | L62: 3 | M62: 600000 | N62: 180 | O62: 1000000 | P62: =10^14 -> 100000000000000 | Q62: =12*1.2 -> 14.4 | R62: 3.76 | S62: 2.5 | T62: 0.8 | U62: =(((Table5[[#This Row],[Watts Active]]*Power_On_Hours_Year/1000)*Active_Duty_Cycle)+((Table5[[#This Row],[Watts Idle]]*Power_On_Hours_Year/1000)*(100%-Active_Duty_Cycle)))*CostPerKWH -> 3.0154214 | V62: =Table5[Energy$year]/Table5[[#This Row],[SizTB]] -> 3.0154214 | W62: 54.99 | X62: =Table5[[#This Row],[Cost]]/Table5[[#This Row],[SizTB]]*Exchange_Rate -> 54.99 | Y62: =Table5[[#This Row],[Cost]]+((CompareWarrYrs-Table5[[#This Row],[S]])*(Incremental_Warr_Yr*Table5[[#This Row],[Cost]]))*Exchange_Rate -> 67.0878 | Z62: =Table5[[#This Row],[$+Warr]]/Table5[[#This Row],[SizTB]] -> 67.0878 | AA62: =Table5[[#This Row],[$PerTB]]/CompareWarrYrs -> 13.41756 | AD62: 8GiB NAND
A63: 43053 | B63: Seagate | C63: IronWolf | D63: NAS | E63: 3.5 | F63: 2 | G63: 5900 | H63: 5.1 | I63: 11.99 | J63: =(Table5[[#This Row],[RPM]]/5400-1) -> 0.092592593 | K63: 180 | L63: 3 | M63: 600000 | N63: 180 | O63: 1000000 | P63: =10^14 -> 100000000000000 | Q63: =12*2 -> 24 | R63: 4.3 | S63: 3.56 | T63: 0.8 | U63: =(((Table5[[#This Row],[Watts Active]]*Power_On_Hours_Year/1000)*Active_Duty_Cycle)+((Table5[[#This Row],[Watts Idle]]*Power_On_Hours_Year/1000)*(100%-Active_Duty_Cycle)))*CostPerKWH -> 4.0629298 | V63: =Table5[Energy$year]/Table5[[#This Row],[SizTB]] -> 2.0314649 | W63: 84.99 | X63: =Table5[[#This Row],[Cost]]/Table5[[#This Row],[SizTB]]*Exchange_Rate -> 42.495 | Y63: =Table5[[#This Row],[Cost]]+((CompareWarrYrs-Table5[[#This Row],[S]])*(Incremental_Warr_Yr*Table5[[#This Row],[Cost]]))*Exchange_Rate -> 103.6878 | Z63: =Table5[[#This Row],[$+Warr]]/Table5[[#This Row],[SizTB]] -> 51.8439 | AA63: =Table5[[#This Row],[$PerTB]]/CompareWarrYrs -> 10.36878
A64: 43053 | B64: Seagate | C64: IronWolf | D64: NAS | E64: 3.5 | F64: 3 | G64: 5900 | H64: 5.1 | I64: 11.99 | J64: =(Table5[[#This Row],[RPM]]/5400-1) -> 0.092592593 | K64: 180 | L64: 3 | M64: 600000 | N64: 180 | O64: 1000000 | P64: =10^14 -> 100000000000000 | Q64: =12*2 -> 24 | R64: 4.8 | S64: 4.8 | T64: 0.6 | U64: =(((Table5[[#This Row],[Watts Active]]*Power_On_Hours_Year/1000)*Active_Duty_Cycle)+((Table5[[#This Row],[Watts Idle]]*Power_On_Hours_Year/1000)*(100%-Active_Duty_Cycle)))*CostPerKWH -> 5.259456 | V64: =Table5[Energy$year]/Table5[[#This Row],[SizTB]] -> 1.753152 | W64: 104.99 | X64: =Table5[[#This Row],[Cost]]/Table5[[#This Row],[SizTB]]*Exchange_Rate -> 34.996667 | Y64: =Table5[[#This Row],[Cost]]+((CompareWarrYrs-Table5[[#This Row],[S]])*(Incremental_Warr_Yr*Table5[[#This Row],[Cost]]))*Exchange_Rate -> 128.0878 | Z64: =Table5[[#This Row],[$+Warr]]/Table5[[#This Row],[SizTB]] -> 42.695933 | AA64: =Table5[[#This Row],[$PerTB]]/CompareWarrYrs -> 8.5391867
A65: 43088 | B65: Seagate | C65: IronWolf | D65: NAS | E65: 3.5 | F65: 4 | G65: 5900 | H65: 5.1 | I65: 9.5 | J65: =(Table5[[#This Row],[RPM]]/5400-1) -> 0.092592593 | K65: 180 | L65: 3 | M65: 600000 | N65: 180 | O65: 1000000 | P65: =10^14 -> 100000000000000 | Q65: =12*1.8 -> 21.6 | R65: 4.8 | S65: 3.95 | T65: 0.5 | U65: =(((Table5[[#This Row],[Watts Active]]*Power_On_Hours_Year/1000)*Active_Duty_Cycle)+((Table5[[#This Row],[Watts Idle]]*Power_On_Hours_Year/1000)*(100%-Active_Duty_Cycle)))*CostPerKWH -> 4.5143664 | V65: =Table5[Energy$year]/Table5[[#This Row],[SizTB]] -> 1.1285916 | W65: 114.99 | X65: =Table5[[#This Row],[Cost]]/Table5[[#This Row],[SizTB]]*Exchange_Rate -> 28.7475 | Y65: =Table5[[#This Row],[Cost]]+((CompareWarrYrs-Table5[[#This Row],[S]])*(Incremental_Warr_Yr*Table5[[#This Row],[Cost]]))*Exchange_Rate -> 140.2878 | Z65: =Table5[[#This Row],[$+Warr]]/Table5[[#This Row],[SizTB]] -> 35.07195 | AA65: =Table5[[#This Row],[$PerTB]]/CompareWarrYrs -> 7.01439
A66: 43080 | B66: Seagate | C66: IronWolf | D66: NAS | E66: 3.5 | F66: 6 | G66: 7200 | H66: 4 | I66: 9.5 | J66: =(Table5[[#This Row],[RPM]]/5400-1) -> 0.33333333 | K66: 210 | L66: 3 | M66: 600000 | N66: 180 | O66: 1000000 | P66: 1e+15 | Q66: =12*1.8 -> 21.6 | R66: 8.1 | S66: 7.2 | T66: 0.6 | U66: =(((Table5[[#This Row],[Watts Active]]*Power_On_Hours_Year/1000)*Active_Duty_Cycle)+((Table5[[#This Row],[Watts Idle]]*Power_On_Hours_Year/1000)*(100%-Active_Duty_Cycle)))*CostPerKWH -> 8.0864136 | V66: =Table5[Energy$year]/Table5[[#This Row],[SizTB]] -> 1.3477356 | W66: 189.99 | X66: =Table5[[#This Row],[Cost]]/Table5[[#This Row],[SizTB]]*Exchange_Rate -> 31.665 | Y66: =Table5[[#This Row],[Cost]]+((CompareWarrYrs-Table5[[#This Row],[S]])*(Incremental_Warr_Yr*Table5[[#This Row],[Cost]]))*Exchange_Rate -> 231.7878 | Z66: =Table5[[#This Row],[$+Warr]]/Table5[[#This Row],[SizTB]] -> 38.6313 | AA66: =Table5[[#This Row],[$PerTB]]/CompareWarrYrs -> 7.72626
A67: 43083 | B67: Seagate | C67: IronWolf | D67: NAS | E67: 3.5 | F67: 8 | G67: 7200 | H67: 4 | I67: 9.5 | J67: =(Table5[[#This Row],[RPM]]/5400-1) -> 0.33333333 | K67: 210 | L67: 3 | M67: 600000 | N67: 180 | O67: 1000000 | P67: 1e+15 | Q67: =12*1.8 -> 21.6 | R67: 8.8 | S67: 7.6 | T67: 0.6 | U67: =(((Table5[[#This Row],[Watts Active]]*Power_On_Hours_Year/1000)*Active_Duty_Cycle)+((Table5[[#This Row],[Watts Idle]]*Power_On_Hours_Year/1000)*(100%-Active_Duty_Cycle)))*CostPerKWH -> 8.5904448 | V67: =Table5[Energy$year]/Table5[[#This Row],[SizTB]] -> 1.0738056 | W67: 229.99 | X67: =Table5[[#This Row],[Cost]]/Table5[[#This Row],[SizTB]]*Exchange_Rate -> 28.74875 | Y67: =Table5[[#This Row],[Cost]]+((CompareWarrYrs-Table5[[#This Row],[S]])*(Incremental_Warr_Yr*Table5[[#This Row],[Cost]]))*Exchange_Rate -> 280.5878 | Z67: =Table5[[#This Row],[$+Warr]]/Table5[[#This Row],[SizTB]] -> 35.073475 | AA67: =Table5[[#This Row],[$PerTB]]/CompareWarrYrs -> 7.014695
A68: 43064 | B68: Seagate | C68: IronWolf | D68: NAS | E68: 3.5 | F68: 10 | G68: 7200 | J68: =(Table5[[#This Row],[RPM]]/5400-1) -> 0.33333333 | K68: 210 | L68: 3 | M68: 600000 | N68: 180 | O68: 1000000 | P68: 1e+15 | Q68: =12*1.8 -> 21.6 | R68: 7.8 | S68: 5 | T68: 0.8 | U68: =(((Table5[[#This Row],[Watts Active]]*Power_On_Hours_Year/1000)*Active_Duty_Cycle)+((Table5[[#This Row],[Watts Idle]]*Power_On_Hours_Year/1000)*(100%-Active_Duty_Cycle)))*CostPerKWH -> 6.0922032 | V68: =Table5[Energy$year]/Table5[[#This Row],[SizTB]] -> 0.60922032 | W68: 299.99 | X68: =Table5[[#This Row],[Cost]]/Table5[[#This Row],[SizTB]]*Exchange_Rate -> 29.999 | Y68: =Table5[[#This Row],[Cost]]+((CompareWarrYrs-Table5[[#This Row],[S]])*(Incremental_Warr_Yr*Table5[[#This Row],[Cost]]))*Exchange_Rate -> 365.9878 | Z68: =Table5[[#This Row],[$+Warr]]/Table5[[#This Row],[SizTB]] -> 36.59878 | AA68: =Table5[[#This Row],[$PerTB]]/CompareWarrYrs -> 7.319756
A69: 43064 | B69: Seagate | C69: IronWolf | D69: NAS | E69: 3.5 | F69: 12 | G69: 7200 | H69: 4.16 | J69: =(Table5[[#This Row],[RPM]]/5400-1) -> 0.33333333 | K69: 210 | L69: 3 | M69: 600000 | N69: 180 | O69: 1000000 | P69: 1e+15 | Q69: =1.8*12 -> 21.6 | R69: 7.8 | S69: 5 | T69: 0.8 | U69: =(((Table5[[#This Row],[Watts Active]]*Power_On_Hours_Year/1000)*Active_Duty_Cycle)+((Table5[[#This Row],[Watts Idle]]*Power_On_Hours_Year/1000)*(100%-Active_Duty_Cycle)))*CostPerKWH -> 6.0922032 | V69: =Table5[Energy$year]/Table5[[#This Row],[SizTB]] -> 0.5076836 | W69: 396.99 | X69: =Table5[[#This Row],[Cost]]/Table5[[#This Row],[SizTB]]*Exchange_Rate -> 33.0825 | Y69: =Table5[[#This Row],[Cost]]+((CompareWarrYrs-Table5[[#This Row],[S]])*(Incremental_Warr_Yr*Table5[[#This Row],[Cost]]))*Exchange_Rate -> 484.3278 | Z69: =Table5[[#This Row],[$+Warr]]/Table5[[#This Row],[SizTB]] -> 40.36065 | AA69: =Table5[[#This Row],[$PerTB]]/CompareWarrYrs -> 8.07213
A70: 43053 | B70: Seagate | C70: IronWolf Pro | D70: NAS | E70: 3.5 | F70: 2 | G70: 7200 | H70: 4.16 | J70: =(Table5[[#This Row],[RPM]]/5400-1) -> 0.33333333 | K70: 195 | L70: 5 | N70: 300 | O70: 1200000 | P70: 1e+15 | Q70: =12*2 -> 24 | R70: 6.5 | S70: 4.61 | T70: 0.8 | U70: =(((Table5[[#This Row],[Watts Active]]*Power_On_Hours_Year/1000)*Active_Duty_Cycle)+((Table5[[#This Row],[Watts Idle]]*Power_On_Hours_Year/1000)*(100%-Active_Duty_Cycle)))*CostPerKWH -> 5.4654514 | V70: =Table5[Energy$year]/Table5[[#This Row],[SizTB]] -> 2.7327257 | W70: 124.99 | X70: =Table5[[#This Row],[Cost]]/Table5[[#This Row],[SizTB]]*Exchange_Rate -> 62.495 | Y70: =Table5[[#This Row],[Cost]]+((CompareWarrYrs-Table5[[#This Row],[S]])*(Incremental_Warr_Yr*Table5[[#This Row],[Cost]]))*Exchange_Rate -> 124.99 | Z70: =Table5[[#This Row],[$+Warr]]/Table5[[#This Row],[SizTB]] -> 62.495 | AA70: =Table5[[#This Row],[$PerTB]]/CompareWarrYrs -> 12.499
A71: 43053 | B71: Seagate | C71: IronWolf Pro | D71: NAS | E71: 3.5 | F71: 4 | G71: 7200 | H71: 4.16 | J71: =(Table5[[#This Row],[RPM]]/5400-1) -> 0.33333333 | K71: 214 | L71: 5 | N71: 300 | O71: 1200000 | P71: 1e+15 | Q71: =12*2 -> 24 | R71: 8.5 | S71: 5.45 | T71: 0.6 | U71: =(((Table5[[#This Row],[Watts Active]]*Power_On_Hours_Year/1000)*Active_Duty_Cycle)+((Table5[[#This Row],[Watts Idle]]*Power_On_Hours_Year/1000)*(100%-Active_Duty_Cycle)))*CostPerKWH -> 6.6400632 | V71: =Table5[Energy$year]/Table5[[#This Row],[SizTB]] -> 1.6600158 | W71: 189.99 | X71: =Table5[[#This Row],[Cost]]/Table5[[#This Row],[SizTB]]*Exchange_Rate -> 47.4975 | Y71: =Table5[[#This Row],[Cost]]+((CompareWarrYrs-Table5[[#This Row],[S]])*(Incremental_Warr_Yr*Table5[[#This Row],[Cost]]))*Exchange_Rate -> 189.99 | Z71: =Table5[[#This Row],[$+Warr]]/Table5[[#This Row],[SizTB]] -> 47.4975 | AA71: =Table5[[#This Row],[$PerTB]]/CompareWarrYrs -> 9.4995
A72: 43053 | B72: Seagate | C72: IronWolf Pro | D72: NAS | E72: 3.5 | F72: 6 | G72: 7200 | H72: 4.16 | J72: =(Table5[[#This Row],[RPM]]/5400-1) -> 0.33333333 | K72: 214 | L72: 5 | N72: 300 | O72: 1200000 | P72: 1e+15 | Q72: =12*2 -> 24 | R72: 8.1 | S72: 7.5 | T72: 0.6 | U72: =(((Table5[[#This Row],[Watts Active]]*Power_On_Hours_Year/1000)*Active_Duty_Cycle)+((Table5[[#This Row],[Watts Idle]]*Power_On_Hours_Year/1000)*(100%-Active_Duty_Cycle)))*CostPerKWH -> 8.3493864 | V72: =Table5[Energy$year]/Table5[[#This Row],[SizTB]] -> 1.3915644 | W72: 259.99 | X72: =Table5[[#This Row],[Cost]]/Table5[[#This Row],[SizTB]]*Exchange_Rate -> 43.331667 | Y72: =Table5[[#This Row],[Cost]]+((CompareWarrYrs-Table5[[#This Row],[S]])*(Incremental_Warr_Yr*Table5[[#This Row],[Cost]]))*Exchange_Rate -> 259.99 | Z72: =Table5[[#This Row],[$+Warr]]/Table5[[#This Row],[SizTB]] -> 43.331667 | AA72: =Table5[[#This Row],[$PerTB]]/CompareWarrYrs -> 8.6663333
A73: 43080 | B73: Seagate | C73: IronWolf Pro | D73: NAS | E73: 3.5 | F73: 8 | G73: 7200 | H73: 4.16 | J73: =(Table5[[#This Row],[RPM]]/5400-1) -> 0.33333333 | K73: 214 | L73: 5 | N73: 300 | O73: 1200000 | P73: 1e+15 | Q73: =12*2 -> 24 | R73: 7.4 | S73: 4.4 | T73: 0.8 | U73: =(((Table5[[#This Row],[Watts Active]]*Power_On_Hours_Year/1000)*Active_Duty_Cycle)+((Table5[[#This Row],[Watts Idle]]*Power_On_Hours_Year/1000)*(100%-Active_Duty_Cycle)))*CostPerKWH -> 5.4786 | V73: =Table5[Energy$year]/Table5[[#This Row],[SizTB]] -> 0.684825 | W73: 239 | X73: =Table5[[#This Row],[Cost]]/Table5[[#This Row],[SizTB]]*Exchange_Rate -> 29.875 | Y73: =Table5[[#This Row],[Cost]]+((CompareWarrYrs-Table5[[#This Row],[S]])*(Incremental_Warr_Yr*Table5[[#This Row],[Cost]]))*Exchange_Rate -> 239 | Z73: =Table5[[#This Row],[$+Warr]]/Table5[[#This Row],[SizTB]] -> 29.875 | AA73: =Table5[[#This Row],[$PerTB]]/CompareWarrYrs -> 5.975
A74: 43065 | B74: Seagate | C74: IronWolf Pro | D74: NAS | E74: 3.5 | F74: 10 | G74: 7200 | H74: 4.16 | J74: =(Table5[[#This Row],[RPM]]/5400-1) -> 0.33333333 | K74: 214 | L74: 5 | N74: 300 | O74: 1200000 | P74: 1e+15 | Q74: 24 | R74: 7.4 | S74: 5 | T74: 0.8 | U74: =(((Table5[[#This Row],[Watts Active]]*Power_On_Hours_Year/1000)*Active_Duty_Cycle)+((Table5[[#This Row],[Watts Idle]]*Power_On_Hours_Year/1000)*(100%-Active_Duty_Cycle)))*CostPerKWH -> 6.0045456 | V74: =Table5[Energy$year]/Table5[[#This Row],[SizTB]] -> 0.60045456 | W74: 369.99 | X74: =Table5[[#This Row],[Cost]]/Table5[[#This Row],[SizTB]]*Exchange_Rate -> 36.999 | Y74: =Table5[[#This Row],[Cost]]+((CompareWarrYrs-Table5[[#This Row],[S]])*(Incremental_Warr_Yr*Table5[[#This Row],[Cost]]))*Exchange_Rate -> 369.99 | Z74: =Table5[[#This Row],[$+Warr]]/Table5[[#This Row],[SizTB]] -> 36.999 | AA74: =Table5[[#This Row],[$PerTB]]/CompareWarrYrs -> 7.3998
A75: 43053 | B75: Seagate | C75: IronWolf Pro | D75: NAS | E75: 3.5 | F75: 12 | G75: 7200 | H75: 4.16 | J75: =(Table5[[#This Row],[RPM]]/5400-1) -> 0.33333333 | L75: 5 | N75: 300 | O75: 1200000 | P75: 1e+15 | Q75: 24 | R75: 7.8 | S75: 5 | T75: 0.8 | U75: =(((Table5[[#This Row],[Watts Active]]*Power_On_Hours_Year/1000)*Active_Duty_Cycle)+((Table5[[#This Row],[Watts Idle]]*Power_On_Hours_Year/1000)*(100%-Active_Duty_Cycle)))*CostPerKWH -> 6.0922032 | V75: =Table5[Energy$year]/Table5[[#This Row],[SizTB]] -> 0.5076836 | W75: 509.99 | X75: =Table5[[#This Row],[Cost]]/Table5[[#This Row],[SizTB]]*Exchange_Rate -> 42.499167 | Y75: =Table5[[#This Row],[Cost]]+((CompareWarrYrs-Table5[[#This Row],[S]])*(Incremental_Warr_Yr*Table5[[#This Row],[Cost]]))*Exchange_Rate -> 509.99 | Z75: =Table5[[#This Row],[$+Warr]]/Table5[[#This Row],[SizTB]] -> 42.499167 | AA75: =Table5[[#This Row],[$PerTB]]/CompareWarrYrs -> 8.4998333
A76: 43046 | B76: Seagate | C76: Terascale | D76: NAS | E76: 3.5 | F76: 4 | G76: 5900 | H76: 5.1 | I76: 16 | J76: =(Table5[[#This Row],[RPM]]/5400-1) -> 0.092592593 | K76: 140 | L76: 3 | M76: 300000 | N76: 180 | O76: 800000 | P76: =10^14 -> 100000000000000 | Q76: 24 | R76: 6.49 | S76: 4.59 | T76: 0.77 | U76: =(((Table5[[#This Row],[Watts Active]]*Power_On_Hours_Year/1000)*Active_Duty_Cycle)+((Table5[[#This Row],[Watts Idle]]*Power_On_Hours_Year/1000)*(100%-Active_Duty_Cycle)))*CostPerKWH -> 5.4457284 | V76: =Table5[Energy$year]/Table5[[#This Row],[SizTB]] -> 1.3614321 | W76: 189.99 | X76: =Table5[[#This Row],[Cost]]/Table5[[#This Row],[SizTB]]*Exchange_Rate -> 47.4975 | Y76: =Table5[[#This Row],[Cost]]+((CompareWarrYrs-Table5[[#This Row],[S]])*(Incremental_Warr_Yr*Table5[[#This Row],[Cost]]))*Exchange_Rate -> 231.7878 | Z76: =Table5[[#This Row],[$+Warr]]/Table5[[#This Row],[SizTB]] -> 57.94695 | AA76: =Table5[[#This Row],[$PerTB]]/CompareWarrYrs -> 11.58939
A77: 43080 | B77: Toshiba | C77: DT01ACA | D77: DT | E77: 3.5 | F77: 1 | G77: 7200 | H77: 4.17 | J77: =(Table5[[#This Row],[RPM]]/5400-1) -> 0.33333333 | K77: 182.2 | L77: 2 | P77: =10^14 -> 100000000000000 | R77: 6.4 | S77: 3.7 | U77: =(((Table5[[#This Row],[Watts Active]]*Power_On_Hours_Year/1000)*Active_Duty_Cycle)+((Table5[[#This Row],[Watts Idle]]*Power_On_Hours_Year/1000)*(100%-Active_Duty_Cycle)))*CostPerKWH -> 4.6458528 | V77: =Table5[Energy$year]/Table5[[#This Row],[SizTB]] -> 4.6458528 | W77: 42.99 | X77: =Table5[[#This Row],[Cost]]/Table5[[#This Row],[SizTB]]*Exchange_Rate -> 42.99 | Y77: =Table5[[#This Row],[Cost]]+((CompareWarrYrs-Table5[[#This Row],[S]])*(Incremental_Warr_Yr*Table5[[#This Row],[Cost]]))*Exchange_Rate -> 57.1767 | Z77: =Table5[[#This Row],[$+Warr]]/Table5[[#This Row],[SizTB]] -> 57.1767 | AA77: =Table5[[#This Row],[$PerTB]]/CompareWarrYrs -> 11.43534
A78: 43103 | B78: Toshiba | C78: DT01ACA | D78: DT | E78: 3.5 | F78: 2 | G78: 7200 | H78: 4.17 | J78: =(Table5[[#This Row],[RPM]]/5400-1) -> 0.33333333 | K78: 181.5 | L78: 2 | P78: =10^14 -> 100000000000000 | R78: 6.4 | S78: 5.2 | U78: =(((Table5[[#This Row],[Watts Active]]*Power_On_Hours_Year/1000)*Active_Duty_Cycle)+((Table5[[#This Row],[Watts Idle]]*Power_On_Hours_Year/1000)*(100%-Active_Duty_Cycle)))*CostPerKWH -> 5.9607168 | V78: =Table5[Energy$year]/Table5[[#This Row],[SizTB]] -> 2.9803584 | W78: 54.99 | X78: =Table5[[#This Row],[Cost]]/Table5[[#This Row],[SizTB]]*Exchange_Rate -> 27.495 | Y78: =Table5[[#This Row],[Cost]]+((CompareWarrYrs-Table5[[#This Row],[S]])*(Incremental_Warr_Yr*Table5[[#This Row],[Cost]]))*Exchange_Rate -> 73.1367 | Z78: =Table5[[#This Row],[$+Warr]]/Table5[[#This Row],[SizTB]] -> 36.56835 | AA78: =Table5[[#This Row],[$PerTB]]/CompareWarrYrs -> 7.31367
A79: 43080 | B79: Toshiba | C79: DT01ACA | D79: DT | E79: 3.5 | F79: 3 | G79: 7200 | H79: 4.17 | J79: =(Table5[[#This Row],[RPM]]/5400-1) -> 0.33333333 | K79: 181.5 | L79: 2 | P79: =10^14 -> 100000000000000 | R79: 6.4 | S79: 5.2 | U79: =(((Table5[[#This Row],[Watts Active]]*Power_On_Hours_Year/1000)*Active_Duty_Cycle)+((Table5[[#This Row],[Watts Idle]]*Power_On_Hours_Year/1000)*(100%-Active_Duty_Cycle)))*CostPerKWH -> 5.9607168 | V79: =Table5[Energy$year]/Table5[[#This Row],[SizTB]] -> 1.9869056 | W79: 77.99 | X79: =Table5[[#This Row],[Cost]]/Table5[[#This Row],[SizTB]]*Exchange_Rate -> 25.996667 | Y79: =Table5[[#This Row],[Cost]]+((CompareWarrYrs-Table5[[#This Row],[S]])*(Incremental_Warr_Yr*Table5[[#This Row],[Cost]]))*Exchange_Rate -> 103.7267 | Z79: =Table5[[#This Row],[$+Warr]]/Table5[[#This Row],[SizTB]] -> 34.575567 | AA79: =Table5[[#This Row],[$PerTB]]/CompareWarrYrs -> 6.9151133
A80: 43044 | B80: Toshiba | C80: Enterprise Capacity | D80: NAS | E80: 3.5 | F80: 6 | G80: 7200 | I80: 8.5 | J80: =(Table5[[#This Row],[RPM]]/5400-1) -> 0.33333333 | K80: 230 | L80: 5 | M80: 600000 | N80: 550 | O80: 2500000 | P80: =10^16 -> 1e+16 | R80: 8.3 | S80: 5.6 | U80: =(((Table5[[#This Row],[Watts Active]]*Power_On_Hours_Year/1000)*Active_Duty_Cycle)+((Table5[[#This Row],[Watts Idle]]*Power_On_Hours_Year/1000)*(100%-Active_Duty_Cycle)))*CostPerKWH -> 6.7277208 | V80: =Table5[Energy$year]/Table5[[#This Row],[SizTB]] -> 1.1212868 | W80: 272.17 | X80: =Table5[[#This Row],[Cost]]/Table5[[#This Row],[SizTB]]*Exchange_Rate -> 45.361667 | Y80: =Table5[[#This Row],[Cost]]+((CompareWarrYrs-Table5[[#This Row],[S]])*(Incremental_Warr_Yr*Table5[[#This Row],[Cost]]))*Exchange_Rate -> 272.17 | Z80: =Table5[[#This Row],[$+Warr]]/Table5[[#This Row],[SizTB]] -> 45.361667 | AA80: =Table5[[#This Row],[$PerTB]]/CompareWarrYrs -> 9.0723333 | AD80: Persistant Write Cache
A81: 43080 | B81: Toshiba | C81: Enterprise Capacity | D81: NAS | E81: 3.5 | F81: 8 | G81: 7200 | I81: 8.5 | J81: =(Table5[[#This Row],[RPM]]/5400-1) -> 0.33333333 | K81: 230 | L81: 5 | M81: 600000 | N81: 550 | O81: 2500000 | P81: =10^16 -> 1e+16 | R81: 9.1 | S81: 6.4 | U81: =(((Table5[[#This Row],[Watts Active]]*Power_On_Hours_Year/1000)*Active_Duty_Cycle)+((Table5[[#This Row],[Watts Idle]]*Power_On_Hours_Year/1000)*(100%-Active_Duty_Cycle)))*CostPerKWH -> 7.6042968 | V81: =Table5[Energy$year]/Table5[[#This Row],[SizTB]] -> 0.9505371 | W81: 259.99 | X81: =Table5[[#This Row],[Cost]]/Table5[[#This Row],[SizTB]]*Exchange_Rate -> 32.49875 | Y81: =Table5[[#This Row],[Cost]]+((CompareWarrYrs-Table5[[#This Row],[S]])*(Incremental_Warr_Yr*Table5[[#This Row],[Cost]]))*Exchange_Rate -> 259.99 | Z81: =Table5[[#This Row],[$+Warr]]/Table5[[#This Row],[SizTB]] -> 32.49875 | AA81: =Table5[[#This Row],[$PerTB]]/CompareWarrYrs -> 6.49975 | AD81: Persistant Write Cache
A82: 43044 | B82: Toshiba | C82: Enterprise Capacity | D82: NAS | E82: 3.5 | F82: 10 | G82: 7200 | I82: 8.5 | J82: =(Table5[[#This Row],[RPM]]/5400-1) -> 0.33333333 | K82: 237 | L82: 5 | M82: 600000 | N82: 550 | O82: 2500000 | P82: =10^16 -> 1e+16 | R82: 10 | S82: 7.3 | U82: =(((Table5[[#This Row],[Watts Active]]*Power_On_Hours_Year/1000)*Active_Duty_Cycle)+((Table5[[#This Row],[Watts Idle]]*Power_On_Hours_Year/1000)*(100%-Active_Duty_Cycle)))*CostPerKWH -> 8.5904448 | V82: =Table5[Energy$year]/Table5[[#This Row],[SizTB]] -> 0.85904448 | X82: =Table5[[#This Row],[Cost]]/Table5[[#This Row],[SizTB]]*Exchange_Rate -> 0 | Y82: =Table5[[#This Row],[Cost]]+((CompareWarrYrs-Table5[[#This Row],[S]])*(Incremental_Warr_Yr*Table5[[#This Row],[Cost]]))*Exchange_Rate -> 0 | Z82: =Table5[[#This Row],[$+Warr]]/Table5[[#This Row],[SizTB]] -> 0 | AA82: =Table5[[#This Row],[$PerTB]]/CompareWarrYrs -> 0 | AD82: Persistant Write Cache
A83: 43080 | B83: Toshiba | C83: Enterprise Capacity | D83: NAS | E83: 3.5 | F83: 12 | G83: 7200 | J83: =(Table5[[#This Row],[RPM]]/5400-1) -> 0.33333333 | L83: 5 | N83: 550 | O83: 2500000 | U83: =(((Table5[[#This Row],[Watts Active]]*Power_On_Hours_Year/1000)*Active_Duty_Cycle)+((Table5[[#This Row],[Watts Idle]]*Power_On_Hours_Year/1000)*(100%-Active_Duty_Cycle)))*CostPerKWH -> 0 | V83: =Table5[Energy$year]/Table5[[#This Row],[SizTB]] -> 0 | X83: =Table5[[#This Row],[Cost]]/Table5[[#This Row],[SizTB]]*Exchange_Rate -> 0 | Y83: =Table5[[#This Row],[Cost]]+((CompareWarrYrs-Table5[[#This Row],[S]])*(Incremental_Warr_Yr*Table5[[#This Row],[Cost]]))*Exchange_Rate -> 0 | Z83: =Table5[[#This Row],[$+Warr]]/Table5[[#This Row],[SizTB]] -> 0 | AA83: =Table5[[#This Row],[$PerTB]]/CompareWarrYrs -> 0 | AD83: Helium Filled
A84: 43080 | B84: Toshiba | C84: Enterprise Capacity | D84: NAS | E84: 3.5 | F84: 14 | G84: 7200 | J84: =(Table5[[#This Row],[RPM]]/5400-1) -> 0.33333333 | L84: 5 | N84: 550 | O84: 2500000 | U84: =(((Table5[[#This Row],[Watts Active]]*Power_On_Hours_Year/1000)*Active_Duty_Cycle)+((Table5[[#This Row],[Watts Idle]]*Power_On_Hours_Year/1000)*(100%-Active_Duty_Cycle)))*CostPerKWH -> 0 | V84: =Table5[Energy$year]/Table5[[#This Row],[SizTB]] -> 0 | X84: =Table5[[#This Row],[Cost]]/Table5[[#This Row],[SizTB]]*Exchange_Rate -> 0 | Y84: =Table5[[#This Row],[Cost]]+((CompareWarrYrs-Table5[[#This Row],[S]])*(Incremental_Warr_Yr*Table5[[#This Row],[Cost]]))*Exchange_Rate -> 0 | Z84: =Table5[[#This Row],[$+Warr]]/Table5[[#This Row],[SizTB]] -> 0 | AA84: =Table5[[#This Row],[$PerTB]]/CompareWarrYrs -> 0 | AD84: Helium Filled
A85: 43080 | B85: Toshiba | C85: Enterprise Performance | D85: NAS | E85: 2.5 | F85: 1.2 | G85: 10500 | H85: 2.86 | I85: 4 | J85: =(Table5[[#This Row],[RPM]]/5400-1) -> 0.94444444 | K85: 226 | L85: 5 | M85: 600000 | O85: 2000000 | P85: =10^17 -> 1e+17 | R85: 7 | S85: 3.5 | U85: =(((Table5[[#This Row],[Watts Active]]*Power_On_Hours_Year/1000)*Active_Duty_Cycle)+((Table5[[#This Row],[Watts Idle]]*Power_On_Hours_Year/1000)*(100%-Active_Duty_Cycle)))*CostPerKWH -> 4.602024 | V85: =Table5[Energy$year]/Table5[[#This Row],[SizTB]] -> 3.83502 | W85: 225 | X85: =Table5[[#This Row],[Cost]]/Table5[[#This Row],[SizTB]]*Exchange_Rate -> 187.5 | Y85: =Table5[[#This Row],[Cost]]+((CompareWarrYrs-Table5[[#This Row],[S]])*(Incremental_Warr_Yr*Table5[[#This Row],[Cost]]))*Exchange_Rate -> 225 | Z85: =Table5[[#This Row],[$+Warr]]/Table5[[#This Row],[SizTB]] -> 187.5 | AA85: =Table5[[#This Row],[$PerTB]]/CompareWarrYrs -> 37.5 | AD85: Persistant Write Cache
A86: 43080 | B86: Toshiba | C86: Enterprise Performance | D86: NAS | E86: 2.5 | F86: 1.8 | G86: 10500 | H86: 2.86 | I86: 4 | J86: =(Table5[[#This Row],[RPM]]/5400-1) -> 0.94444444 | K86: 226 | L86: 5 | M86: 600000 | O86: 2000000 | P86: =10^17 -> 1e+17 | R86: 8.1 | S86: 4.6 | U86: =(((Table5[[#This Row],[Watts Active]]*Power_On_Hours_Year/1000)*Active_Duty_Cycle)+((Table5[[#This Row],[Watts Idle]]*Power_On_Hours_Year/1000)*(100%-Active_Duty_Cycle)))*CostPerKWH -> 5.807316 | V86: =Table5[Energy$year]/Table5[[#This Row],[SizTB]] -> 3.2262867 | W86: 399.99 | X86: =Table5[[#This Row],[Cost]]/Table5[[#This Row],[SizTB]]*Exchange_Rate -> 222.21667 | Y86: =Table5[[#This Row],[Cost]]+((CompareWarrYrs-Table5[[#This Row],[S]])*(Incremental_Warr_Yr*Table5[[#This Row],[Cost]]))*Exchange_Rate -> 399.99 | Z86: =Table5[[#This Row],[$+Warr]]/Table5[[#This Row],[SizTB]] -> 222.21667 | AA86: =Table5[[#This Row],[$PerTB]]/CompareWarrYrs -> 44.443333 | AD86: Persistant Write Cache
A87: 43088 | B87: Toshiba | C87: Enterprise Performance | D87: NAS | E87: 2.5 | F87: 2.4 | G87: 10500 | H87: 2.86 | I87: 4 | J87: =(Table5[[#This Row],[RPM]]/5400-1) -> 0.94444444 | K87: 260 | L87: 5 | M87: 600000 | O87: 2000000 | P87: =10^17 -> 1e+17 | R87: 8.7 | S87: 5.1 | U87: =(((Table5[[#This Row],[Watts Active]]*Power_On_Hours_Year/1000)*Active_Duty_Cycle)+((Table5[[#This Row],[Watts Idle]]*Power_On_Hours_Year/1000)*(100%-Active_Duty_Cycle)))*CostPerKWH -> 6.3770904 | V87: =Table5[Energy$year]/Table5[[#This Row],[SizTB]] -> 2.657121 | X87: =Table5[[#This Row],[Cost]]/Table5[[#This Row],[SizTB]]*Exchange_Rate -> 0 | Y87: =Table5[[#This Row],[Cost]]+((CompareWarrYrs-Table5[[#This Row],[S]])*(Incremental_Warr_Yr*Table5[[#This Row],[Cost]])) -> 0 | Z87: =Table5[[#This Row],[$+Warr]]/Table5[[#This Row],[SizTB]] -> 0 | AA87: =Table5[[#This Row],[$PerTB]]/CompareWarrYrs -> 0
A88: 43080 | B88: Toshiba | C88: Enterprise Performance | D88: NAS | E88: 2.5 | F88: 0.6 | G88: 15000 | H88: 2 | I88: 2.9 | J88: =(Table5[[#This Row],[RPM]]/5400-1) -> 1.7777778 | K88: 259 | L88: 5 | M88: 600000 | O88: 2000000 | P88: =10^17 -> 1e+17 | R88: 9 | S88: 5.6 | U88: =(((Table5[[#This Row],[Watts Active]]*Power_On_Hours_Year/1000)*Active_Duty_Cycle)+((Table5[[#This Row],[Watts Idle]]*Power_On_Hours_Year/1000)*(100%-Active_Duty_Cycle)))*CostPerKWH -> 6.8811216 | V88: =Table5[Energy$year]/Table5[[#This Row],[SizTB]] -> 11.468536 | X88: =Table5[[#This Row],[Cost]]/Table5[[#This Row],[SizTB]]*Exchange_Rate -> 0 | Y88: =Table5[[#This Row],[Cost]]+((CompareWarrYrs-Table5[[#This Row],[S]])*(Incremental_Warr_Yr*Table5[[#This Row],[Cost]]))*Exchange_Rate -> 0 | Z88: =Table5[[#This Row],[$+Warr]]/Table5[[#This Row],[SizTB]] -> 0 | AA88: =Table5[[#This Row],[$PerTB]]/CompareWarrYrs -> 0 | AD88: Persistant Write Cache
A89: 43044 | B89: Toshiba | C89: Enterprise Performance | D89: NAS | E89: 2.5 | F89: 0.9 | G89: 15000 | H89: 2 | I89: 2.9 | J89: =(Table5[[#This Row],[RPM]]/5400-1) -> 1.7777778 | K89: 259 | L89: 5 | M89: 600000 | O89: 2000000 | P89: =10^17 -> 1e+17 | R89: 9 | S89: 5.6 | U89: =(((Table5[[#This Row],[Watts Active]]*Power_On_Hours_Year/1000)*Active_Duty_Cycle)+((Table5[[#This Row],[Watts Idle]]*Power_On_Hours_Year/1000)*(100%-Active_Duty_Cycle)))*CostPerKWH -> 6.8811216 | V89: =Table5[Energy$year]/Table5[[#This Row],[SizTB]] -> 7.6456907 | W89: 194.39 | X89: =Table5[[#This Row],[Cost]]/Table5[[#This Row],[SizTB]]*Exchange_Rate -> 215.98889 | Y89: =Table5[[#This Row],[Cost]]+((CompareWarrYrs-Table5[[#This Row],[S]])*(Incremental_Warr_Yr*Table5[[#This Row],[Cost]]))*Exchange_Rate -> 194.39 | Z89: =Table5[[#This Row],[$+Warr]]/Table5[[#This Row],[SizTB]] -> 215.98889 | AA89: =Table5[[#This Row],[$PerTB]]/CompareWarrYrs -> 43.197778 | AD89: Persistant Write Cache
A90: 43046 | B90: Toshiba | C90: N300 | D90: NAS | E90: 3.5 | F90: 4 | G90: 7200 | H90: 4.17 | J90: =(Table5[[#This Row],[RPM]]/5400-1) -> 0.33333333 | K90: 200 | L90: 3 | N90: 180 | O90: 1000000 | P90: =10^14 -> 100000000000000 | R90: 9.6 | S90: 5.2 | U90: =(((Table5[[#This Row],[Watts Active]]*Power_On_Hours_Year/1000)*Active_Duty_Cycle)+((Table5[[#This Row],[Watts Idle]]*Power_On_Hours_Year/1000)*(100%-Active_Duty_Cycle)))*CostPerKWH -> 6.6619776 | V90: =Table5[Energy$year]/Table5[[#This Row],[SizTB]] -> 1.6654944 | W90: 139.99 | X90: =Table5[[#This Row],[Cost]]/Table5[[#This Row],[SizTB]]*Exchange_Rate -> 34.9975 | Y90: =Table5[[#This Row],[Cost]]+((CompareWarrYrs-Table5[[#This Row],[S]])*(Incremental_Warr_Yr*Table5[[#This Row],[Cost]]))*Exchange_Rate -> 170.7878 | Z90: =Table5[[#This Row],[$+Warr]]/Table5[[#This Row],[SizTB]] -> 42.69695 | AA90: =Table5[[#This Row],[$PerTB]]/CompareWarrYrs -> 8.53939
A91: 43080 | B91: Toshiba | C91: N300 | D91: NAS | E91: 3.5 | F91: 6 | G91: 7200 | H91: 4.17 | J91: =(Table5[[#This Row],[RPM]]/5400-1) -> 0.33333333 | K91: 210 | L91: 3 | N91: 180 | O91: 1000000 | P91: =10^14 -> 100000000000000 | R91: 10.1 | S91: 6.7 | U91: =(((Table5[[#This Row],[Watts Active]]*Power_On_Hours_Year/1000)*Active_Duty_Cycle)+((Table5[[#This Row],[Watts Idle]]*Power_On_Hours_Year/1000)*(100%-Active_Duty_Cycle)))*CostPerKWH -> 8.0864136 | V91: =Table5[Energy$year]/Table5[[#This Row],[SizTB]] -> 1.3477356 | W91: 204.99 | X91: =Table5[[#This Row],[Cost]]/Table5[[#This Row],[SizTB]]*Exchange_Rate -> 34.165 | Y91: =Table5[[#This Row],[Cost]]+((CompareWarrYrs-Table5[[#This Row],[S]])*(Incremental_Warr_Yr*Table5[[#This Row],[Cost]]))*Exchange_Rate -> 250.0878 | Z91: =Table5[[#This Row],[$+Warr]]/Table5[[#This Row],[SizTB]] -> 41.6813 | AA91: =Table5[[#This Row],[$PerTB]]/CompareWarrYrs -> 8.33626
A92: 43085 | B92: Toshiba | C92: N300 | D92: NAS | E92: 3.5 | F92: 8 | G92: 7200 | H92: 4.17 | J92: =(Table5[[#This Row],[RPM]]/5400-1) -> 0.33333333 | K92: 240 | L92: 3 | N92: 180 | O92: 1000000 | P92: =10^14 -> 100000000000000 | R92: 9.2 | S92: 6.2 | U92: =(((Table5[[#This Row],[Watts Active]]*Power_On_Hours_Year/1000)*Active_Duty_Cycle)+((Table5[[#This Row],[Watts Idle]]*Power_On_Hours_Year/1000)*(100%-Active_Duty_Cycle)))*CostPerKWH -> 7.450896 | V92: =Table5[Energy$year]/Table5[[#This Row],[SizTB]] -> 0.931362 | W92: 227.99 | X92: =Table5[[#This Row],[Cost]]/Table5[[#This Row],[SizTB]]*Exchange_Rate -> 28.49875 | Y92: =Table5[[#This Row],[Cost]]+((CompareWarrYrs-Table5[[#This Row],[S]])*(Incremental_Warr_Yr*Table5[[#This Row],[Cost]]))*Exchange_Rate -> 278.1478 | Z92: =Table5[[#This Row],[$+Warr]]/Table5[[#This Row],[SizTB]] -> 34.768475 | AA92: =Table5[[#This Row],[$PerTB]]/CompareWarrYrs -> 6.953695
A93: 43088 | B93: Toshiba | C93: P300 | D93: DT | E93: 3.5 | F93: 1 | G93: 7200 | H93: 4.17 | J93: =(Table5[[#This Row],[RPM]]/5400-1) -> 0.33333333 | L93: 2 | P93: =10^14 -> 100000000000000 | R93: 6.4 | S93: 3.7 | U93: =(((Table5[[#This Row],[Watts Active]]*Power_On_Hours_Year/1000)*Active_Duty_Cycle)+((Table5[[#This Row],[Watts Idle]]*Power_On_Hours_Year/1000)*(100%-Active_Duty_Cycle)))*CostPerKWH -> 4.6458528 | V93: =Table5[Energy$year]/Table5[[#This Row],[SizTB]] -> 4.6458528 | W93: 49.99 | X93: =Table5[[#This Row],[Cost]]/Table5[[#This Row],[SizTB]]*Exchange_Rate -> 49.99 | Y93: =Table5[[#This Row],[Cost]]+((CompareWarrYrs-Table5[[#This Row],[S]])*(Incremental_Warr_Yr*Table5[[#This Row],[Cost]]))*Exchange_Rate -> 66.4867 | Z93: =Table5[[#This Row],[$+Warr]]/Table5[[#This Row],[SizTB]] -> 66.4867 | AA93: =Table5[[#This Row],[$PerTB]]/CompareWarrYrs -> 13.29734
A94: 43088 | B94: Toshiba | C94: P300 | D94: DT | E94: 3.5 | F94: 2 | G94: 7200 | H94: 4.17 | J94: =(Table5[[#This Row],[RPM]]/5400-1) -> 0.33333333 | L94: 2 | P94: =10^14 -> 100000000000000 | R94: 6.4 | S94: 5.2 | U94: =(((Table5[[#This Row],[Watts Active]]*Power_On_Hours_Year/1000)*Active_Duty_Cycle)+((Table5[[#This Row],[Watts Idle]]*Power_On_Hours_Year/1000)*(100%-Active_Duty_Cycle)))*CostPerKWH -> 5.9607168 | V94: =Table5[Energy$year]/Table5[[#This Row],[SizTB]] -> 2.9803584 | W94: 69.99 | X94: =Table5[[#This Row],[Cost]]/Table5[[#This Row],[SizTB]]*Exchange_Rate -> 34.995 | Y94: =Table5[[#This Row],[Cost]]+((CompareWarrYrs-Table5[[#This Row],[S]])*(Incremental_Warr_Yr*Table5[[#This Row],[Cost]]))*Exchange_Rate -> 93.0867 | Z94: =Table5[[#This Row],[$+Warr]]/Table5[[#This Row],[SizTB]] -> 46.54335 | AA94: =Table5[[#This Row],[$PerTB]]/CompareWarrYrs -> 9.30867
A95: 43088 | B95: Toshiba | C95: P300 | D95: DT | E95: 3.5 | F95: 3 | G95: 7200 | H95: 4.17 | J95: =(Table5[[#This Row],[RPM]]/5400-1) -> 0.33333333 | L95: 2 | P95: =10^14 -> 100000000000000 | R95: 6.4 | S95: 5.2 | U95: =(((Table5[[#This Row],[Watts Active]]*Power_On_Hours_Year/1000)*Active_Duty_Cycle)+((Table5[[#This Row],[Watts Idle]]*Power_On_Hours_Year/1000)*(100%-Active_Duty_Cycle)))*CostPerKWH -> 5.9607168 | V95: =Table5[Energy$year]/Table5[[#This Row],[SizTB]] -> 1.9869056 | W95: 74.17 | X95: =Table5[[#This Row],[Cost]]/Table5[[#This Row],[SizTB]]*Exchange_Rate -> 24.723333 | Y95: =Table5[[#This Row],[Cost]]+((CompareWarrYrs-Table5[[#This Row],[S]])*(Incremental_Warr_Yr*Table5[[#This Row],[Cost]]))*Exchange_Rate -> 98.6461 | Z95: =Table5[[#This Row],[$+Warr]]/Table5[[#This Row],[SizTB]] -> 32.882033 | AA95: =Table5[[#This Row],[$PerTB]]/CompareWarrYrs -> 6.5764067
A96: 43055 | B96: Toshiba | C96: X300 | D96: DT | E96: 3.5 | F96: 4 | G96: 7200 | H96: 4.17 | J96: =(Table5[[#This Row],[RPM]]/5400-1) -> 0.33333333 | L96: 2 | P96: =10^14 -> 100000000000000 | R96: 11.3 | S96: 6 | U96: =(((Table5[[#This Row],[Watts Active]]*Power_On_Hours_Year/1000)*Active_Duty_Cycle)+((Table5[[#This Row],[Watts Idle]]*Power_On_Hours_Year/1000)*(100%-Active_Duty_Cycle)))*CostPerKWH -> 7.7357832 | V96: =Table5[Energy$year]/Table5[[#This Row],[SizTB]] -> 1.9339458 | W96: 119.99 | X96: =Table5[[#This Row],[Cost]]/Table5[[#This Row],[SizTB]]*Exchange_Rate -> 29.9975 | Y96: =Table5[[#This Row],[Cost]]+((CompareWarrYrs-Table5[[#This Row],[S]])*(Incremental_Warr_Yr*Table5[[#This Row],[Cost]]))*Exchange_Rate -> 159.5867 | Z96: =Table5[[#This Row],[$+Warr]]/Table5[[#This Row],[SizTB]] -> 39.896675 | AA96: =Table5[[#This Row],[$PerTB]]/CompareWarrYrs -> 7.979335 | AB96: 31
A97: 43101 | B97: Toshiba | C97: X300 | D97: DT | E97: 3.5 | F97: 5 | G97: 7200 | H97: 4.17 | J97: =(Table5[[#This Row],[RPM]]/5400-1) -> 0.33333333 | L97: 2 | P97: =10^14 -> 100000000000000 | R97: 11.3 | S97: 6 | U97: =(((Table5[[#This Row],[Watts Active]]*Power_On_Hours_Year/1000)*Active_Duty_Cycle)+((Table5[[#This Row],[Watts Idle]]*Power_On_Hours_Year/1000)*(100%-Active_Duty_Cycle)))*CostPerKWH -> 7.7357832 | V97: =Table5[Energy$year]/Table5[[#This Row],[SizTB]] -> 1.5471566 | W97: 114.99 | X97: =Table5[[#This Row],[Cost]]/Table5[[#This Row],[SizTB]]*Exchange_Rate -> 22.998 | Y97: =Table5[[#This Row],[Cost]]+((CompareWarrYrs-Table5[[#This Row],[S]])*(Incremental_Warr_Yr*Table5[[#This Row],[Cost]]))*Exchange_Rate -> 152.9367 | Z97: =Table5[[#This Row],[$+Warr]]/Table5[[#This Row],[SizTB]] -> 30.58734 | AA97: =Table5[[#This Row],[$PerTB]]/CompareWarrYrs -> 6.117468 | AB97: 31
A98: 43080 | B98: Toshiba | C98: X300 | D98: DT | E98: 3.5 | F98: 6 | G98: 7200 | H98: 4.17 | J98: =(Table5[[#This Row],[RPM]]/5400-1) -> 0.33333333 | L98: 2 | P98: =10^14 -> 100000000000000 | R98: 11.3 | S98: 6 | U98: =(((Table5[[#This Row],[Watts Active]]*Power_On_Hours_Year/1000)*Active_Duty_Cycle)+((Table5[[#This Row],[Watts Idle]]*Power_On_Hours_Year/1000)*(100%-Active_Duty_Cycle)))*CostPerKWH -> 7.7357832 | V98: =Table5[Energy$year]/Table5[[#This Row],[SizTB]] -> 1.2892972 | W98: 189.99 | X98: =Table5[[#This Row],[Cost]]/Table5[[#This Row],[SizTB]]*Exchange_Rate -> 31.665 | Y98: =Table5[[#This Row],[Cost]]+((CompareWarrYrs-Table5[[#This Row],[S]])*(Incremental_Warr_Yr*Table5[[#This Row],[Cost]]))*Exchange_Rate -> 252.6867 | Z98: =Table5[[#This Row],[$+Warr]]/Table5[[#This Row],[SizTB]] -> 42.11445 | AA98: =Table5[[#This Row],[$PerTB]]/CompareWarrYrs -> 8.42289 | AB98: 34
A99: 43080 | B99: Toshiba | C99: X300 | D99: DT | E99: 3.5 | F99: 8 | G99: 7200 | H99: 4.17 | J99: =(Table5[[#This Row],[RPM]]/5400-1) -> 0.33333333 | L99: 2 | P99: =10^14 -> 100000000000000 | R99: 11.3 | S99: 6 | U99: =(((Table5[[#This Row],[Watts Active]]*Power_On_Hours_Year/1000)*Active_Duty_Cycle)+((Table5[[#This Row],[Watts Idle]]*Power_On_Hours_Year/1000)*(100%-Active_Duty_Cycle)))*CostPerKWH -> 7.7357832 | V99: =Table5[Energy$year]/Table5[[#This Row],[SizTB]] -> 0.9669729 | W99: 249.99 | X99: =Table5[[#This Row],[Cost]]/Table5[[#This Row],[SizTB]]*Exchange_Rate -> 31.24875 | Y99: =Table5[[#This Row],[Cost]]+((CompareWarrYrs-Table5[[#This Row],[S]])*(Incremental_Warr_Yr*Table5[[#This Row],[Cost]]))*Exchange_Rate -> 332.4867 | Z99: =Table5[[#This Row],[$+Warr]]/Table5[[#This Row],[SizTB]] -> 41.560838 | AA99: =Table5[[#This Row],[$PerTB]]/CompareWarrYrs -> 8.3121675 | AB99: 34
A100: 43046 | B100: WD | C100: Ae | D100: NAS | E100: 3.5 | F100: 6 | G100: 5760 | J100: =(Table5[[#This Row],[RPM]]/5400-1) -> 0.066666667 | K100: 150 | L100: 3 | M100: 300000 | O100: 500000 | P100: =10^14 -> 100000000000000 | R100: 6.5 | S100: 4.8 | U100: =(((Table5[[#This Row],[Watts Active]]*Power_On_Hours_Year/1000)*Active_Duty_Cycle)+((Table5[[#This Row],[Watts Idle]]*Power_On_Hours_Year/1000)*(100%-Active_Duty_Cycle)))*CostPerKWH -> 5.6320008 | V100: =Table5[Energy$year]/Table5[[#This Row],[SizTB]] -> 0.9386668 | W100: 159.99 | X100: =Table5[[#This Row],[Cost]]/Table5[[#This Row],[SizTB]]*Exchange_Rate -> 26.665 | Y100: =Table5[[#This Row],[Cost]]+((CompareWarrYrs-Table5[[#This Row],[S]])*(Incremental_Warr_Yr*Table5[[#This Row],[Cost]]))*Exchange_Rate -> 195.1878 | Z100: =Table5[[#This Row],[$+Warr]]/Table5[[#This Row],[SizTB]] -> 32.5313 | AA100: =Table5[[#This Row],[$PerTB]]/CompareWarrYrs -> 6.50626
...

Sheet Tables
A2: Type | B2: NAS
A3: FormFactor | B3: 3.5
A4: NAS Drives Avg Cost By Size Per Year
A5: Row Labels | B5: Average of $ TB/year
A6: 0.9 | B6: 0
A7: 1 | B7: 12.59752
A8: 2 | B8: 14.029951
A9: 3 | B9: 7.9291867
A10: 4 | B10: 8.6131394
A11: 5 | B11: 12.032
A12: 6 | B12: 7.5875424
A13: 8 | B13: 6.678903
A14: 10 | B14: 6.598289
A15: 12 | B15: 7.2396883
A16: 14 | B16: 0
A17: Avg By Size | B17: 8.7041807
A20: Type | B20: NAS
A21: FormFactor | B21: 3.5
A22: Avg Energy Cost by Size per TB per Year
A23: Row Labels | B23: Cost per TB per year
A24: 0.9 | B24: 7.4021973
A25: 1 | B25: 5.0538259
A26: 2 | B26: 2.9192416
A27: 3 | B27: 1.789676
A28: 4 | B28: 1.6106475
A29: 5 | B29: 1.2359722
A30: 6 | B30: 1.199747
A31: 8 | B31: 0.85959234
A32: 10 | B32: 0.57497907
A33: 12 | B33: 0.42246093
A34: 14 | B34: 0
A35: Average | B35: 1.7464071
A38: Type | B38: NAS
A39: FormFactor | B39: 3.5
A40: Avg Energy Cost by Size per Year
A41: Row Labels | B41: Average of Energy$year
A42: 0.9 | B42: 6.6619776
A43: 1 | B43: 5.0538259
A44: 2 | B44: 5.8384831
A45: 3 | B45: 5.369028
A46: 4 | B46: 6.4425901
A47: 5 | B47: 6.1798608
A48: 6 | B48: 7.198482
A49: 8 | B49: 6.8767387
A50: 10 | B50: 5.7497907
A51: 12 | B51: 5.0695312
A52: 14 | B52: 0
A53: Average | B53: 6.0658727
A57: Type | B57: NAS
A58: FormFactor | B58: 3.5
A59: 3.5" NAS Drives Avg Cost by RPM by Manu
A60: Row Labels | B60: Average of $PerTB
A61: 5400 | B61: 48.043892
A62: WD | B62: 48.043892
A63: 5760 | B63: 32.5313
A64: WD | B64: 32.5313
A65: 5900 | B65: 50.929307
A66: Seagate | B66: 50.929307
A67: 7200 | B67: 43.389055
A68: HGST | B68: 45.025667
A69: Seagate | B69: 47.03186
A70: Toshiba | B70: 24.625893
A71: WD | B71: 47.568795
A72: 15000 | B72: 0
A73: Seagate | B73: 0
A74: Grand Total | B74: 43.684671
A77: Type | B77: NAS
A78: FormFactor | B78: 3.5
A79: Manu | B79: (All)
A80: MTBF | B80: (Multiple Items)
A82: Row Labels | B82: Average of MaxStartupWatts
A83: 1 | B83: 14.4
A84: 5400 | B84: 14.4
A85: 5900 | B85: 14.4
A86: 2 | B86: 22.89
A87: 5400 | B87: 20.76
A88: 5900 | B88: 24
A89: 7200 | B89: 23.4
A90: 3 | B90: 22.52
A91: 5400 | B91: 20.76
A92: 5900 | B92: 24
A93: 7200 | B93: 22.8
A94: 4 | B94: 23.68
... A101: 5400 | B101: 21
A102: 5760
A103: 7200 | B103: 24.27
A104: 8 | B104: 23.712
A105: 5400 | B105: 21.48
A106: 7200 | B106: 24.27
A107: 10 | B107: 23.736
A108: 5400 | B108: 21.48
A109: 7200 | B109: 24.3
A110: 12 | B110: 22.8
A111: 7200 | B111: 22.8
A112: Grand Total | B112: 22.785455

Sheet Charts
A1: These are incomplete at this time…

Sheet Database
A1: Date | B1: Manu | C1: Model | D1: Type | E1: SizTB | F1: RPM | G1: AvgLatency | H1: SeekT | I1: PerfCmp | J1: XferRate | K1: Warnty | L1: CycleCnt | M1: WorkLoad | N1: MTBF | O1: RErrRate | P1: MaxStartupWatts | Q1: Watts Active | R1: Watts Idle | S1: WattsStandby | T1: Cost | U1: $ TB | V1: $+Warr | W1: $PerTB | X1: $ TB/year | Y1: Comp $/Perf/Size | Z1: Energy$year | AA1: Energy$yearPerTB | AB1: Notes
D2: NAS | E2: 10 | T2: >100
A4: =DVAR('Drive Table'!$A$2:$AD$135,"Cost",$A$1:$AB$2) -> 1771.6672 | B4: Mean
A5: =DAVERAGE('Drive Table'!$A$2:$AD$135,"Cost",$A$1:$AB$2) -> 358.08875 | B5: Avg
A6: =DMIN('Drive Table'!$A$2:$AD$135,"Cost",$A$1:$AB$2) -> 299.99 | B6: Min
A7: =DMAX('Drive Table'!$A$2:$AD$135,"Cost",$A$1:$AB$2) -> 440.77 | B7: Max
A8: =DCOUNTA('Drive Table'!$A$2:$AD$135,"Cost",$A$1:$AB$2) -> 8 | B8: Qty
