Workbook
Name Active_Duty_Cycle: 'Drive Table'!$D$136
Name CompareWarrYrs: 'Drive Table'!$D$137
Name CostPerKWH: 'Drive Table'!$D$135
Name Day_in_Year: 'Drive Table'!$D$143
Name Days_In_Month: 'Drive Table'!$D$142
Name Days_in_Year: 'Drive Table'!$D$143
Name Exchange_Rate: 'Drive Table'!$D$145
Name Hours_In_Day: 'Drive Table'!$D$140
Name Hours_In_Month: 'Drive Table'!$D$141
Name Incremental_Warr_Yr: 'Drive Table'!$D$138
Name Months_In_Year: 'Drive Table'!$D$144
Name Power_On_Hours_Year: 'Drive Table'!$D$139

Sheet Drive Table
A1: SPECIFICATIONS | G1: PERFORMANCE | L1: DURABILITY | Q1: POWER USAGE | W1: ACTUAL COST | Y1: Warranty_Normalized_Computed
A2: Date | B2: Manu | C2: Model | D2: Type | E2: FormFactor | F2: SizTB | G2: RPM | H2: AvgLatency | I2: SeekT | J2: PerfCmp | K2: XferRate | L2: S | M2: CycleCnt | N2: WorkLoad | O2: MTBF | P2: RErrRate | Q2: MaxStartupWatts | R2: Watts Active | S2: Watts Idle | T2: WattsStandby | U2: Energy$year | V2: Energy$yearPerTB | W2: Cost | X2: $ TB | Y2: $+Warr | Z2: $PerTB | AA2: $ TB/year | AB2: Notes
A3: 43036 | B3: HGST | C3: Deskstar NAS | D3: NAS | E3: 3.5 | F3: 4 | G3: 7200 | I3: 11.99 | J3: =(Table5[[#This Row],[RPM]]/5400-1) -> 0.33333333 | K3: 202 | L3: 3 | M3: 600000 | O3: 1000000 | P3: =10^14 -> 100000000000000 | Q3: =1.2*5+2*12 -> 30 | S3: 7.3 | W3: =219.99/2 -> 109.995 | X3: =Table5[[#This Row],[Cost]]/Table5[[#This Row],[SizTB]]*Exchange_Rate -> 27.49875 | Y3: =Table5[[#This Row],[Cost]]+((CompareWarrYrs-Table5[[#This Row],[S]])*(Incremental_Warr_Yr*Table5[[#This Row],[Cost]]))*Exchange_Rate -> 134.1939 | Z3: =Table5[[#This Row],[$+Warr]]/Table5[[#This Row],[SizTB]] -> 33.548475 | AA3: =Table5[[#This Row],[$PerTB]]/CompareWarrYrs -> 6.709695 | AB3: Enterprise HGST drives are now
A4: 43060 | B4: HGST | C4: Deskstar NAS | D4: NAS | E4: 3.5 | F4: 6 | G4: 7200 | I4: 11.99 | J4: =(Table5[[#This Row],[RPM]]/5400-1) -> 0.33333333 | K4: 227 | L4: 3 | M4: 600000 | O4: 1000000 | P4: =10^14 -> 100000000000000 | Q4: =1.2*5+2*12 -> 30 | S4: 7.3 | W4: 159.99 | X4: =Table5[[#This Row],[Cost]]/Table5[[#This Row],[SizTB]]*Exchange_Rate -> 26.665 | Y4: =Table5[[#This Row],[Cost]]+((CompareWarrYrs-Table5[[#This Row],[S]])*(Incremental_Warr_Yr*Table5[[#This Row],[Cost]]))*Exchange_Rate -> 195.1878 | Z4: =Table5[[#This Row],[$+Warr]]/Table5[[#This Row],[SizTB]] -> 32.5313 | AA4: =Table5[[#This Row],[$PerTB]]/CompareWarrYrs -> 6.50626 | AB4: owned by WD
A5: 43041 | B5: HGST | C5: Deskstar NAS | D5: NAS | E5: 3.5 | F5: 8 | G5: 7200 | I5: 11.99 | J5: =(Table5[[#This Row],[RPM]]/5400-1) -> 0.33333333 | K5: 205 | L5: 3 | M5: 600000 | O5: 1000000 | P5: =10^14 -> 100000000000000 | Q5: =1.2*5+2*12 -> 30 | S5: 5.1 | W5: 229.99 | X5: =Table5[[#This Row],[Cost]]/Table5[[#This Row],[SizTB]]*Exchange_Rate -> 28.74875 | Y5: =Table5[[#This Row],[Cost]]+((CompareWarrYrs-Table5[[#This Row],[S]])*(Incremental_Warr_Yr*Table5[[#This Row],[Cost]]))*Exchange_Rate -> 280.5878 | Z5: =Table5[[#This Row],[$+Warr]]/Table5[[#This Row],[SizTB]] -> 35.073475 | AA5: =Table5[[#This Row],[$PerTB]]/CompareWarrYrs -> 7.014695
A6: 43043 | B6: HGST | C6: Deskstar NAS | D6: NAS | E6: 3.5 | F6: 10 | G6: 7200 | I6: 11.99 | J6: =(Table5[[#This Row],[RPM]]/5400-1) -> 0.33333333 | K6: 240 | L6: 3 | M6: 600000 | O6: 1000000 | P6: =10^14 -> 100000000000000 | Q6: =1.2*5+2*12 -> 30 | S6: 5.1 | W6: 299.99 | X6: =Table5[[#This Row],[Cost]]/Table5[[#This Row],[SizTB]]*Exchange_Rate -> 29.999 | Y6: =Table5[[#This Row],[Cost]]+((CompareWarrYrs-Table5[[#This Row],[S]])*(Incremental_Warr_Yr*Table5[[#This Row],[Cost]]))*Exchange_Rate -> 365.9878 | Z6: =Table5[[#This Row],[$+Warr]]/Table5[[#This Row],[SizTB]] -> 36.59878 | AA6: =Table5[[#This Row],[$PerTB]]/CompareWarrYrs -> 7.319756
A7: 43005 | B7: HGST | C7: Travelstar 5K100 | D7: LT | E7: 2.5 | F7: 1 | G7: 5400 | H7: 5.5 | I7: 12 | J7: =(Table5[[#This Row],[RPM]]/5400-1) -> 0 | K7: 99 | L7: 3 | M7: 600000 | Q7: 4.5 | R7: 1.6 | S7: 0.8 | T7: 0.2 | U7: =(((Table5[[#This Row],[Watts Active]]*Power_On_Hours_Year/1000)*Active_Duty_Cycle)+((Table5[[#This Row],[Watts Idle]]*Power_On_Hours_Year/1000)*(100%-Active_Duty_Cycle)))*CostPerKWH -> 1.0518912 | V7: =Table5[Energy$year]/Table5[[#This Row],[SizTB]] -> 1.0518912 | W7: 49.99 | X7: =Table5[[#This Row],[Cost]]/Table5[[#This Row],[SizTB]]*Exchange_Rate -> 49.99 | Y7: =Table5[[#This Row],[Cost]]+((CompareWarrYrs-Table5[[#This Row],[S]])*(Incremental_Warr_Yr*Table5[[#This Row],[Cost]]))*Exchange_Rate -> 60.9878 | Z7: =Table5[[#This Row],[$+Warr]]/Table5[[#This Row],[SizTB]] -> 60.9878 | AA7: =Table5[[#This Row],[$PerTB]]/CompareWarrYrs -> 12.19756
A8: 43058 | B8: HGST | C8: Travelstar 7K100 | D8: LT | E8: 2.5 | F8: 1 | G8: 7200 | H8: 4.2 | I8: 12 | J8: =(Table5[[#This Row],[RPM]]/5400-1) -> 0.33333333 | K8: 128 | L8: 3 | M8: 600000 | Q8: 5.5 | R8: 2.7 | S8: 2 | T8: 0.2 | U8: =(((Table5[[#This Row],[Watts Active]]*Power_On_Hours_Year/1000)*Active_Duty_Cycle)+((Table5[[#This Row],[Watts Idle]]*Power_On_Hours_Year/1000)*(100%-Active_Duty_Cycle)))*CostPerKWH -> 2.3448408 | V8: =Table5[Energy$year]/Table5[[#This Row],[SizTB]] -> 2.3448408 | W8: 49.99 | X8: =Table5[[#This Row],[Cost]]/Table5[[#This Row],[SizTB]]*Exchange_Rate -> 49.99 | Y8: =Table5[[#This Row],[Cost]]+((CompareWarrYrs-Table5[[#This Row],[S]])*(Incremental_Warr_Yr*Table5[[#This Row],[Cost]]))*Exchange_Rate -> 60.9878 | Z8: =Table5[[#This Row],[$+Warr]]/Table5[[#This Row],[SizTB]] -> 60.9878 | AA8: =Table5[[#This Row],[$PerTB]]/CompareWarrYrs -> 12.19756
A9: 43053 | B9: HGST | C9: Ultrastar 7K600 | D9: NAS | E9: 3.5 | F9: 2 | G9: 7200 | H9: 4.16 | I9: 8 | J9: =(Table5[[#This Row],[RPM]]/5400-1) -> 0.33333333 | K9: 192 | L9: 5 | M9: 600000 | O9: 2000000 | P9: 1e+15 | R9: 9.1 | S9: 7.1 | U9: =(((Table5[[#This Row],[Watts Active]]*Power_On_Hours_Year/1000)*Active_Duty_Cycle)+((Table5[[#This Row],[Watts Idle]]*Power_On_Hours_Year/1000)*(100%-Active_Duty_Cycle)))*CostPerKWH -> 8.2179 | V9: =Table5[Energy$year]/Table5[[#This Row],[SizTB]] -> 4.10895 | W9: 146.38 | X9: =Table5[[#This Row],[Cost]]/Table5[[#This Row],[SizTB]]*Exchange_Rate -> 73.19 | Y9: =Table5[[#This Row],[Cost]]+((CompareWarrYrs-Table5[[#This Row],[S]])*(Incremental_Warr_Yr*Table5[[#This Row],[Cost]]))*Exchange_Rate -> 146.38 | Z9: =Table5[[#This Row],[$+Warr]]/Table5[[#This Row],[SizTB]] -> 73.19 | AA9: =Table5[[#This Row],[$PerTB]]/CompareWarrYrs -> 14.638
A10: 43053 | B10: HGST | C10: Ultrastar 7K600 | D10: NAS | E10: 3.5 | F10: 4 | G10: 7200 | H10: 4.16 | I10: 8 | J10: =(Table5[[#This Row],[RPM]]/5400-1) -> 0.33333333 | K10: 192 | L10: 5 | M10: 600000 | O10: 2000000 | P10: 1e+15 | R10: 9.1 | S10: 7.1 | U10: =(((Table5[[#This Row],[Watts Active]]*Power_On_Hours_Year/1000)*Active_Duty_Cycle)+((Table5[[#This Row],[Watts Idle]]*Power_On_Hours_Year/1000)*(100%-Active_Duty_Cycle)))*CostPerKWH -> 8.2179 | V10: =Table5[Energy$year]/Table5[[#This Row],[SizTB]] -> 2.054475 | W10: 194.85 | X10: =Table5[[#This Row],[Cost]]/Table5[[#This Row],[SizTB]]*Exchange_Rate -> 48.7125 | Y10: =Table5[[#This Row],[Cost]]+((CompareWarrYrs-Table5[[#This Row],[S]])*(Incremental_Warr_Yr*Table5[[#This Row],[Cost]]))*Exchange_Rate -> 194.85 | Z10: =Table5[[#This Row],[$+Warr]]/Table5[[#This Row],[SizTB]] -> 48.7125 | AA10: =Table5[[#This Row],[$PerTB]]/CompareWarrYrs -> 9.7425
A11: 43053 | B11: HGST | C11: Ultrastar 7K600 | D11: NAS | E11: 3.5 | F11: 5 | G11: 7200 | H11: 4.16 | I11: 8 | J11: =(Table5[[#This Row],[RPM]]/5400-1) -> 0.33333333 | K11: 192 | L11: 5 | M11: 600000 | O11: 2000000 | P11: 1e+15 | R11: 9.1 | S11: 7.1 | U11: =(((Table5[[#This Row],[Watts Active]]*Power_On_Hours_Year/1000)*Active_Duty_Cycle)+((Table5[[#This Row],[Watts Idle]]*Power_On_Hours_Year/1000)*(100%-Active_Duty_Cycle)))*CostPerKWH -> 8.2179 | V11: =Table5[Energy$year]/Table5[[#This Row],[SizTB]] -> 1.64358 | W11: 281.96 | X11: =Table5[[#This Row],[Cost]]/Table5[[#This Row],[SizTB]]*Exchange_Rate -> 56.392 | Y11: =Table5[[#This Row],[Cost]]+((CompareWarrYrs-Table5[[#This Row],[S]])*(Incremental_Warr_Yr*Table5[[#This Row],[Cost]]))*Exchange_Rate -> 281.96 | Z11: =Table5[[#This Row],[$+Warr]]/Table5[[#This Row],[SizTB]] -> 56.392 | AA11: =Table5[[#This Row],[$PerTB]]/CompareWarrYrs -> 11.2784
A12: 43053 | B12: HGST | C12: Ultrastar 7K600 | D12: NAS | E12: 3.5 | F12: 6 | G12: 7200 | H12: 4.16 | I12: 8 | J12: =(Table5[[#This Row],[RPM]]/5400-1) -> 0.33333333 | K12: 216 | L12: 5 | M12: 600000 | O12: 2000000 | P12: 1e+15 | R12: 9.1 | S12: 7.1 | U12: =(((Table5[[#This Row],[Watts Active]]*Power_On_Hours_Year/1000)*Active_Duty_Cycle)+((Table5[[#This Row],[Watts Idle]]*Power_On_Hours_Year/1000)*(100%-Active_Duty_Cycle)))*CostPerKWH -> 8.2179 | V12: =Table5[Energy$year]/Table5[[#This Row],[SizTB]] -> 1.36965 | W12: 257.62 | X12: =Table5[[#This Row],[Cost]]/Table5[[#This Row],[SizTB]]*Exchange_Rate -> 42.936667 | Y12: =Table5[[#This Row],[Cost]]+((CompareWarrYrs-Table5[[#This Row],[S]])*(Incremental_Warr_Yr*Table5[[#This Row],[Cost]]))*Exchange_Rate -> 257.62 | Z12: =Table5[[#This Row],[$+Warr]]/Table5[[#This Row],[SizTB]] -> 42.936667 | AA12: =Table5[[#This Row],[$PerTB]]/CompareWarrYrs -> 8.5873333
A13: 43033 | B13: HGST | C13: Ultrastar Archive Ha10 | D13: SMR | E13: 3.5 | F13: 8 | G13: 7200 | H13: 4.16 | I13: 8.5 | J13: =(Table5[[#This Row],[RPM]]/5400-1) -> 0.33333333 | K13: 157 | L13: 5 | M13: 600000 | O13: 2000000 | P13: 1e+15 | R13: 7.6 | S13: 5.1 | U13: =(((Table5[[#This Row],[Watts Active]]*Power_On_Hours_Year/1000)*Active_Duty_Cycle)+((Table5[[#This Row],[Watts Idle]]*Power_On_Hours_Year/1000)*(100%-Active_Duty_Cycle)))*CostPerKWH -> 6.136032 | V13: =Table5[Energy$year]/Table5[[#This Row],[SizTB]] -> 0.767004 | W13: 373 | X13: =Table5[[#This Row],[Cost]]/Table5[[#This Row],[SizTB]]*Exchange_Rate -> 46.625 | Y13: =Table5[[#This Row],[Cost]]+((CompareWarrYrs-Table5[[#This Row],[S]])*(Incremental_Warr_Yr*Table5[[#This Row],[Cost]]))*Exchange_Rate -> 373 | Z13: =Table5[[#This Row],[$+Warr]]/Table5[[#This Row],[SizTB]] -> 46.625 | AA13: =Table5[[#This Row],[$PerTB]]/CompareWarrYrs -> 9.325 | AB13: Helium filled, Shingled (SMR)
A14: 43047 | B14: HGST | C14: Ultrastar C10K1200 | D14: NAS | E14: 2.5 | F14: 1.2 | G14: 10520 | H14: 2.85 | I14: 4.4 | J14: =(Table5[[#This Row],[RPM]]/5400-1) -> 0.94814815 | K14: 224 | L14: 5 | O14: 2000000 | P14: 1e+16 | R14: 6.5 | S14: 4.7 | U14: =(((Table5[[#This Row],[Watts Active]]*Power_On_Hours_Year/1000)*Active_Duty_Cycle)+((Table5[[#This Row],[Watts Idle]]*Power_On_Hours_Year/1000)*(100%-Active_Duty_Cycle)))*CostPerKWH -> 5.5443432 | V14: =Table5[Energy$year]/Table5[[#This Row],[SizTB]] -> 4.620286 | W14: 170 | X14: =Table5[[#This Row],[Cost]]/Table5[[#This Row],[SizTB]]*Exchange_Rate -> 141.66667 | Y14: =Table5[[#This Row],[Cost]]+((CompareWarrYrs-Table5[[#This Row],[S]])*(Incremental_Warr_Yr*Table5[[#This Row],[Cost]]))*Exchange_Rate -> 170 | Z14: =Table5[[#This Row],[$+Warr]]/Table5[[#This Row],[SizTB]] -> 141.66667 | AA14: =Table5[[#This Row],[$PerTB]]/CompareWarrYrs -> 28.333333
A15: 43047 | B15: HGST | C15: Ultrastar C10K1800 | D15: NAS | E15: 2.5 | F15: 1.8 | G15: 10520 | H15: 2.85 | I15: 4.4 | J15: =(Table5[[#This Row],[RPM]]/5400-1) -> 0.94814815 | K15: 224 | L15: 5 | O15: 2000000 | P15: 1e+16 | R15: 6.6 | S15: 4.7 | U15: =(((Table5[[#This Row],[Watts Active]]*Power_On_Hours_Year/1000)*Active_Duty_Cycle)+((Table5[[#This Row],[Watts Idle]]*Power_On_Hours_Year/1000)*(100%-Active_Duty_Cycle)))*CostPerKWH -> 5.5662576 | V15: =Table5[Energy$year]/Table5[[#This Row],[SizTB]] -> 3.0923653 | W15: 229.99 | X15: =Table5[[#This Row],[Cost]]/Table5[[#This Row],[SizTB]]*Exchange_Rate -> 127.77222 | Y15: =Table5[[#This Row],[Cost]]+((CompareWarrYrs-Table5[[#This Row],[S]])*(Incremental_Warr_Yr*Table5[[#This Row],[Cost]]))*Exchange_Rate -> 229.99 | Z15: =Table5[[#This Row],[$+Warr]]/Table5[[#This Row],[SizTB]] -> 127.77222 | AA15: =Table5[[#This Row],[$PerTB]]/CompareWarrYrs -> 25.554444
A16: 43050 | B16: HGST | C16: Ultrastar C15K600 | D16: NAS | E16: 2.5 | F16: 0.6 | G16: 15030 | H16: 1.99 | I16: 3.1 | J16: =(Table5[[#This Row],[RPM]]/5400-1) -> 1.7833333 | K16: 250 | L16: 5 | O16: 2000000 | P16: 1e+17 | R16: 7.5 | S16: 5.8 | U16: =(((Table5[[#This Row],[Watts Active]]*Power_On_Hours_Year/1000)*Active_Duty_Cycle)+((Table5[[#This Row],[Watts Idle]]*Power_On_Hours_Year/1000)*(100%-Active_Duty_Cycle)))*CostPerKWH -> 6.7277208 | V16: =Table5[Energy$year]/Table5[[#This Row],[SizTB]] -> 11.212868 | W16: 189.95 | X16: =Table5[[#This Row],[Cost]]/Table5[[#This Row],[SizTB]]*Exchange_Rate -> 316.58333 | Y16: =Table5[[#This Row],[Cost]]+((CompareWarrYrs-Table5[[#This Row],[S]])*(Incremental_Warr_Yr*Table5[[#This Row],[Cost]]))*Exchange_Rate -> 189.95 | Z16: =Table5[[#This Row],[$+Warr]]/Table5[[#This Row],[SizTB]] -> 316.58333 | AA16: =Table5[[#This Row],[$PerTB]]/CompareWarrYrs -> 63.316667 | AB16: 32GB NAND, Media caching
A17: 43019 | B17: HGST | C17: Ultrastar He6 | D17: NAS | E17: 3.5 | F17: 6 | G17: 7200 | H17: 4.16 | I17: 9 | J17: =(Table5[[#This Row],[RPM]]/5400-1) -> 0.33333333 | K17: 195 | L17: 5 | M17: 600000 | N17: 550 | O17: 2500000 | P17: 1e+15 | R17: 7.4 | S17: 5.1 | U17: =(((Table5[[#This Row],[Watts Active]]*Power_On_Hours_Year/1000)*Active_Duty_Cycle)+((Table5[[#This Row],[Watts Idle]]*Power_On_Hours_Year/1000)*(100%-Active_Duty_Cycle)))*CostPerKWH -> 6.0922032 | V17: =Table5[Energy$year]/Table5[[#This Row],[SizTB]] -> 1.0153672 | W17: 169.99 | X17: =Table5[[#This Row],[Cost]]/Table5[[#This Row],[SizTB]]*Exchange_Rate -> 28.331667 | Y17: =Table5[[#This Row],[Cost]]+((CompareWarrYrs-Table5[[#This Row],[S]])*(Incremental_Warr_Yr*Table5[[#This Row],[Cost]]))*Exchange_Rate -> 169.99 | Z17: =Table5[[#This Row],[$+Warr]]/Table5[[#This Row],[SizTB]] -> 28.331667 | AA17: =Table5[[#This Row],[$PerTB]]/CompareWarrYrs -> 5.6663333 | AB17: Helium filled
A18: 43050 | B18: HGST | C18: Ultrastar He8 | D18: NAS | E18: 3.5 | F18: 8 | G18: 7200 | H18: 4.16 | I18: 8.5 | J18: =(Table5[[#This Row],[RPM]]/5400-1) -> 0.33333333 | K18: 237 | L18: 5 | M18: 600000 | N18: 550 | O18: 2500000 | P18: 1e+15 | R18: 7.4 | S18: 5.1 | U18: =(((Table5[[#This Row],[Watts Active]]*Power_On_Hours_Year/1000)*Active_Duty_Cycle)+((Table5[[#This Row],[Watts Idle]]*Power_On_Hours_Year/1000)*(100%-Active_Duty_Cycle)))*CostPerKWH -> 6.0922032 | V18: =Table5[Energy$year]/Table5[[#This Row],[SizTB]] -> 0.7615254 | W18: 285 | X18: =Table5[[#This Row],[Cost]]/Table5[[#This Row],[SizTB]]*Exchange_Rate -> 35.625 | Y18: =Table5[[#This Row],[Cost]]+((CompareWarrYrs-Table5[[#This Row],[S]])*(Incremental_Warr_Yr*Table5[[#This Row],[Cost]]))*Exchange_Rate -> 285 | Z18: =Table5[[#This Row],[$+Warr]]/Table5[[#This Row],[SizTB]] -> 35.625 | AA18: =Table5[[#This Row],[$PerTB]]/CompareWarrYrs -> 7.125 | AB18: Helium filled, Media caching
A19: 43005 | B19: HGST | C19: Ultrastar He10 | D19: NAS | E19: 3.5 | F19: 10 | G19: 7200 | H19: 4.16 | I19: 8 | J19: =(Table5[[#This Row],[RPM]]/5400-1) -> 0.33333333 | K19: 237 | L19: 5 | M19: 600000 | N19: 550 | O19: 2500000 | P19: 1e+15 | R19: 6.8 | S19: 5 | U19: =(((Table5[[#This Row],[Watts Active]]*Power_On_Hours_Year/1000)*Active_Duty_Cycle)+((Table5[[#This Row],[Watts Idle]]*Power_On_Hours_Year/1000)*(100%-Active_Duty_Cycle)))*CostPerKWH -> 5.8730592 | V19: =Table5[Energy$year]/Table5[[#This Row],[SizTB]] -> 0.58730592 | W19: 349.99 | X19: =Table5[[#This Row],[Cost]]/Table5[[#This Row],[SizTB]]*Exchange_Rate -> 34.999 | Y19: =Table5[[#This Row],[Cost]]+((CompareWarrYrs-Table5[[#This Row],[S]])*(Incremental_Warr_Yr*Table5[[#This Row],[Cost]]))*Exchange_Rate -> 349.99 | Z19: =Table5[[#This Row],[$+Warr]]/Table5[[#This Row],[SizTB]] -> 34.999 | AA19: =Table5[[#This Row],[$PerTB]]/CompareWarrYrs -> 6.9998 | AB19: Helium filled
A20: 43005 | B20: HGST | C20: Ultrastar He12 | D20: NAS | E20: 3.5 | F20: 12 | G20: 7200 | H20: 4.16 | I20: 8.6 | J20: =(Table5[[#This Row],[RPM]]/5400-1) -> 0.33333333 | K20: 243 | L20: 5 | M20: 600000 | N20: 550 | O20: 2500000 | P20: 1e+15 | R20: 7.2 | S20: 5.3 | U20: =(((Table5[[#This Row],[Watts Active]]*Power_On_Hours_Year/1000)*Active_Duty_Cycle)+((Table5[[#This Row],[Watts Idle]]*Power_On_Hours_Year/1000)*(100%-Active_Duty_Cycle)))*CostPerKWH -> 6.2236896 | V20: =Table5[Energy$year]/Table5[[#This Row],[SizTB]] -> 0.5186408 | W20: 619.98 | X20: =Table5[[#This Row],[Cost]]/Table5[[#This Row],[SizTB]]*Exchange_Rate -> 51.665 | Y20: =Table5[[#This Row],[Cost]]+((CompareWarrYrs-Table5[[#This Row],[S]])*(Incremental_Warr_Yr*Table5[[#This Row],[Cost]]))*Exchange_Rate -> 619.98 | Z20: =Table5[[#This Row],[$+Warr]]/Table5[[#This Row],[SizTB]] -> 51.665 | AA20: =Table5[[#This Row],[$PerTB]]/CompareWarrYrs -> 10.333 | AB20: Helium filled
A21: 43021 | B21: HGST | C21: Ultrastar Hs14 | D21: SMR | E21: 3.5 | F21: 14 | G21: 7200 | H21: 4.16 | I21: 12 | J21: =(Table5[[#This Row],[RPM]]/5400-1) -> 0.33333333 | K21: 223 | L21: 5 | M21: 600000 | N21: 550 | O21: 2500000 | P21: 1e+15 | Q21: =12*1.51+5*0.39 -> 20.07 | R21: 6.4 | S21: 5.2 | T21: 0.8 | U21: =(((Table5[[#This Row],[Watts Active]]*Power_On_Hours_Year/1000)*Active_Duty_Cycle)+((Table5[[#This Row],[Watts Idle]]*Power_On_Hours_Year/1000)*(100%-Active_Duty_Cycle)))*CostPerKWH -> 5.9607168 | V21: =Table5[Energy$year]/Table5[[#This Row],[SizTB]] -> 0.42576549 | X21: =Table5[[#This Row],[Cost]]/Table5[[#This Row],[SizTB]]*Exchange_Rate -> 0 | Y21: =Table5[[#This Row],[Cost]]+((CompareWarrYrs-Table5[[#This Row],[S]])*(Incremental_Warr_Yr*Table5[[#This Row],[Cost]]))*Exchange_Rate -> 0 | Z21: =Table5[[#This Row],[$+Warr]]/Table5[[#This Row],[SizTB]] -> 0 | AA21: =Table5[[#This Row],[$PerTB]]/CompareWarrYrs -> 0 | AB21: Helium filled, Shingled (SMR)
A22: 43064 | B22: Seagate | C22: Archive | D22: SMR | E22: 3.5 | F22: 5 | G22: 5900 | J22: =(Table5[[#This Row],[RPM]]/5400-1) -> 0.092592593 | K22: 180 | L22: 3 | M22: 300000 | N22: 180 | O22: 800000 | P22: =10^14 -> 100000000000000 | Q22: 24 | R22: 5.5 | S22: 3.5 | T22: 0.74 | U22: =(((Table5[[#This Row],[Watts Active]]*Power_On_Hours_Year/1000)*Active_Duty_Cycle)+((Table5[[#This Row],[Watts Idle]]*Power_On_Hours_Year/1000)*(100%-Active_Duty_Cycle)))*CostPerKWH -> 4.273308 | V22: =Table5[Energy$year]/Table5[[#This Row],[SizTB]] -> 0.8546616 | W22: 212 | X22: =Table5[[#This Row],[Cost]]/Table5[[#This Row],[SizTB]]*Exchange_Rate -> 42.4 | Y22: =Table5[[#This Row],[Cost]]+((CompareWarrYrs-Table5[[#This Row],[S]])*(Incremental_Warr_Yr*Table5[[#This Row],[Cost]])) -> 258.64 | Z22: =Table5[[#This Row],[$+Warr]]/Table5[[#This Row],[SizTB]] -> 51.728 | AA22: =Table5[[#This Row],[$PerTB]]/CompareWarrYrs -> 10.3456
A23: 43064 | B23: Seagate | C23: Archive | D23: SMR | E23: 3.5 | F23: 6 | G23: 5900 | J23: =(Table5[[#This Row],[RPM]]/5400-1) -> 0.092592593 | K23: 190 | L23: 3 | M23: 300000 | N23: 180 | O23: 800000 | P23: =10^14 -> 100000000000000 | Q23: 24 | R23: 7.5 | S23: 5 | T23: 0.999 | U23: =(((Table5[[#This Row],[Watts Active]]*Power_On_Hours_Year/1000)*Active_Duty_Cycle)+((Table5[[#This Row],[Watts Idle]]*Power_On_Hours_Year/1000)*(100%-Active_Duty_Cycle)))*CostPerKWH -> 6.02646 | V23: =Table5[Energy$year]/Table5[[#This Row],[SizTB]] -> 1.00441 | W23: 194.79 | X23: =Table5[[#This Row],[Cost]]/Table5[[#This Row],[SizTB]]*Exchange_Rate -> 32.465 | Y23: =Table5[[#This Row],[Cost]]+((CompareWarrYrs-Table5[[#This Row],[S]])*(Incremental_Warr_Yr*Table5[[#This Row],[Cost]])) -> 237.6438 | Z23: =Table5[[#This Row],[$+Warr]]/Table5[[#This Row],[SizTB]] -> 39.6073 | AA23: =Table5[[#This Row],[$PerTB]]/CompareWarrYrs -> 7.92146
A24: 43064 | B24: Seagate | C24: Archive | D24: SMR | E24: 3.5 | F24: 8 | G24: 5900 | J24: =(Table5[[#This Row],[RPM]]/5400-1) -> 0.092592593 | K24: 190 | L24: 3 | M24: 300000 | N24: 180 | O24: 800000 | P24: =10^14 -> 100000000000000 | Q24: 24 | R24: 7.5 | S24: 5 | T24: 0.999 | U24: =(((Table5[[#This Row],[Watts Active]]*Power_On_Hours_Year/1000)*Active_Duty_Cycle)+((Table5[[#This Row],[Watts Idle]]*Power_On_Hours_Year/1000)*(100%-Active_Duty_Cycle)))*CostPerKWH -> 6.02646 | V24: =Table5[Energy$year]/Table5[[#This Row],[SizTB]] -> 0.7533075 | W24: 229.99 | X24: =Table5[[#This Row],[Cost]]/Table5[[#This Row],[SizTB]]*Exchange_Rate -> 28.74875 | Y24: =Table5[[#This Row],[Cost]]+((CompareWarrYrs-Table5[[#This Row],[S]])*(Incremental_Warr_Yr*Table5[[#This Row],[Cost]])) -> 280.5878 | Z24: =Table5[[#This Row],[$+Warr]]/Table5[[#This Row],[SizTB]] -> 35.073475 | AA24: =Table5[[#This Row],[$PerTB]]/CompareWarrYrs -> 7.014695
A25: 43050 | B25: Seagate | C25: BarraCuda | D25: DT | E25: 3.5 | F25: 1 | G25: 7200 | H25: 4.16 | I25: 9.5 | J25: =(Table5[[#This Row],[RPM]]/5400-1) -> 0.33333333 | K25: 156 | L25: 2 | M25: 300000 | N25: 55 | P25: =10^14 -> 100000000000000 | Q25: 24 | R25: 5.3 | S25: 4.6 | T25: 0.94 | U25: =(((Table5[[#This Row],[Watts Active]]*Power_On_Hours_Year/1000)*Active_Duty_Cycle)+((Table5[[#This Row],[Watts Idle]]*Power_On_Hours_Year/1000)*(100%-Active_Duty_Cycle)))*CostPerKWH -> 5.1937128 | V25: =Table5[Energy$year]/Table5[[#This Row],[SizTB]] -> 5.1937128 | W25: 46.99 | X25: =Table5[[#This Row],[Cost]]/Table5[[#This Row],[SizTB]]*Exchange_Rate -> 46.99 | Y25: =Table5[[#This Row],[Cost]]+((CompareWarrYrs-Table5[[#This Row],[S]])*(Incremental_Warr_Yr*Table5[[#This Row],[Cost]]))*Exchange_Rate -> 62.4967 | Z25: =Table5[[#This Row],[$+Warr]]/Table5[[#This Row],[SizTB]] -> 62.4967 | AA25: =Table5[[#This Row],[$PerTB]]/CompareWarrYrs -> 12.49934
A26: 43060 | B26: Seagate | C26: BarraCuda | D26: DT | E26: 3.5 | F26: 2 | G26: 7200 | H26: 6 | I26: 9.5 | J26: =(Table5[[#This Row],[RPM]]/5400-1) -> 0.33333333 | K26: 156 | L26: 2 | M26: 300000 | N26: 55 | P26: =10^14 -> 100000000000000 | Q26: =2.5*12 -> 30 | R26: 8 | S26: 5.4 | T26: 0.75 | U26: =(((Table5[[#This Row],[Watts Active]]*Power_On_Hours_Year/1000)*Active_Duty_Cycle)+((Table5[[#This Row],[Watts Idle]]*Power_On_Hours_Year/1000)*(100%-Active_Duty_Cycle)))*CostPerKWH -> 6.4866624 | V26: =Table5[Energy$year]/Table5[[#This Row],[SizTB]] -> 3.2433312 | W26: 54.99 | X26: =Table5[[#This Row],[Cost]]/Table5[[#This Row],[SizTB]]*Exchange_Rate -> 27.495 | Y26: =Table5[[#This Row],[Cost]]+((CompareWarrYrs-Table5[[#This Row],[S]])*(Incremental_Warr_Yr*Table5[[#This Row],[Cost]]))*Exchange_Rate -> 73.1367 | Z26: =Table5[[#This Row],[$+Warr]]/Table5[[#This Row],[SizTB]] -> 36.56835 | AA26: =Table5[[#This Row],[$PerTB]]/CompareWarrYrs -> 7.31367
A27: 43050 | B27: Seagate | C27: BarraCuda | D27: DT | E27: 3.5 | F27: 3 | G27: 7200 | H27: 6 | I27: 9.5 | J27: =(Table5[[#This Row],[RPM]]/5400-1) -> 0.33333333 | K27: 156 | L27: 2 | M27: 300000 | N27: 55 | P27: =10^14 -> 100000000000000 | Q27: =2.5*12 -> 30 | R27: 8 | S27: 5.4 | T27: 0.75 | U27: =(((Table5[[#This Row],[Watts Active]]*Power_On_Hours_Year/1000)*Active_Duty_Cycle)+((Table5[[#This Row],[Watts Idle]]*Power_On_Hours_Year/1000)*(100%-Active_Duty_Cycle)))*CostPerKWH -> 6.4866624 | V27: =Table5[Energy$year]/Table5[[#This Row],[SizTB]] -> 2.1622208 | W27: 69.99 | X27: =Table5[[#This Row],[Cost]]/Table5[[#This Row],[SizTB]]*Exchange_Rate -> 23.33 | Y27: =Table5[[#This Row],[Cost]]+((CompareWarrYrs-Table5[[#This Row],[S]])*(Incremental_Warr_Yr*Table5[[#This Row],[Cost]]))*Exchange_Rate -> 93.0867 | Z27: =Table5[[#This Row],[$+Warr]]/Table5[[#This Row],[SizTB]] -> 31.0289 | AA27: =Table5[[#This Row],[$PerTB]]/CompareWarrYrs -> 6.20578
A28: 43050 | B28: Seagate | C28: BarraCuda | D28: DT | E28: 3.5 | F28: 4 | G28: 7200 | H28: 6 | I28: 9.5 | J28: =(Table5[[#This Row],[RPM]]/5400-1) -> 0.33333333 | K28: 190 | L28: 2 | M28: 300000 | N28: 55 | P28: =10^14 -> 100000000000000 | Q28: 24 | R28: 5 | S28: 2.5 | T28: 0.25 | U28: =(((Table5[[#This Row],[Watts Active]]*Power_On_Hours_Year/1000)*Active_Duty_Cycle)+((Table5[[#This Row],[Watts Idle]]*Power_On_Hours_Year/1000)*(100%-Active_Duty_Cycle)))*CostPerKWH -> 3.28716 | V28: =Table5[Energy$year]/Table5[[#This Row],[SizTB]] -> 0.82179 | W28: 99.99 | X28: =Table5[[#This Row],[Cost]]/Table5[[#This Row],[SizTB]]*Exchange_Rate -> 24.9975 | Y28: =Table5[[#This Row],[Cost]]+((CompareWarrYrs-Table5[[#This Row],[S]])*(Incremental_Warr_Yr*Table5[[#This Row],[Cost]]))*Exchange_Rate -> 132.9867 | Z28: =Table5[[#This Row],[$+Warr]]/Table5[[#This Row],[SizTB]] -> 33.246675 | AA28: =Table5[[#This Row],[$PerTB]]/CompareWarrYrs -> 6.649335
A29: 43019 | B29: Seagate | C29: BarraCuda | D29: LT | E29: 2.5 | F29: 1 | G29: 5400 | J29: =(Table5[[#This Row],[RPM]]/5400-1) -> 0 | K29: 140 | L29: 2 | M29: 600000 | P29: =10^14 -> 100000000000000 | Q29: =1*5 -> 5 | R29: 1.7 | S29: 0.45 | U29: =(((Table5[[#This Row],[Watts Active]]*Power_On_Hours_Year/1000)*Active_Duty_Cycle)+((Table5[[#This Row],[Watts Idle]]*Power_On_Hours_Year/1000)*(100%-Active_Duty_Cycle)))*CostPerKWH -> 0.767004 | V29: =Table5[Energy$year]/Table5[[#This Row],[SizTB]] -> 0.767004 | W29: 49.99 | X29: =Table5[[#This Row],[Cost]]/Table5[[#This Row],[SizTB]]*Exchange_Rate -> 49.99 | Y29: =Table5[[#This Row],[Cost]]+((CompareWarrYrs-Table5[[#This Row],[S]])*(Incremental_Warr_Yr*Table5[[#This Row],[Cost]]))*Exchange_Rate -> 66.4867 | Z29: =Table5[[#This Row],[$+Warr]]/Table5[[#This Row],[SizTB]] -> 66.4867 | AA29: =Table5[[#This Row],[$PerTB]]/CompareWarrYrs -> 13.29734
A30: 43019 | B30: Seagate | C30: BarraCuda | D30: LT | E30: 2.5 | F30: 2 | G30: 5400 | J30: =(Table5[[#This Row],[RPM]]/5400-1) -> 0 | K30: 140 | L30: 2 | M30: 600000 | P30: =10^14 -> 100000000000000 | Q30: =1*5 -> 5 | R30: 1.8 | S30: 0.5 | U30: =(((Table5[[#This Row],[Watts Active]]*Power_On_Hours_Year/1000)*Active_Duty_Cycle)+((Table5[[#This Row],[Watts Idle]]*Power_On_Hours_Year/1000)*(100%-Active_Duty_Cycle)))*CostPerKWH -> 0.8327472 | V30: =Table5[Energy$year]/Table5[[#This Row],[SizTB]] -> 0.4163736 | W30: 66.99 | X30: =Table5[[#This Row],[Cost]]/Table5[[#This Row],[SizTB]]*Exchange_Rate -> 33.495 | Y30: =Table5[[#This Row],[Cost]]+((CompareWarrYrs-Table5[[#This Row],[S]])*(Incremental_Warr_Yr*Table5[[#This Row],[Cost]]))*Exchange_Rate -> 89.0967 | Z30: =Table5[[#This Row],[$+Warr]]/Table5[[#This Row],[SizTB]] -> 44.54835 | AA30: =Table5[[#This Row],[$PerTB]]/CompareWarrYrs -> 8.90967
A31: 43019 | B31: Seagate | C31: BarraCuda | D31: LT | E31: 2.5 | F31: 3 | G31: 5400 | J31: =(Table5[[#This Row],[RPM]]/5400-1) -> 0 | K31: 140 | L31: 2 | M31: 600000 | P31: =10^14 -> 100000000000000 | Q31: =1.2*5 -> 6 | R31: 2.1 | S31: 1.1 | U31: =(((Table5[[#This Row],[Watts Active]]*Power_On_Hours_Year/1000)*Active_Duty_Cycle)+((Table5[[#This Row],[Watts Idle]]*Power_On_Hours_Year/1000)*(100%-Active_Duty_Cycle)))*CostPerKWH -> 1.424436 | V31: =Table5[Energy$year]/Table5[[#This Row],[SizTB]] -> 0.474812 | W31: 89.99 | X31: =Table5[[#This Row],[Cost]]/Table5[[#This Row],[SizTB]]*Exchange_Rate -> 29.996667 | Y31: =Table5[[#This Row],[Cost]]+((CompareWarrYrs-Table5[[#This Row],[S]])*(Incremental_Warr_Yr*Table5[[#This Row],[Cost]]))*Exchange_Rate -> 119.6867 | Z31: =Table5[[#This Row],[$+Warr]]/Table5[[#This Row],[SizTB]] -> 39.895567 | AA31: =Table5[[#This Row],[$PerTB]]/CompareWarrYrs -> 7.9791133
A32: 43019 | B32: Seagate | C32: BarraCuda | D32: LT | E32: 2.5 | F32: 4 | G32: 5400 | J32: =(Table5[[#This Row],[RPM]]/5400-1) -> 0 | K32: 140 | L32: 2 | M32: 600000 | P32: =10^14 -> 100000000000000 | Q32: =1.2*5 -> 6 | R32: 2.1 | S32: 1.1 | U32: =(((Table5[[#This Row],[Watts Active]]*Power_On_Hours_Year/1000)*Active_Duty_Cycle)+((Table5[[#This Row],[Watts Idle]]*Power_On_Hours_Year/1000)*(100%-Active_Duty_Cycle)))*CostPerKWH -> 1.424436 | V32: =Table5[Energy$year]/Table5[[#This Row],[SizTB]] -> 0.356109 | W32: 114.99 | X32: =Table5[[#This Row],[Cost]]/Table5[[#This Row],[SizTB]]*Exchange_Rate -> 28.7475 | Y32: =Table5[[#This Row],[Cost]]+((CompareWarrYrs-Table5[[#This Row],[S]])*(Incremental_Warr_Yr*Table5[[#This Row],[Cost]]))*Exchange_Rate -> 152.9367 | Z32: =Table5[[#This Row],[$+Warr]]/Table5[[#This Row],[SizTB]] -> 38.234175 | AA32: =Table5[[#This Row],[$PerTB]]/CompareWarrYrs -> 7.646835
A33: 43053 | B33: Seagate | C33: BarraCuda | D33: LT | E33: 2.5 | F33: 5 | G33: 5400 | J33: =(Table5[[#This Row],[RPM]]/5400-1) -> 0 | K33: 140 | L33: 2 | M33: 600000 | P33: =10^14 -> 100000000000000 | Q33: =1.2*5 -> 6 | R33: 2.1 | S33: 1.1 | U33: =(((Table5[[#This Row],[Watts Active]]*Power_On_Hours_Year/1000)*Active_Duty_Cycle)+((Table5[[#This Row],[Watts Idle]]*Power_On_Hours_Year/1000)*(100%-Active_Duty_Cycle)))*CostPerKWH -> 1.424436 | V33: =Table5[Energy$year]/Table5[[#This Row],[SizTB]] -> 0.2848872 | W33: 209.99 | X33: =Table5[[#This Row],[Cost]]/Table5[[#This Row],[SizTB]]*Exchange_Rate -> 41.998 | Y33: =Table5[[#This Row],[Cost]]+((CompareWarrYrs-Table5[[#This Row],[S]])*(Incremental_Warr_Yr*Table5[[#This Row],[Cost]]))*Exchange_Rate -> 279.2867 | Z33: =Table5[[#This Row],[$+Warr]]/Table5[[#This Row],[SizTB]] -> 55.85734 | AA33: =Table5[[#This Row],[$PerTB]]/CompareWarrYrs -> 11.171468
A34: 43019 | B34: Seagate | C34: BarraCuda Pro | D34: DT | E34: 3.5 | F34: 2 | G34: 7200 | H34: 4.16 | J34: =(Table5[[#This Row],[RPM]]/5400-1) -> 0.33333333 | K34: 195 | L34: 5 | M34: 600000 | N34: 180 | P34: 1e+15 | Q34: 24 | R34: 7.5 | S34: 4.5 | T34: 0.8 | U34: =(((Table5[[#This Row],[Watts Active]]*Power_On_Hours_Year/1000)*Active_Duty_Cycle)+((Table5[[#This Row],[Watts Idle]]*Power_On_Hours_Year/1000)*(100%-Active_Duty_Cycle)))*CostPerKWH -> 5.588172 | V34: =Table5[Energy$year]/Table5[[#This Row],[SizTB]] -> 2.794086 | W34: 127.99 | X34: =Table5[[#This Row],[Cost]]/Table5[[#This Row],[SizTB]]*Exchange_Rate -> 63.995 | Y34: =Table5[[#This Row],[Cost]]+((CompareWarrYrs-Table5[[#This Row],[S]])*(Incremental_Warr_Yr*Table5[[#This Row],[Cost]]))*Exchange_Rate -> 127.99 | Z34: =Table5[[#This Row],[$+Warr]]/Table5[[#This Row],[SizTB]] -> 63.995 | AA34: =Table5[[#This Row],[$PerTB]]/CompareWarrYrs -> 12.799
A35: 43019 | B35: Seagate | C35: BarraCuda Pro | D35: DT | E35: 3.5 | F35: 4 | G35: 7200 | H35: 4.16 | J35: =(Table5[[#This Row],[RPM]]/5400-1) -> 0.33333333 | K35: 214 | L35: 5 | M35: 600000 | N35: 180 | P35: 1e+15 | Q35: 24 | R35: 6.7 | S35: 6 | T35: 0.6 | U35: =(((Table5[[#This Row],[Watts Active]]*Power_On_Hours_Year/1000)*Active_Duty_Cycle)+((Table5[[#This Row],[Watts Idle]]*Power_On_Hours_Year/1000)*(100%-Active_Duty_Cycle)))*CostPerKWH -> 6.7277208 | V35: =Table5[Energy$year]/Table5[[#This Row],[SizTB]] -> 1.6819302 | W35: 174.99 | X35: =Table5[[#This Row],[Cost]]/Table5[[#This Row],[SizTB]]*Exchange_Rate -> 43.7475 | Y35: =Table5[[#This Row],[Cost]]+((CompareWarrYrs-Table5[[#This Row],[S]])*(Incremental_Warr_Yr*Table5[[#This Row],[Cost]]))*Exchange_Rate -> 174.99 | Z35: =Table5[[#This Row],[$+Warr]]/Table5[[#This Row],[SizTB]] -> 43.7475 | AA35: =Table5[[#This Row],[$PerTB]]/CompareWarrYrs -> 8.7495
A36: 43019 | B36: Seagate | C36: BarraCuda Pro | D36: DT | E36: 3.5 | F36: 6 | G36: 7200 | H36: 4.16 | J36: =(Table5[[#This Row],[RPM]]/5400-1) -> 0.33333333 | K36: 180 | L36: 5 | M36: 300000 | N36: 300 | P36: 1e+15 | Q36: 24 | R36: 9 | S36: 7.2 | T36: 0.6 | U36: =(((Table5[[#This Row],[Watts Active]]*Power_On_Hours_Year/1000)*Active_Duty_Cycle)+((Table5[[#This Row],[Watts Idle]]*Power_On_Hours_Year/1000)*(100%-Active_Duty_Cycle)))*CostPerKWH -> 8.2836432 | V36: =Table5[Energy$year]/Table5[[#This Row],[SizTB]] -> 1.3806072 | W36: 249.99 | X36: =Table5[[#This Row],[Cost]]/Table5[[#This Row],[SizTB]]*Exchange_Rate -> 41.665 | Y36: =Table5[[#This Row],[Cost]]+((CompareWarrYrs-Table5[[#This Row],[S]])*(Incremental_Warr_Yr*Table5[[#This Row],[Cost]]))*Exchange_Rate -> 249.99 | Z36: =Table5[[#This Row],[$+Warr]]/Table5[[#This Row],[SizTB]] -> 41.665 | AA36: =Table5[[#This Row],[$PerTB]]/CompareWarrYrs -> 8.333
A37: 43019 | B37: Seagate | C37: BarraCuda Pro | D37: DT | E37: 3.5 | F37: 8 | G37: 7200 | H37: 4.16 | J37: =(Table5[[#This Row],[RPM]]/5400-1) -> 0.33333333 | K37: 220 | L37: 5 | M37: 300000 | N37: 300 | P37: 1e+15 | Q37: =12*2 -> 24 | R37: 6.8 | S37: 4.5 | T37: 0.8 | U37: =(((Table5[[#This Row],[Watts Active]]*Power_On_Hours_Year/1000)*Active_Duty_Cycle)+((Table5[[#This Row],[Watts Idle]]*Power_On_Hours_Year/1000)*(100%-Active_Duty_Cycle)))*CostPerKWH -> 5.4347712 | V37: =Table5[Energy$year]/Table5[[#This Row],[SizTB]] -> 0.6793464 | W37: 324.99 | X37: =Table5[[#This Row],[Cost]]/Table5[[#This Row],[SizTB]]*Exchange_Rate -> 40.62375 | Y37: =Table5[[#This Row],[Cost]]+((CompareWarrYrs-Table5[[#This Row],[S]])*(Incremental_Warr_Yr*Table5[[#This Row],[Cost]]))*Exchange_Rate -> 324.99 | Z37: =Table5[[#This Row],[$+Warr]]/Table5[[#This Row],[SizTB]] -> 40.62375 | AA37: =Table5[[#This Row],[$PerTB]]/CompareWarrYrs -> 8.12475
A38: 43019 | B38: Seagate | C38: BarraCuda Pro | D38: DT | E38: 3.5 | F38: 10 | G38: 7200 | H38: 4.16 | J38: =(Table5[[#This Row],[RPM]]/5400-1) -> 0.33333333 | K38: 220 | L38: 5 | M38: 300000 | N38: 300 | P38: 1e+15 | Q38: =12*1.8 -> 21.6 | R38: 6.8 | S38: 4.5 | T38: 0.8 | U38: =(((Table5[[#This Row],[Watts Active]]*Power_On_Hours_Year/1000)*Active_Duty_Cycle)+((Table5[[#This Row],[Watts Idle]]*Power_On_Hours_Year/1000)*(100%-Active_Duty_Cycle)))*CostPerKWH -> 5.4347712 | V38: =Table5[Energy$year]/Table5[[#This Row],[SizTB]] -> 0.54347712 | W38: 424.99 | X38: =Table5[[#This Row],[Cost]]/Table5[[#This Row],[SizTB]]*Exchange_Rate -> 42.499 | Y38: =Table5[[#This Row],[Cost]]+((CompareWarrYrs-Table5[[#This Row],[S]])*(Incremental_Warr_Yr*Table5[[#This Row],[Cost]]))*Exchange_Rate -> 424.99 | Z38: =Table5[[#This Row],[$+Warr]]/Table5[[#This Row],[SizTB]] -> 42.499 | AA38: =Table5[[#This Row],[$PerTB]]/CompareWarrYrs -> 8.4998
A39: 43044 | B39: Seagate | C39: BarraCuda Pro | D39: DT | E39: 3.5 | F39: 12 | G39: 7200 | J39: =(Table5[[#This Row],[RPM]]/5400-1) -> 0.33333333 | K39: 250 | L39: 5 | M39: 300000 | N39: 300 | W39: 519.99 | X39: =Table5[[#This Row],[Cost]]/Table5[[#This Row],[SizTB]]*Exchange_Rate -> 43.3325 | Y39: =Table5[[#This Row],[Cost]]+((CompareWarrYrs-Table5[[#This Row],[S]])*(Incremental_Warr_Yr*Table5[[#This Row],[Cost]]))*Exchange_Rate -> 519.99 | Z39: =Table5[[#This Row],[$+Warr]]/Table5[[#This Row],[SizTB]] -> 43.3325 | AA39: =Table5[[#This Row],[$PerTB]]/CompareWarrYrs -> 8.6665
A40: 43027 | B40: Seagate | C40: Exos 10E2400 | D40: NAS | E40: 2.5 | F40: 1.8 | G40: 10500 | H40: 2.9 | J40: =(Table5[[#This Row],[RPM]]/5400-1) -> 0.94444444 | K40: 270 | L40: 5 | N40: 550 | O40: 2000000 | P40: 1e+16 | R40: 6.95 | S40: 4.26 | U40: =(((Table5[[#This Row],[Watts Active]]*Power_On_Hours_Year/1000)*Active_Duty_Cycle)+((Table5[[#This Row],[Watts Idle]]*Power_On_Hours_Year/1000)*(100%-Active_Duty_Cycle)))*CostPerKWH -> 5.2572646 | V40: =Table5[Energy$year]/Table5[[#This Row],[SizTB]] -> 2.9207025 | X40: =Table5[[#This Row],[Cost]]/Table5[[#This Row],[SizTB]]*Exchange_Rate -> 0 | Y40: =Table5[[#This Row],[Cost]]+((CompareWarrYrs-Table5[[#This Row],[S]])*(Incremental_Warr_Yr*Table5[[#This Row],[Cost]]))*Exchange_Rate -> 0 | Z40: =Table5[[#This Row],[$+Warr]]/Table5[[#This Row],[SizTB]] -> 0 | AA40: =Table5[[#This Row],[$PerTB]]/CompareWarrYrs -> 0 | AB40: 16GiB NAND
...

Sheet Tables
A2: Type | B2: NAS
A3: FormFactor | B3: 3.5
A4: NAS Drives Avg Cost By Size Per Year
A5: Row Labels | B5: Average of $ TB/year
A6: 0.9 | B6: 0
A7: 1 | B7: 13.38696
A8: 2 | B8: 14.578945
A9: 3 | B9: 7.9291867
A10: 4 | B10: 8.8935839
A11: 5 | B11: 12.032
A12: 6 | B12: 7.7857242
A13: 8 | B13: 7.4468315
A14: 10 | B14: 6.7123085
A15: 12 | B15: 8.8520593
A16: Avg By Size | B16: 9.2065743
A20: Type | B20: NAS
A21: FormFactor | B21: 3.5
A22: Avg Energy Cost by Size per TB per Year
A23: Row Labels | B23: Cost per TB per year
A24: 0.9 | B24: 7.4021973
A25: 1 | B25: 3.5444351
A26: 2 | B26: 2.496598
A27: 3 | B27: 1.789676
A28: 4 | B28: 1.6106475
A29: 5 | B29: 1.2359722
A30: 6 | B30: 1.199747
A31: 8 | B31: 0.85959234
A32: 10 | B32: 0.57497907
A33: 12 | B33: 0.50695312
A34: Average | B34: 1.5542209
A38: Type | B38: NAS
A39: FormFactor | B39: 3.5
A40: Avg Energy Cost by Size per Year
A41: Row Labels | B41: Average of Energy$year
A42: 0.9 | B42: 6.6619776
A43: 1 | B43: 3.5444351
A44: 2 | B44: 4.993196
A45: 3 | B45: 5.369028
A46: 4 | B46: 6.4425901
A47: 5 | B47: 6.1798608
...

Sheet Charts
A1: These are incomplete at this time…

Sheet Database
A1: Date | B1: Manu | C1: Model | D1: Type | E1: SizTB | F1: RPM | G1: AvgLatency | H1: SeekT | I1: PerfCmp | J1: XferRate | K1: Warnty | L1: CycleCnt | M1: WorkLoad | N1: MTBF | O1: RErrRate | P1: MaxStartupWatts | Q1: Watts Active | R1: Watts Idle | S1: WattsStandby | T1: Cost | U1: $ TB | V1: $+Warr | W1: $PerTB | X1: $ TB/year | Y1: Comp $/Perf/Size | Z1: Energy$year | AA1: Energy$yearPerTB | AB1: Notes
D2: NAS | E2: 10 | T2: >100
A4: =DVAR('Drive Table'!$A$2:$AB$125,"Cost",$A$1:$AB$2) -> 2396.7261 | B4: Mean
A5: =DAVERAGE('Drive Table'!$A$2:$AB$125,"Cost",$A$1:$AB$2) -> 356.9625 | B5: Avg
A6: =DMIN('Drive Table'!$A$2:$AB$125,"Cost",$A$1:$AB$2) -> 299.99 | B6: Min
A7: =DMAX('Drive Table'!$A$2:$AB$125,"Cost",$A$1:$AB$2) -> 440.77 | B7: Max
A8: =DCOUNTA('Drive Table'!$A$2:$AB$125,"Cost",$A$1:$AB$2) -> 8 | B8: Qty
