Workbook
Name Active_Duty_Cycle: 'Drive Table'!$D$136
Name CompareWarrYrs: 'Drive Table'!$D$137
Name CostPerKWH: 'Drive Table'!$D$135
Name Day_in_Year: 'Drive Table'!$D$143
Name Days_In_Month: 'Drive Table'!$D$142
Name Days_in_Year: 'Drive Table'!$D$143
Name Exchange_Rate: 'Drive Table'!$D$145
Name Hours_In_Day: 'Drive Table'!$D$140
Name Hours_In_Month: 'Drive Table'!$D$141
Name Incremental_Warr_Yr: 'Drive Table'!$D$138
Name Months_In_Year: 'Drive Table'!$D$144
Name Power_On_Hours_Year: 'Drive Table'!$D$139

Sheet Drive Table
A1: SPECIFICATIONS | G1: PERFORMANCE | L1: DURABILITY | Q1: POWER USAGE | W1: ACTUAL COST | Y1: Warranty_Normalized_Computed
A2: Date | B2: Manu | C2: Model | D2: Type | E2: FormFactor | F2: SizTB | G2: RPM | H2: AvgLatency | I2: SeekT | J2: PerfCmp | K2: XferRate | L2: S | M2: CycleCnt | N2: WorkLoad | O2: MTBF | P2: RErrRate | Q2: MaxStartupWatts | R2: Watts Active | S2: Watts Idle | T2: WattsStandby | U2: Energy$year | V2: Energy$yearPerTB | W2: Cost | X2: $ TB | Y2: $+Warr | Z2: $PerTB | AA2: $ TB/year | AB2: Notes
A3: 43036 | B3: HGST | C3: Deskstar NAS | D3: NAS | E3: 3.5 | F3: 4 | G3: 7200 | I3: 11.99 | J3: =(Table5[[#This Row],[RPM]]/5400-1) -> 0.33333333 | K3: 202 | L3: 3 | M3: 600000 | O3: 1000000 | P3: =10^14 -> 100000000000000 | Q3: =1.2*5+2*12 -> 30 | S3: 7.3 | W3: =219.99/2 -> 109.995 | X3: =Table5[[#This Row],[Cost]]/Table5[[#This Row],[SizTB]]*Exchange_Rate -> 27.49875 | Y3: =Table5[[#This Row],[Cost]]+((CompareWarrYrs-Table5[[#This Row],[S]])*(Incremental_Warr_Yr*Table5[[#This Row],[Cost]]))*Exchange_Rate -> 134.1939 | Z3: =Table5[[#This Row],[$+Warr]]/Table5[[#This Row],[SizTB]] -> 33.548475 | AA3: =Table5[[#This Row],[$PerTB]]/CompareWarrYrs -> 6.709695 | AB3: Enterprise HGST drives are now
A4: 43060 | B4: HGST | C4: Deskstar NAS | D4: NAS | E4: 3.5 | F4: 6 | G4: 7200 | I4: 11.99 | J4: =(Table5[[#This Row],[RPM]]/5400-1) -> 0.33333333 | K4: 227 | L4: 3 | M4: 600000 | O4: 1000000 | P4: =10^14 -> 100000000000000 | Q4: =1.2*5+2*12 -> 30 | S4: 7.3 | W4: 159.99 | X4: =Table5[[#This Row],[Cost]]/Table5[[#This Row],[SizTB]]*Exchange_Rate -> 26.665 | Y4: =Table5[[#This Row],[Cost]]+((CompareWarrYrs-Table5[[#This Row],[S]])*(Incremental_Warr_Yr*Table5[[#This Row],[Cost]]))*Exchange_Rate -> 195.1878 | Z4: =Table5[[#This Row],[$+Warr]]/Table5[[#This Row],[SizTB]] -> 32.5313 | AA4: =Table5[[#This Row],[$PerTB]]/CompareWarrYrs -> 6.50626 | AB4: owned by WD
A5: 43041 | B5: HGST | C5: Deskstar NAS | D5: NAS | E5: 3.5 | F5: 8 | G5: 7200 | I5: 11.99 | J5: =(Table5[[#This Row],[RPM]]/5400-1) -> 0.33333333 | K5: 205 | L5: 3 | M5: 600000 | O5: 1000000 | P5: =10^14 -> 100000000000000 | Q5: =1.2*5+2*12 -> 30 | S5: 5.1 | W5: 229.99 | X5: =Table5[[#This Row],[Cost]]/Table5[[#This Row],[SizTB]]*Exchange_Rate -> 28.74875 | Y5: =Table5[[#This Row],[Cost]]+((CompareWarrYrs-Table5[[#This Row],[S]])*(Incremental_Warr_Yr*Table5[[#This Row],[Cost]]))*Exchange_Rate -> 280.5878 | Z5: =Table5[[#This Row],[$+Warr]]/Table5[[#This Row],[SizTB]] -> 35.073475 | AA5: =Table5[[#This Row],[$PerTB]]/CompareWarrYrs -> 7.014695
A6: 43043 | B6: HGST | C6: Deskstar NAS | D6: NAS | E6: 3.5 | F6: 10 | G6: 7200 | I6: 11.99 | J6: =(Table5[[#This Row],[RPM]]/5400-1) -> 0.33333333 | K6: 240 | L6: 3 | M6: 600000 | O6: 1000000 | P6: =10^14 -> 100000000000000 | Q6: =1.2*5+2*12 -> 30 | S6: 5.1 | W6: 299.99 | X6: =Table5[[#This Row],[Cost]]/Table5[[#This Row],[SizTB]]*Exchange_Rate -> 29.999 | Y6: =Table5[[#This Row],[Cost]]+((CompareWarrYrs-Table5[[#This Row],[S]])*(Incremental_Warr_Yr*Table5[[#This Row],[Cost]]))*Exchange_Rate -> 365.9878 | Z6: =Table5[[#This Row],[$+Warr]]/Table5[[#This Row],[SizTB]] -> 36.59878 | AA6: =Table5[[#This Row],[$PerTB]]/CompareWarrYrs -> 7.319756
A7: 43005 | B7: HGST | C7: Travelstar 5K100 | D7: LT | E7: 2.5 | F7: 1 | G7: 5400 | H7: 5.5 | I7: 12 | J7: =(Table5[[#This Row],[RPM]]/5400-1) -> 0 | K7: 99 | L7: 3 | M7: 600000 | Q7: 4.5 | R7: 1.6 | S7: 0.8 | T7: 0.2 | U7: =(((Table5[[#This Row],[Watts Active]]*Power_On_Hours_Year/1000)*Active_Duty_Cycle)+((Table5[[#This Row],[Watts Idle]]*Power_On_Hours_Year/1000)*(100%-Active_Duty_Cycle)))*CostPerKWH -> 1.0518912 | V7: =Table5[Energy$year]/Table5[[#This Row],[SizTB]] -> 1.0518912 | W7: 49.99 | X7: =Table5[[#This Row],[Cost]]/Table5[[#This Row],[SizTB]]*Exchange_Rate -> 49.99 | Y7: =Table5[[#This Row],[Cost]]+((CompareWarrYrs-Table5[[#This Row],[S]])*(Incremental_Warr_Yr*Table5[[#This Row],[Cost]]))*Exchange_Rate -> 60.9878 | Z7: =Table5[[#This Row],[$+Warr]]/Table5[[#This Row],[SizTB]] -> 60.9878 | AA7: =Table5[[#This Row],[$PerTB]]/CompareWarrYrs -> 12.19756
A8: 43058 | B8: HGST | C8: Travelstar 7K100 | D8: LT | E8: 2.5 | F8: 1 | G8: 7200 | H8: 4.2 | I8: 12 | J8: =(Table5[[#This Row],[RPM]]/5400-1) -> 0.33333333 | K8: 128 | L8: 3 | M8: 600000 | Q8: 5.5 | R8: 2.7 | S8: 2 | T8: 0.2 | U8: =(((Table5[[#This Row],[Watts Active]]*Power_On_Hours_Year/1000)*Active_Duty_Cycle)+((Table5[[#This Row],[Watts Idle]]*Power_On_Hours_Year/1000)*(100%-Active_Duty_Cycle)))*CostPerKWH -> 2.3448408 | V8: =Table5[Energy$year]/Table5[[#This Row],[SizTB]] -> 2.3448408 | W8: 49.99 | X8: =Table5[[#This Row],[Cost]]/Table5[[#This Row],[SizTB]]*Exchange_Rate -> 49.99 | Y8: =Table5[[#This Row],[Cost]]+((CompareWarrYrs-Table5[[#This Row],[S]])*(Incremental_Warr_Yr*Table5[[#This Row],[Cost]]))*Exchange_Rate -> 60.9878 | Z8: =Table5[[#This Row],[$+Warr]]/Table5[[#This Row],[SizTB]] -> 60.9878 | AA8: =Table5[[#This Row],[$PerTB]]/CompareWarrYrs -> 12.19756
A9: 43053 | B9: HGST | C9: Ultrastar 7K600 | D9: NAS | E9: 3.5 | F9: 2 | G9: 7200 | H9: 4.16 | I9: 8 | J9: =(Table5[[#This Row],[RPM]]/5400-1) -> 0.33333333 | K9: 192 | L9: 5 | M9: 600000 | O9: 2000000 | P9: 1e+15 | R9: 9.1 | S9: 7.1 | U9: =(((Table5[[#This Row],[Watts Active]]*Power_On_Hours_Year/1000)*Active_Duty_Cycle)+((Table5[[#This Row],[Watts Idle]]*Power_On_Hours_Year/1000)*(100%-Active_Duty_Cycle)))*CostPerKWH -> 8.2179 | V9: =Table5[Energy$year]/Table5[[#This Row],[SizTB]] -> 4.10895 | W9: 146.38 | X9: =Table5[[#This Row],[Cost]]/Table5[[#This Row],[SizTB]]*Exchange_Rate -> 73.19 | Y9: =Table5[[#This Row],[Cost]]+((CompareWarrYrs-Table5[[#This Row],[S]])*(Incremental_Warr_Yr*Table5[[#This Row],[Cost]]))*Exchange_Rate -> 146.38 | Z9: =Table5[[#This Row],[$+Warr]]/Table5[[#This Row],[SizTB]] -> 73.19 | AA9: =Table5[[#This Row],[$PerTB]]/CompareWarrYrs -> 14.638
A10: 43053 | B10: HGST | C10: Ultrastar 7K600 | D10: NAS | E10: 3.5 | F10: 4 | G10: 7200 | H10: 4.16 | I10: 8 | J10: =(Table5[[#This Row],[RPM]]/5400-1) -> 0.33333333 | K10: 192 | L10: 5 | M10: 600000 | O10: 2000000 | P10: 1e+15 | R10: 9.1 | S10: 7.1 | U10: =(((Table5[[#This Row],[Watts Active]]*Power_On_Hours_Year/1000)*Active_Duty_Cycle)+((Table5[[#This Row],[Watts Idle]]*Power_On_Hours_Year/1000)*(100%-Active_Duty_Cycle)))*CostPerKWH -> 8.2179 | V10: =Table5[Energy$year]/Table5[[#This Row],[SizTB]] -> 2.054475 | W10: 194.85 | X10: =Table5[[#This Row],[Cost]]/Table5[[#This Row],[SizTB]]*Exchange_Rate -> 48.7125 | Y10: =Table5[[#This Row],[Cost]]+((CompareWarrYrs-Table5[[#This Row],[S]])*(Incremental_Warr_Yr*Table5[[#This Row],[Cost]]))*Exchange_Rate -> 194.85 | Z10: =Table5[[#This Row],[$+Warr]]/Table5[[#This Row],[SizTB]] -> 48.7125 | AA10: =Table5[[#This Row],[$PerTB]]/CompareWarrYrs -> 9.7425
A11: 43053 | B11: HGST | C11: Ultrastar 7K600 | D11: NAS | E11: 3.5 | F11: 5 | G11: 7200 | H11: 4.16 | I11: 8 | J11: =(Table5[[#This Row],[RPM]]/5400-1) -> 0.33333333 | K11: 192 | L11: 5 | M11: 600000 | O11: 2000000 | P11: 1e+15 | R11: 9.1 | S11: 7.1 | U11: =(((Table5[[#This Row],[Watts Active]]*Power_On_Hours_Year/1000)*Active_Duty_Cycle)+((Table5[[#This Row],[Watts Idle]]*Power_On_Hours_Year/1000)*(100%-Active_Duty_Cycle)))*CostPerKWH -> 8.2179 | V11: =Table5[Energy$year]/Table5[[#This Row],[SizTB]] -> 1.64358 | W11: 281.96 | X11: =Table5[[#This Row],[Cost]]/Table5[[#This Row],[SizTB]]*Exchange_Rate -> 56.392 | Y11: =Table5[[#This Row],[Cost]]+((CompareWarrYrs-Table5[[#This Row],[S]])*(Incremental_Warr_Yr*Table5[[#This Row],[Cost]]))*Exchange_Rate -> 281.96 | Z11: =Table5[[#This Row],[$+Warr]]/Table5[[#This Row],[SizTB]] -> 56.392 | AA11: =Table5[[#This Row],[$PerTB]]/CompareWarrYrs -> 11.2784
A12: 43053 | B12: HGST | C12: Ultrastar 7K600 | D12: NAS | E12: 3.5 | F12: 6 | G12: 7200 | H12: 4.16 | I12: 8 | J12: =(Table5[[#This Row],[RPM]]/5400-1) -> 0.33333333 | K12: 216 | L12: 5 | M12: 600000 | O12: 2000000 | P12: 1e+15 | R12: 9.1 | S12: 7.1 | U12: =(((Table5[[#This Row],[Watts Active]]*Power_On_Hours_Year/1000)*Active_Duty_Cycle)+((Table5[[#This Row],[Watts Idle]]*Power_On_Hours_Year/1000)*(100%-Active_Duty_Cycle)))*CostPerKWH -> 8.2179 | V12: =Table5[Energy$year]/Table5[[#This Row],[SizTB]] -> 1.36965 | W12: 257.62 | X12: =Table5[[#This Row],[Cost]]/Table5[[#This Row],[SizTB]]*Exchange_Rate -> 42.936667 | Y12: =Table5[[#This Row],[Cost]]+((CompareWarrYrs-Table5[[#This Row],[S]])*(Incremental_Warr_Yr*Table5[[#This Row],[Cost]]))*Exchange_Rate -> 257.62 | Z12: =Table5[[#This Row],[$+Warr]]/Table5[[#This Row],[SizTB]] -> 42.936667 | AA12: =Table5[[#This Row],[$PerTB]]/CompareWarrYrs -> 8.5873333
A13: 43033 | B13: HGST | C13: Ultrastar Archive Ha10 | D13: SMR | E13: 3.5 | F13: 8 | G13: 7200 | H13: 4.16 | I13: 8.5 | J13: =(Table5[[#This Row],[RPM]]/5400-1) -> 0.33333333 | K13: 157 | L13: 5 | M13: 600000 | O13: 2000000 | P13: 1e+15 | R13: 7.6 | S13: 5.1 | U13: =(((Table5[[#This Row],[Watts Active]]*Power_On_Hours_Year/1000)*Active_Duty_Cycle)+((Table5[[#This Row],[Watts Idle]]*Power_On_Hours_Year/1000)*(100%-Active_Duty_Cycle)))*CostPerKWH -> 6.136032 | V13: =Table5[Energy$year]/Table5[[#This Row],[SizTB]] -> 0.767004 | W13: 373 | X13: =Table5[[#This Row],[Cost]]/Table5[[#This Row],[SizTB]]*Exchange_Rate -> 46.625 | Y13: =Table5[[#This Row],[Cost]]+((CompareWarrYrs-Table5[[#This Row],[S]])*(Incremental_Warr_Yr*Table5[[#This Row],[Cost]]))*Exchange_Rate -> 373 | Z13: =Table5[[#This Row],[$+Warr]]/Table5[[#This Row],[SizTB]] -> 46.625 | AA13: =Table5[[#This Row],[$PerTB]]/CompareWarrYrs -> 9.325 | AB13: Helium filled, Shingled (SMR)
A14: 43047 | B14: HGST | C14: Ultrastar C10K1200 | D14: NAS | E14: 2.5 | F14: 1.2 | G14: 10520 | H14: 2.85 | I14: 4.4 | J14: =(Table5[[#This Row],[RPM]]/5400-1) -> 0.94814815 | K14: 224 | L14: 5 | O14: 2000000 | P14: 1e+16 | R14: 6.5 | S14: 4.7 | U14: =(((Table5[[#This Row],[Watts Active]]*Power_On_Hours_Year/1000)*Active_Duty_Cycle)+((Table5[[#This Row],[Watts Idle]]*Power_On_Hours_Year/1000)*(100%-Active_Duty_Cycle)))*CostPerKWH -> 5.5443432 | V14: =Table5[Energy$year]/Table5[[#This Row],[SizTB]] -> 4.620286 | W14: 170 | X14: =Table5[[#This Row],[Cost]]/Table5[[#This Row],[SizTB]]*Exchange_Rate -> 141.66667 | Y14: =Table5[[#This Row],[Cost]]+((CompareWarrYrs-Table5[[#This Row],[S]])*(Incremental_Warr_Yr*Table5[[#This Row],[Cost]]))*Exchange_Rate -> 170 | Z14: =Table5[[#This Row],[$+Warr]]/Table5[[#This Row],[SizTB]] -> 141.66667 | AA14: =Table5[[#This Row],[$PerTB]]/CompareWarrYrs -> 28.333333
A15: 43047 | B15: HGST | C15: Ultrastar C10K1800 | D15: NAS | E15: 2.5 | F15: 1.8 | G15: 10520 | H15: 2.85 | I15: 4.4 | J15: =(Table5[[#This Row],[RPM]]/5400-1) -> 0.94814815 | K15: 224 | L15: 5 | O15: 2000000 | P15: 1e+16 | R15: 6.6 | S15: 4.7 | U15: =(((Table5[[#This Row],[Watts Active]]*Power_On_Hours_Year/1000)*Active_Duty_Cycle)+((Table5[[#This Row],[Watts Idle]]*Power_On_Hours_Year/1000)*(100%-Active_Duty_Cycle)))*CostPerKWH -> 5.5662576 | V15: =Table5[Energy$year]/Table5[[#This Row],[SizTB]] -> 3.0923653 | W15: 229.99 | X15: =Table5[[#This Row],[Cost]]/Table5[[#This Row],[SizTB]]*Exchange_Rate -> 127.77222 | Y15: =Table5[[#This Row],[Cost]]+((CompareWarrYrs-Table5[[#This Row],[S]])*(Incremental_Warr_Yr*Table5[[#This Row],[Cost]]))*Exchange_Rate -> 229.99 | Z15: =Table5[[#This Row],[$+Warr]]/Table5[[#This Row],[SizTB]] -> 127.77222 | AA15: =Table5[[#This Row],[$PerTB]]/CompareWarrYrs -> 25.554444
A16: 43050 | B16: HGST | C16: Ultrastar C15K600 | D16: NAS | E16: 2.5 | F16: 0.6 | G16: 15030 | H16: 1.99 | I16: 3.1 | J16: =(Table5[[#This Row],[RPM]]/5400-1) -> 1.7833333 | K16: 250 | L16: 5 | O16: 2000000 | P16: 1e+17 | R16: 7.5 | S16: 5.8 | U16: =(((Table5[[#This Row],[Watts Active]]*Power_On_Hours_Year/1000)*Active_Duty_Cycle)+((Table5[[#This Row],[Watts Idle]]*Power_On_Hours_Year/1000)*(100%-Active_Duty_Cycle)))*CostPerKWH -> 6.7277208 | V16: =Table5[Energy$year]/Table5[[#This Row],[SizTB]] -> 11.212868 | W16: 189.95 | X16: =Table5[[#This Row],[Cost]]/Table5[[#This Row],[SizTB]]*Exchange_Rate -> 316.58333 | Y16: =Table5[[#This Row],[Cost]]+((CompareWarrYrs-Table5[[#This Row],[S]])*(Incremental_Warr_Yr*Table5[[#This Row],[Cost]]))*Exchange_Rate -> 189.95 | Z16: =Table5[[#This Row],[$+Warr]]/Table5[[#This Row],[SizTB]] -> 316.58333 | AA16: =Table5[[#This Row],[$PerTB]]/CompareWarrYrs -> 63.316667 | AB16: 32GB NAND, Media caching
A17: 43019 | B17: HGST | C17: Ultrastar He6 | D17: NAS | E17: 3.5 | F17: 6 | G17: 7200 | H17: 4.16 | I17: 9 | J17: =(Table5[[#This Row],[RPM]]/5400-1) -> 0.33333333 | K17: 195 | L17: 5 | M17: 600000 | N17: 550 | O17: 2500000 | P17: 1e+15 | R17: 7.4 | S17: 5.1 | U17: =(((Table5[[#This Row],[Watts Active]]*Power_On_Hours_Year/1000)*Active_Duty_Cycle)+((Table5[[#This Row],[Watts Idle]]*Power_On_Hours_Year/1000)*(100%-Active_Duty_Cycle)))*CostPerKWH -> 6.0922032 | V17: =Table5[Energy$year]/Table5[[#This Row],[SizTB]] -> 1.0153672 | W17: 169.99 | X17: =Table5[[#This Row],[Cost]]/Table5[[#This Row],[SizTB]]*Exchange_Rate -> 28.331667 | Y17: =Table5[[#This Row],[Cost]]+((CompareWarrYrs-Table5[[#This Row],[S]])*(Incremental_Warr_Yr*Table5[[#This Row],[Cost]]))*Exchange_Rate -> 169.99 | Z17: =Table5[[#This Row],[$+Warr]]/Table5[[#This Row],[SizTB]] -> 28.331667 | AA17: =Table5[[#This Row],[$PerTB]]/CompareWarrYrs -> 5.6663333 | AB17: Helium filled
A18: 43050 | B18: HGST | C18: Ultrastar He8 | D18: NAS | E18: 3.5 | F18: 8 | G18: 7200 | H18: 4.16 | I18: 8.5 | J18: =(Table5[[#This Row],[RPM]]/5400-1) -> 0.33333333 | K18: 237 | L18: 5 | M18: 600000 | N18: 550 | O18: 2500000 | P18: 1e+15 | R18: 7.4 | S18: 5.1 | U18: =(((Table5[[#This Row],[Watts Active]]*Power_On_Hours_Year/1000)*Active_Duty_Cycle)+((Table5[[#This Row],[Watts Idle]]*Power_On_Hours_Year/1000)*(100%-Active_Duty_Cycle)))*CostPerKWH -> 6.0922032 | V18: =Table5[Energy$year]/Table5[[#This Row],[SizTB]] -> 0.7615254 | W18: 285 | X18: =Table5[[#This Row],[Cost]]/Table5[[#This Row],[SizTB]]*Exchange_Rate -> 35.625 | Y18: =Table5[[#This Row],[Cost]]+((CompareWarrYrs-Table5[[#This Row],[S]])*(Incremental_Warr_Yr*Table5[[#This Row],[Cost]]))*Exchange_Rate -> 285 | Z18: =Table5[[#This Row],[$+Warr]]/Table5[[#This Row],[SizTB]] -> 35.625 | AA18: =Table5[[#This Row],[$PerTB]]/CompareWarrYrs -> 7.125 | AB18: Helium filled, Media caching
A19: 43005 | B19: HGST | C19: Ultrastar He10 | D19: NAS | E19: 3.5 | F19: 10 | G19: 7200 | H19: 4.16 | I19: 8 | J19: =(Table5[[#This Row],[RPM]]/5400-1) -> 0.33333333 | K19: 237 | L19: 5 | M19: 600000 | N19: 550 | O19: 2500000 | P19: 1e+15 | R19: 6.8 | S19: 5 | U19: =(((Table5[[#This Row],[Watts Active]]*Power_On_Hours_Year/1000)*Active_Duty_Cycle)+((Table5[[#This Row],[Watts Idle]]*Power_On_Hours_Year/1000)*(100%-Active_Duty_Cycle)))*CostPerKWH -> 5.8730592 | V19: =Table5[Energy$year]/Table5[[#This Row],[SizTB]] -> 0.58730592 | W19: 349.99 | X19: =Table5[[#This Row],[Cost]]/Table5[[#This Row],[SizTB]]*Exchange_Rate -> 34.999 | Y19: =Table5[[#This Row],[Cost]]+((CompareWarrYrs-Table5[[#This Row],[S]])*(Incremental_Warr_Yr*Table5[[#This Row],[Cost]]))*Exchange_Rate -> 349.99 | Z19: =Table5[[#This Row],[$+Warr]]/Table5[[#This Row],[SizTB]] -> 34.999 | AA19: =Table5[[#This Row],[$PerTB]]/CompareWarrYrs -> 6.9998 | AB19: Helium filled
A20: 43005 | B20: HGST | C20: Ultrastar He12 | D20: NAS | E20: 3.5 | F20: 12 | G20: 7200 | H20: 4.16 | I20: 8.6 | J20: =(Table5[[#This Row],[RPM]]/5400-1) -> 0.33333333 | K20: 243 | L20: 5 | M20: 600000 | N20: 550 | O20: 2500000 | P20: 1e+15 | R20: 7.2 | S20: 5.3 | U20: =(((Table5[[#This Row],[Watts Active]]*Power_On_Hours_Year/1000)*Active_Duty_Cycle)+((Table5[[#This Row],[Watts Idle]]*Power_On_Hours_Year/1000)*(100%-Active_Duty_Cycle)))*CostPerKWH -> 6.2236896 | V20: =Table5[Energy$year]/Table5[[#This Row],[SizTB]] -> 0.5186408 | W20: 619.98 | X20: =Table5[[#This Row],[Cost]]/Table5[[#This Row],[SizTB]]*Exchange_Rate -> 51.665 | Y20: =Table5[[#This Row],[Cost]]+((CompareWarrYrs-Table5[[#This Row],[S]])*(Incremental_Warr_Yr*Table5[[#This Row],[Cost]]))*Exchange_Rate -> 619.98 | Z20: =Table5[[#This Row],[$+Warr]]/Table5[[#This Row],[SizTB]] -> 51.665 | AA20: =Table5[[#This Row],[$PerTB]]/CompareWarrYrs -> 10.333 | AB20: Helium filled
A21: 43021 | B21: HGST | C21: Ultrastar Hs14 | D21: SMR | E21: 3.5 | F21: 14 | G21: 7200 | H21: 4.16 | I21: 12 | J21: =(Table5[[#This Row],[RPM]]/5400-1) -> 0.33333333 | K21: 223 | L21: 5 | M21: 600000 | N21: 550 | O21: 2500000 | P21: 1e+15 | Q21: =12*1.51+5*0.39 -> 20.07 | R21: 6.4 | S21: 5.2 | T21: 0.8 | U21: =(((Table5[[#This Row],[Watts Active]]*Power_On_Hours_Year/1000)*Active_Duty_Cycle)+((Table5[[#This Row],[Watts Idle]]*Power_On_Hours_Year/1000)*(100%-Active_Duty_Cycle)))*CostPerKWH -> 5.9607168 | V21: =Table5[Energy$year]/Table5[[#This Row],[SizTB]] -> 0.42576549 | X21: =Table5[[#This Row],[Cost]]/Table5[[#This Row],[SizTB]]*Exchange_Rate -> 0 | Y21: =Table5[[#This Row],[Cost]]+((CompareWarrYrs-Table5[[#This Row],[S]])*(Incremental_Warr_Yr*Table5[[#This Row],[Cost]]))*Exchange_Rate -> 0 | Z21: =Table5[[#This Row],[$+Warr]]/Table5[[#This Row],[SizTB]] -> 0 | AA21: =Table5[[#This Row],[$PerTB]]/CompareWarrYrs -> 0 | AB21: Helium filled, Shingled (SMR)
A22: 43064 | B22: Seagate | C22: Archive | D22: SMR | E22: 3.5 | F22: 5 | G22: 5900 | J22: =(Table5[[#This Row],[RPM]]/5400-1) -> 0.092592593 | K22: 180 | L22: 3 | M22: 300000 | N22: 180 | O22: 800000 | P22: =10^14 -> 100000000000000 | Q22: 24 | R22: 5.5 | S22: 3.5 | T22: 0.74 | U22: =(((Table5[[#This Row],[Watts Active]]*Power_On_Hours_Year/1000)*Active_Duty_Cycle)+((Table5[[#This Row],[Watts Idle]]*Power_On_Hours_Year/1000)*(100%-Active_Duty_Cycle)))*CostPerKWH -> 4.273308 | V22: =Table5[Energy$year]/Table5[[#This Row],[SizTB]] -> 0.8546616 | W22: 212 | X22: =Table5[[#This Row],[Cost]]/Table5[[#This Row],[SizTB]]*Exchange_Rate -> 42.4 | Y22: =Table5[[#This Row],[Cost]]+((CompareWarrYrs-Table5[[#This Row],[S]])*(Incremental_Warr_Yr*Table5[[#This Row],[Cost]])) -> 258.64 | Z22: =Table5[[#This Row],[$+Warr]]/Table5[[#This Row],[SizTB]] -> 51.728 | AA22: =Table5[[#This Row],[$PerTB]]/CompareWarrYrs -> 10.3456
A23: 43064 | B23: Seagate | C23: Archive | D23: SMR | E23: 3.5 | F23: 6 | G23: 5900 | J23: =(Table5[[#This Row],[RPM]]/5400-1) -> 0.092592593 | K23: 190 | L23: 3 | M23: 300000 | N23: 180 | O23: 800000 | P23: =10^14 -> 100000000000000 | Q23: 24 | R23: 7.5 | S23: 5 | T23: 0.999 | U23: =(((Table5[[#This Row],[Watts Active]]*Power_On_Hours_Year/1000)*Active_Duty_Cycle)+((Table5[[#This Row],[Watts Idle]]*Power_On_Hours_Year/1000)*(100%-Active_Duty_Cycle)))*CostPerKWH -> 6.02646 | V23: =Table5[Energy$year]/Table5[[#This Row],[SizTB]] -> 1.00441 | W23: 194.79 | X23: =Table5[[#This Row],[Cost]]/Table5[[#This Row],[SizTB]]*Exchange_Rate -> 32.465 | Y23: =Table5[[#This Row],[Cost]]+((CompareWarrYrs-Table5[[#This Row],[S]])*(Incremental_Warr_Yr*Table5[[#This Row],[Cost]])) -> 237.6438 | Z23: =Table5[[#This Row],[$+Warr]]/Table5[[#This Row],[SizTB]] -> 39.6073 | AA23: =Table5[[#This Row],[$PerTB]]/CompareWarrYrs -> 7.92146
A24: 43064 | B24: Seagate | C24: Archive | D24: SMR | E24: 3.5 | F24: 8 | G24: 5900 | J24: =(Table5[[#This Row],[RPM]]/5400-1) -> 0.092592593 | K24: 190 | L24: 3 | M24: 300000 | N24: 180 | O24: 800000 | P24: =10^14 -> 100000000000000 | Q24: 24 | R24: 7.5 | S24: 5 | T24: 0.999 | U24: =(((Table5[[#This Row],[Watts Active]]*Power_On_Hours_Year/1000)*Active_Duty_Cycle)+((Table5[[#This Row],[Watts Idle]]*Power_On_Hours_Year/1000)*(100%-Active_Duty_Cycle)))*CostPerKWH -> 6.02646 | V24: =Table5[Energy$year]/Table5[[#This Row],[SizTB]] -> 0.7533075 | W24: 229.99 | X24: =Table5[[#This Row],[Cost]]/Table5[[#This Row],[SizTB]]*Exchange_Rate -> 28.74875 | Y24: =Table5[[#This Row],[Cost]]+((CompareWarrYrs-Table5[[#This Row],[S]])*(Incremental_Warr_Yr*Table5[[#This Row],[Cost]])) -> 280.5878 | Z24: =Table5[[#This Row],[$+Warr]]/Table5[[#This Row],[SizTB]] -> 35.073475 | AA24: =Table5[[#This Row],[$PerTB]]/CompareWarrYrs -> 7.014695
A25: 43050 | B25: Seagate | C25: BarraCuda | D25: DT | E25: 3.5 | F25: 1 | G25: 7200 | H25: 4.16 | I25: 9.5 | J25: =(Table5[[#This Row],[RPM]]/5400-1) -> 0.33333333 | K25: 156 | L25: 2 | M25: 300000 | N25: 55 | P25: =10^14 -> 100000000000000 | Q25: 24 | R25: 5.3 | S25: 4.6 | T25: 0.94 | U25: =(((Table5[[#This Row],[Watts Active]]*Power_On_Hours_Year/1000)*Active_Duty_Cycle)+((Table5[[#This Row],[Watts Idle]]*Power_On_Hours_Year/1000)*(100%-Active_Duty_Cycle)))*CostPerKWH -> 5.1937128 | V25: =Table5[Energy$year]/Table5[[#This Row],[SizTB]] -> 5.1937128 | W25: 46.99 | X25: =Table5[[#This Row],[Cost]]/Table5[[#This Row],[SizTB]]*Exchange_Rate -> 46.99 | Y25: =Table5[[#This Row],[Cost]]+((CompareWarrYrs-Table5[[#This Row],[S]])*(Incremental_Warr_Yr*Table5[[#This Row],[Cost]]))*Exchange_Rate -> 62.4967 | Z25: =Table5[[#This Row],[$+Warr]]/Table5[[#This Row],[SizTB]] -> 62.4967 | AA25: =Table5[[#This Row],[$PerTB]]/CompareWarrYrs -> 12.49934
A26: 43060 | B26: Seagate | C26: BarraCuda | D26: DT | E26: 3.5 | F26: 2 | G26: 7200 | H26: 6 | I26: 9.5 | J26: =(Table5[[#This Row],[RPM]]/5400-1) -> 0.33333333 | K26: 156 | L26: 2 | M26: 300000 | N26: 55 | P26: =10^14 -> 100000000000000 | Q26: =2.5*12 -> 30 | R26: 8 | S26: 5.4 | T26: 0.75 | U26: =(((Table5[[#This Row],[Watts Active]]*Power_On_Hours_Year/1000)*Active_Duty_Cycle)+((Table5[[#This Row],[Watts Idle]]*Power_On_Hours_Year/1000)*(100%-Active_Duty_Cycle)))*CostPerKWH -> 6.4866624 | V26: =Table5[Energy$year]/Table5[[#This Row],[SizTB]] -> 3.2433312 | W26: 54.99 | X26: =Table5[[#This Row],[Cost]]/Table5[[#This Row],[SizTB]]*Exchange_Rate -> 27.495 | Y26: =Table5[[#This Row],[Cost]]+((CompareWarrYrs-Table5[[#This Row],[S]])*(Incremental_Warr_Yr*Table5[[#This Row],[Cost]]))*Exchange_Rate -> 73.1367 | Z26: =Table5[[#This Row],[$+Warr]]/Table5[[#This Row],[SizTB]] -> 36.56835 | AA26: =Table5[[#This Row],[$PerTB]]/CompareWarrYrs -> 7.31367
A27: 43050 | B27: Seagate | C27: BarraCuda | D27: DT | E27: 3.5 | F27: 3 | G27: 7200 | H27: 6 | I27: 9.5 | J27: =(Table5[[#This Row],[RPM]]/5400-1) -> 0.33333333 | K27: 156 | L27: 2 | M27: 300000 | N27: 55 | P27: =10^14 -> 100000000000000 | Q27: =2.5*12 -> 30 | R27: 8 | S27: 5.4 | T27: 0.75 | U27: =(((Table5[[#This Row],[Watts Active]]*Power_On_Hours_Year/1000)*Active_Duty_Cycle)+((Table5[[#This Row],[Watts Idle]]*Power_On_Hours_Year/1000)*(100%-Active_Duty_Cycle)))*CostPerKWH -> 6.4866624 | V27: =Table5[Energy$year]/Table5[[#This Row],[SizTB]] -> 2.1622208 | W27: 69.99 | X27: =Table5[[#This Row],[Cost]]/Table5[[#This Row],[SizTB]]*Exchange_Rate -> 23.33 | Y27: =Table5[[#This Row],[Cost]]+((CompareWarrYrs-Table5[[#This Row],[S]])*(Incremental_Warr_Yr*Table5[[#This Row],[Cost]]))*Exchange_Rate -> 93.0867 | Z27: =Table5[[#This Row],[$+Warr]]/Table5[[#This Row],[SizTB]] -> 31.0289 | AA27: =Table5[[#This Row],[$PerTB]]/CompareWarrYrs -> 6.20578
A28: 43050 | B28: Seagate | C28: BarraCuda | D28: DT | E28: 3.5 | F28: 4 | G28: 7200 | H28: 6 | I28: 9.5 | J28: =(Table5[[#This Row],[RPM]]/5400-1) -> 0.33333333 | K28: 190 | L28: 2 | M28: 300000 | N28: 55 | P28: =10^14 -> 100000000000000 | Q28: 24 | R28: 5 | S28: 2.5 | T28: 0.25 | U28: =(((Table5[[#This Row],[Watts Active]]*Power_On_Hours_Year/1000)*Active_Duty_Cycle)+((Table5[[#This Row],[Watts Idle]]*Power_On_Hours_Year/1000)*(100%-Active_Duty_Cycle)))*CostPerKWH -> 3.28716 | V28: =Table5[Energy$year]/Table5[[#This Row],[SizTB]] -> 0.82179 | W28: 99.99 | X28: =Table5[[#This Row],[Cost]]/Table5[[#This Row],[SizTB]]*Exchange_Rate -> 24.9975 | Y28: =Table5[[#This Row],[Cost]]+((CompareWarrYrs-Table5[[#This Row],[S]])*(Incremental_Warr_Yr*Table5[[#This Row],[Cost]]))*Exchange_Rate -> 132.9867 | Z28: =Table5[[#This Row],[$+Warr]]/Table5[[#This Row],[SizTB]] -> 33.246675 | AA28: =Table5[[#This Row],[$PerTB]]/CompareWarrYrs -> 6.649335
A29: 43019 | B29: Seagate | C29: BarraCuda | D29: LT | E29: 2.5 | F29: 1 | G29: 5400 | J29: =(Table5[[#This Row],[RPM]]/5400-1) -> 0 | K29: 140 | L29: 2 | M29: 600000 | P29: =10^14 -> 100000000000000 | Q29: =1*5 -> 5 | R29: 1.7 | S29: 0.45 | U29: =(((Table5[[#This Row],[Watts Active]]*Power_On_Hours_Year/1000)*Active_Duty_Cycle)+((Table5[[#This Row],[Watts Idle]]*Power_On_Hours_Year/1000)*(100%-Active_Duty_Cycle)))*CostPerKWH -> 0.767004 | V29: =Table5[Energy$year]/Table5[[#This Row],[SizTB]] -> 0.767004 | W29: 49.99 | X29: =Table5[[#This Row],[Cost]]/Table5[[#This Row],[SizTB]]*Exchange_Rate -> 49.99 | Y29: =Table5[[#This Row],[Cost]]+((CompareWarrYrs-Table5[[#This Row],[S]])*(Incremental_Warr_Yr*Table5[[#This Row],[Cost]]))*Exchange_Rate -> 66.4867 | Z29: =Table5[[#This Row],[$+Warr]]/Table5[[#This Row],[SizTB]] -> 66.4867 | AA29: =Table5[[#This Row],[$PerTB]]/CompareWarrYrs -> 13.29734
A30: 43019 | B30: Seagate | C30: BarraCuda | D30: LT | E30: 2.5 | F30: 2 | G30: 5400 | J30: =(Table5[[#This Row],[RPM]]/5400-1) -> 0 | K30: 140 | L30: 2 | M30: 600000 | P30: =10^14 -> 100000000000000 | Q30: =1*5 -> 5 | R30: 1.8 | S30: 0.5 | U30: =(((Table5[[#This Row],[Watts Active]]*Power_On_Hours_Year/1000)*Active_Duty_Cycle)+((Table5[[#This Row],[Watts Idle]]*Power_On_Hours_Year/1000)*(100%-Active_Duty_Cycle)))*CostPerKWH -> 0.8327472 | V30: =Table5[Energy$year]/Table5[[#This Row],[SizTB]] -> 0.4163736 | W30: 66.99 | X30: =Table5[[#This Row],[Cost]]/Table5[[#This Row],[SizTB]]*Exchange_Rate -> 33.495 | Y30: =Table5[[#This Row],[Cost]]+((CompareWarrYrs-Table5[[#This Row],[S]])*(Incremental_Warr_Yr*Table5[[#This Row],[Cost]]))*Exchange_Rate -> 89.0967 | Z30: =Table5[[#This Row],[$+Warr]]/Table5[[#This Row],[SizTB]] -> 44.54835 | AA30: =Table5[[#This Row],[$PerTB]]/CompareWarrYrs -> 8.90967
A31: 43019 | B31: Seagate | C31: BarraCuda | D31: LT | E31: 2.5 | F31: 3 | G31: 5400 | J31: =(Table5[[#This Row],[RPM]]/5400-1) -> 0 | K31: 140 | L31: 2 | M31: 600000 | P31: =10^14 -> 100000000000000 | Q31: =1.2*5 -> 6 | R31: 2.1 | S31: 1.1 | U31: =(((Table5[[#This Row],[Watts Active]]*Power_On_Hours_Year/1000)*Active_Duty_Cycle)+((Table5[[#This Row],[Watts Idle]]*Power_On_Hours_Year/1000)*(100%-Active_Duty_Cycle)))*CostPerKWH -> 1.424436 | V31: =Table5[Energy$year]/Table5[[#This Row],[SizTB]] -> 0.474812 | W31: 89.99 | X31: =Table5[[#This Row],[Cost]]/Table5[[#This Row],[SizTB]]*Exchange_Rate -> 29.996667 | Y31: =Table5[[#This Row],[Cost]]+((CompareWarrYrs-Table5[[#This Row],[S]])*(Incremental_Warr_Yr*Table5[[#This Row],[Cost]]))*Exchange_Rate -> 119.6867 | Z31: =Table5[[#This Row],[$+Warr]]/Table5[[#This Row],[SizTB]] -> 39.895567 | AA31: =Table5[[#This Row],[$PerTB]]/CompareWarrYrs -> 7.9791133
A32: 43019 | B32: Seagate | C32: BarraCuda | D32: LT | E32: 2.5 | F32: 4 | G32: 5400 | J32: =(Table5[[#This Row],[RPM]]/5400-1) -> 0 | K32: 140 | L32: 2 | M32: 600000 | P32: =10^14 -> 100000000000000 | Q32: =1.2*5 -> 6 | R32: 2.1 | S32: 1.1 | U32: =(((Table5[[#This Row],[Watts Active]]*Power_On_Hours_Year/1000)*Active_Duty_Cycle)+((Table5[[#This Row],[Watts Idle]]*Power_On_Hours_Year/1000)*(100%-Active_Duty_Cycle)))*CostPerKWH -> 1.424436 | V32: =Table5[Energy$year]/Table5[[#This Row],[SizTB]] -> 0.356109 | W32: 114.99 | X32: =Table5[[#This Row],[Cost]]/Table5[[#This Row],[SizTB]]*Exchange_Rate -> 28.7475 | Y32: =Table5[[#This Row],[Cost]]+((CompareWarrYrs-Table5[[#This Row],[S]])*(Incremental_Warr_Yr*Table5[[#This Row],[Cost]]))*Exchange_Rate -> 152.9367 | Z32: =Table5[[#This Row],[$+Warr]]/Table5[[#This Row],[SizTB]] -> 38.234175 | AA32: =Table5[[#This Row],[$PerTB]]/CompareWarrYrs -> 7.646835
A33: 43053 | B33: Seagate | C33: BarraCuda | D33: LT | E33: 2.5 | F33: 5 | G33: 5400 | J33: =(Table5[[#This Row],[RPM]]/5400-1) -> 0 | K33: 140 | L33: 2 | M33: 600000 | P33: =10^14 -> 100000000000000 | Q33: =1.2*5 -> 6 | R33: 2.1 | S33: 1.1 | U33: =(((Table5[[#This Row],[Watts Active]]*Power_On_Hours_Year/1000)*Active_Duty_Cycle)+((Table5[[#This Row],[Watts Idle]]*Power_On_Hours_Year/1000)*(100%-Active_Duty_Cycle)))*CostPerKWH -> 1.424436 | V33: =Table5[Energy$year]/Table5[[#This Row],[SizTB]] -> 0.2848872 | W33: 209.99 | X33: =Table5[[#This Row],[Cost]]/Table5[[#This Row],[SizTB]]*Exchange_Rate -> 41.998 | Y33: =Table5[[#This Row],[Cost]]+((CompareWarrYrs-Table5[[#This Row],[S]])*(Incremental_Warr_Yr*Table5[[#This Row],[Cost]]))*Exchange_Rate -> 279.2867 | Z33: =Table5[[#This Row],[$+Warr]]/Table5[[#This Row],[SizTB]] -> 55.85734 | AA33: =Table5[[#This Row],[$PerTB]]/CompareWarrYrs -> 11.171468
A34: 43019 | B34: Seagate | C34: BarraCuda Pro | D34: DT | E34: 3.5 | F34: 2 | G34: 7200 | H34: 4.16 | J34: =(Table5[[#This Row],[RPM]]/5400-1) -> 0.33333333 | K34: 195 | L34: 5 | M34: 600000 | N34: 180 | P34: 1e+15 | Q34: 24 | R34: 7.5 | S34: 4.5 | T34: 0.8 | U34: =(((Table5[[#This Row],[Watts Active]]*Power_On_Hours_Year/1000)*Active_Duty_Cycle)+((Table5[[#This Row],[Watts Idle]]*Power_On_Hours_Year/1000)*(100%-Active_Duty_Cycle)))*CostPerKWH -> 5.588172 | V34: =Table5[Energy$year]/Table5[[#This Row],[SizTB]] -> 2.794086 | W34: 127.99 | X34: =Table5[[#This Row],[Cost]]/Table5[[#This Row],[SizTB]]*Exchange_Rate -> 63.995 | Y34: =Table5[[#This Row],[Cost]]+((CompareWarrYrs-Table5[[#This Row],[S]])*(Incremental_Warr_Yr*Table5[[#This Row],[Cost]]))*Exchange_Rate -> 127.99 | Z34: =Table5[[#This Row],[$+Warr]]/Table5[[#This Row],[SizTB]] -> 63.995 | AA34: =Table5[[#This Row],[$PerTB]]/CompareWarrYrs -> 12.799
A35: 43019 | B35: Seagate | C35: BarraCuda Pro | D35: DT | E35: 3.5 | F35: 4 | G35: 7200 | H35: 4.16 | J35: =(Table5[[#This Row],[RPM]]/5400-1) -> 0.33333333 | K35: 214 | L35: 5 | M35: 600000 | N35: 180 | P35: 1e+15 | Q35: 24 | R35: 6.7 | S35: 6 | T35: 0.6 | U35: =(((Table5[[#This Row],[Watts Active]]*Power_On_Hours_Year/1000)*Active_Duty_Cycle)+((Table5[[#This Row],[Watts Idle]]*Power_On_Hours_Year/1000)*(100%-Active_Duty_Cycle)))*CostPerKWH -> 6.7277208 | V35: =Table5[Energy$year]/Table5[[#This Row],[SizTB]] -> 1.6819302 | W35: 174.99 | X35: =Table5[[#This Row],[Cost]]/Table5[[#This Row],[SizTB]]*Exchange_Rate -> 43.7475 | Y35: =Table5[[#This Row],[Cost]]+((CompareWarrYrs-Table5[[#This Row],[S]])*(Incremental_Warr_Yr*Table5[[#This Row],[Cost]]))*Exchange_Rate -> 174.99 | Z35: =Table5[[#This Row],[$+Warr]]/Table5[[#This Row],[SizTB]] -> 43.7475 | AA35: =Table5[[#This Row],[$PerTB]]/CompareWarrYrs -> 8.7495
A36: 43019 | B36: Seagate | C36: BarraCuda Pro | D36: DT | E36: 3.5 | F36: 6 | G36: 7200 | H36: 4.16 | J36: =(Table5[[#This Row],[RPM]]/5400-1) -> 0.33333333 | K36: 180 | L36: 5 | M36: 300000 | N36: 300 | P36: 1e+15 | Q36: 24 | R36: 9 | S36: 7.2 | T36: 0.6 | U36: =(((Table5[[#This Row],[Watts Active]]*Power_On_Hours_Year/1000)*Active_Duty_Cycle)+((Table5[[#This Row],[Watts Idle]]*Power_On_Hours_Year/1000)*(100%-Active_Duty_Cycle)))*CostPerKWH -> 8.2836432 | V36: =Table5[Energy$year]/Table5[[#This Row],[SizTB]] -> 1.3806072 | W36: 249.99 | X36: =Table5[[#This Row],[Cost]]/Table5[[#This Row],[SizTB]]*Exchange_Rate -> 41.665 | Y36: =Table5[[#This Row],[Cost]]+((CompareWarrYrs-Table5[[#This Row],[S]])*(Incremental_Warr_Yr*Table5[[#This Row],[Cost]]))*Exchange_Rate -> 249.99 | Z36: =Table5[[#This Row],[$+Warr]]/Table5[[#This Row],[SizTB]] -> 41.665 | AA36: =Table5[[#This Row],[$PerTB]]/CompareWarrYrs -> 8.333
A37: 43019 | B37: Seagate | C37: BarraCuda Pro | D37: DT | E37: 3.5 | F37: 8 | G37: 7200 | H37: 4.16 | J37: =(Table5[[#This Row],[RPM]]/5400-1) -> 0.33333333 | K37: 220 | L37: 5 | M37: 300000 | N37: 300 | P37: 1e+15 | Q37: =12*2 -> 24 | R37: 6.8 | S37: 4.5 | T37: 0.8 | U37: =(((Table5[[#This Row],[Watts Active]]*Power_On_Hours_Year/1000)*Active_Duty_Cycle)+((Table5[[#This Row],[Watts Idle]]*Power_On_Hours_Year/1000)*(100%-Active_Duty_Cycle)))*CostPerKWH -> 5.4347712 | V37: =Table5[Energy$year]/Table5[[#This Row],[SizTB]] -> 0.6793464 | W37: 324.99 | X37: =Table5[[#This Row],[Cost]]/Table5[[#This Row],[SizTB]]*Exchange_Rate -> 40.62375 | Y37: =Table5[[#This Row],[Cost]]+((CompareWarrYrs-Table5[[#This Row],[S]])*(Incremental_Warr_Yr*Table5[[#This Row],[Cost]]))*Exchange_Rate -> 324.99 | Z37: =Table5[[#This Row],[$+Warr]]/Table5[[#This Row],[SizTB]] -> 40.62375 | AA37: =Table5[[#This Row],[$PerTB]]/CompareWarrYrs -> 8.12475
A38: 43019 | B38: Seagate | C38: BarraCuda Pro | D38: DT | E38: 3.5 | F38: 10 | G38: 7200 | H38: 4.16 | J38: =(Table5[[#This Row],[RPM]]/5400-1) -> 0.33333333 | K38: 220 | L38: 5 | M38: 300000 | N38: 300 | P38: 1e+15 | Q38: =12*1.8 -> 21.6 | R38: 6.8 | S38: 4.5 | T38: 0.8 | U38: =(((Table5[[#This Row],[Watts Active]]*Power_On_Hours_Year/1000)*Active_Duty_Cycle)+((Table5[[#This Row],[Watts Idle]]*Power_On_Hours_Year/1000)*(100%-Active_Duty_Cycle)))*CostPerKWH -> 5.4347712 | V38: =Table5[Energy$year]/Table5[[#This Row],[SizTB]] -> 0.54347712 | W38: 424.99 | X38: =Table5[[#This Row],[Cost]]/Table5[[#This Row],[SizTB]]*Exchange_Rate -> 42.499 | Y38: =Table5[[#This Row],[Cost]]+((CompareWarrYrs-Table5[[#This Row],[S]])*(Incremental_Warr_Yr*Table5[[#This Row],[Cost]]))*Exchange_Rate -> 424.99 | Z38: =Table5[[#This Row],[$+Warr]]/Table5[[#This Row],[SizTB]] -> 42.499 | AA38: =Table5[[#This Row],[$PerTB]]/CompareWarrYrs -> 8.4998
A39: 43044 | B39: Seagate | C39: BarraCuda Pro | D39: DT | E39: 3.5 | F39: 12 | G39: 7200 | J39: =(Table5[[#This Row],[RPM]]/5400-1) -> 0.33333333 | K39: 250 | L39: 5 | M39: 300000 | N39: 300 | W39: 519.99 | X39: =Table5[[#This Row],[Cost]]/Table5[[#This Row],[SizTB]]*Exchange_Rate -> 43.3325 | Y39: =Table5[[#This Row],[Cost]]+((CompareWarrYrs-Table5[[#This Row],[S]])*(Incremental_Warr_Yr*Table5[[#This Row],[Cost]]))*Exchange_Rate -> 519.99 | Z39: =Table5[[#This Row],[$+Warr]]/Table5[[#This Row],[SizTB]] -> 43.3325 | AA39: =Table5[[#This Row],[$PerTB]]/CompareWarrYrs -> 8.6665
A40: 43027 | B40: Seagate | C40: Exos 10E2400 | D40: NAS | E40: 2.5 | F40: 1.8 | G40: 10500 | H40: 2.9 | J40: =(Table5[[#This Row],[RPM]]/5400-1) -> 0.94444444 | K40: 270 | L40: 5 | N40: 550 | O40: 2000000 | P40: 1e+16 | R40: 6.95 | S40: 4.26 | U40: =(((Table5[[#This Row],[Watts Active]]*Power_On_Hours_Year/1000)*Active_Duty_Cycle)+((Table5[[#This Row],[Watts Idle]]*Power_On_Hours_Year/1000)*(100%-Active_Duty_Cycle)))*CostPerKWH -> 5.2572646 | V40: =Table5[Energy$year]/Table5[[#This Row],[SizTB]] -> 2.9207025 | X40: =Table5[[#This Row],[Cost]]/Table5[[#This Row],[SizTB]]*Exchange_Rate -> 0 | Y40: =Table5[[#This Row],[Cost]]+((CompareWarrYrs-Table5[[#This Row],[S]])*(Incremental_Warr_Yr*Table5[[#This Row],[Cost]]))*Exchange_Rate -> 0 | Z40: =Table5[[#This Row],[$+Warr]]/Table5[[#This Row],[SizTB]] -> 0 | AA40: =Table5[[#This Row],[$PerTB]]/CompareWarrYrs -> 0 | AB40: 16GiB NAND
A41: 43027 | B41: Seagate | C41: Exos 10E2400 | D41: NAS | E41: 2.5 | F41: 2.4 | G41: 10500 | H41: 2.9 | J41: =(Table5[[#This Row],[RPM]]/5400-1) -> 0.94444444 | K41: 270 | L41: 5 | N41: 550 | O41: 2000000 | P41: 1e+16 | R41: 8.57 | S41: 4.9 | U41: =(((Table5[[#This Row],[Watts Active]]*Power_On_Hours_Year/1000)*Active_Duty_Cycle)+((Table5[[#This Row],[Watts Idle]]*Power_On_Hours_Year/1000)*(100%-Active_Duty_Cycle)))*CostPerKWH -> 6.1732865 | V41: =Table5[Energy$year]/Table5[[#This Row],[SizTB]] -> 2.5722027 | W41: 514.99 | X41: =Table5[[#This Row],[Cost]]/Table5[[#This Row],[SizTB]]*Exchange_Rate -> 214.57917 | Y41: =Table5[[#This Row],[Cost]]+((CompareWarrYrs-Table5[[#This Row],[S]])*(Incremental_Warr_Yr*Table5[[#This Row],[Cost]]))*Exchange_Rate -> 514.99 | Z41: =Table5[[#This Row],[$+Warr]]/Table5[[#This Row],[SizTB]] -> 214.57917 | AA41: =Table5[[#This Row],[$PerTB]]/CompareWarrYrs -> 42.915833 | AB41: 16GiB NAND
A42: 43027 | B42: Seagate | C42: Exos 15E900 | D42: NAS | E42: 3.5 | F42: 0.9 | G42: 15000 | H42: 2 | J42: =(Table5[[#This Row],[RPM]]/5400-1) -> 1.7777778 | K42: 215 | L42: 5 | N42: 550 | O42: 2000000 | P42: 1e+16 | R42: 7.6 | S42: 5.7 | U42: =(((Table5[[#This Row],[Watts Active]]*Power_On_Hours_Year/1000)*Active_Duty_Cycle)+((Table5[[#This Row],[Watts Idle]]*Power_On_Hours_Year/1000)*(100%-Active_Duty_Cycle)))*CostPerKWH -> 6.6619776 | V42: =Table5[Energy$year]/Table5[[#This Row],[SizTB]] -> 7.4021973 | X42: =Table5[[#This Row],[Cost]]/Table5[[#This Row],[SizTB]]*Exchange_Rate -> 0 | Y42: =Table5[[#This Row],[Cost]]+((CompareWarrYrs-Table5[[#This Row],[S]])*(Incremental_Warr_Yr*Table5[[#This Row],[Cost]]))*Exchange_Rate -> 0 | Z42: =Table5[[#This Row],[$+Warr]]/Table5[[#This Row],[SizTB]] -> 0 | AA42: =Table5[[#This Row],[$PerTB]]/CompareWarrYrs -> 0 | AB42: 8GiB NAND
A43: 43027 | B43: Seagate | C43: Exos 5E8 | D43: SMR | E43: 3.5 | F43: 8 | G43: 5900 | J43: =(Table5[[#This Row],[RPM]]/5400-1) -> 0.092592593 | K43: 190 | L43: 3 | M43: 300000 | N43: 180 | O43: 800000 | P43: =10^14 -> 100000000000000 | Q43: 24 | R43: 5.3 | S43: 3.7 | T43: 0.99 | U43: =(((Table5[[#This Row],[Watts Active]]*Power_On_Hours_Year/1000)*Active_Duty_Cycle)+((Table5[[#This Row],[Watts Idle]]*Power_On_Hours_Year/1000)*(100%-Active_Duty_Cycle)))*CostPerKWH -> 4.4047944 | V43: =Table5[Energy$year]/Table5[[#This Row],[SizTB]] -> 0.5505993 | W43: 229.99 | X43: =Table5[[#This Row],[Cost]]/Table5[[#This Row],[SizTB]]*Exchange_Rate -> 28.74875 | Y43: =Table5[[#This Row],[Cost]]+((CompareWarrYrs-Table5[[#This Row],[S]])*(Incremental_Warr_Yr*Table5[[#This Row],[Cost]]))*Exchange_Rate -> 280.5878 | Z43: =Table5[[#This Row],[$+Warr]]/Table5[[#This Row],[SizTB]] -> 35.073475 | AA43: =Table5[[#This Row],[$PerTB]]/CompareWarrYrs -> 7.014695 | AB43: Shingled (SMR)
A44: 43027 | B44: Seagate | C44: Exos 7E2 | D44: NAS | E44: 3.5 | F44: 1 | G44: 7200 | H44: 4.16 | J44: =(Table5[[#This Row],[RPM]]/5400-1) -> 0.33333333 | K44: 194 | L44: 5 | N44: 550 | O44: 2000000 | P44: 1e+15 | R44: 7 | S44: 4.7 | U44: =((30/(1000/R44/24)*$G$137)+(30/(1000/S44/24)*(100%-$G$137)))*$G$136*12 -> 0 | V44: =Table5[Energy$year]/Table5[[#This Row],[SizTB]] -> 0 | X44: =Table5[[#This Row],[Cost]]/Table5[[#This Row],[SizTB]]*Exchange_Rate -> 0 | Y44: =Table5[[#This Row],[Cost]]+((CompareWarrYrs-Table5[[#This Row],[S]])*(Incremental_Warr_Yr*Table5[[#This Row],[Cost]]))*Exchange_Rate -> 0 | Z44: =Table5[[#This Row],[$+Warr]]/Table5[[#This Row],[SizTB]] -> 0 | AA44: =Table5[[#This Row],[$PerTB]]/CompareWarrYrs -> 0
A45: 43027 | B45: Seagate | C45: Exos 7E2 | D45: NAS | E45: 3.5 | F45: 2 | G45: 7200 | H45: 4.16 | J45: =(Table5[[#This Row],[RPM]]/5400-1) -> 0.33333333 | K45: 194 | L45: 5 | N45: 550 | O45: 2000000 | P45: 1e+15 | R45: 7 | S45: 4.7 | U45: =((30/(1000/R45/24)*$G$137)+(30/(1000/S45/24)*(100%-$G$137)))*$G$136*12 -> 0 | V45: =Table5[Energy$year]/Table5[[#This Row],[SizTB]] -> 0 | W45: 306.6 | X45: =Table5[[#This Row],[Cost]]/Table5[[#This Row],[SizTB]]*Exchange_Rate -> 153.3 | Y45: =Table5[[#This Row],[Cost]]+((CompareWarrYrs-Table5[[#This Row],[S]])*(Incremental_Warr_Yr*Table5[[#This Row],[Cost]]))*Exchange_Rate -> 306.6 | Z45: =Table5[[#This Row],[$+Warr]]/Table5[[#This Row],[SizTB]] -> 153.3 | AA45: =Table5[[#This Row],[$PerTB]]/CompareWarrYrs -> 30.66
A46: 43037 | B46: Seagate | C46: Exos 7E2000 | D46: NAS | E46: 2.5 | F46: 1 | G46: 7200 | H46: 4.16 | J46: =(Table5[[#This Row],[RPM]]/5400-1) -> 0.33333333 | K46: 136 | L46: 5 | M46: 300000 | N46: 550 | O46: 2000000 | P46: 1e+15 | R46: 5.9 | S46: 3.29 | T46: 1.52 | U46: =(((Table5[[#This Row],[Watts Active]]*Power_On_Hours_Year/1000)*Active_Duty_Cycle)+((Table5[[#This Row],[Watts Idle]]*Power_On_Hours_Year/1000)*(100%-Active_Duty_Cycle)))*CostPerKWH -> 4.1768846 | V46: =Table5[Energy$year]/Table5[[#This Row],[SizTB]] -> 4.1768846 | W46: 184.41 | X46: =Table5[[#This Row],[Cost]]/Table5[[#This Row],[SizTB]]*Exchange_Rate -> 184.41 | Y46: =Table5[[#This Row],[Cost]]+((CompareWarrYrs-Table5[[#This Row],[S]])*(Incremental_Warr_Yr*Table5[[#This Row],[Cost]]))*Exchange_Rate -> 184.41 | Z46: =Table5[[#This Row],[$+Warr]]/Table5[[#This Row],[SizTB]] -> 184.41 | AA46: =Table5[[#This Row],[$PerTB]]/CompareWarrYrs -> 36.882
A47: 43027 | B47: Seagate | C47: Exos 7E2000 | D47: NAS | E47: 2.5 | F47: 2 | G47: 7200 | H47: 4.16 | J47: =(Table5[[#This Row],[RPM]]/5400-1) -> 0.33333333 | K47: 136 | L47: 5 | M47: 300000 | N47: 550 | O47: 2000000 | P47: 1e+15 | R47: 6.02 | S47: 3.53 | T47: 1.52 | U47: =(((Table5[[#This Row],[Watts Active]]*Power_On_Hours_Year/1000)*Active_Duty_Cycle)+((Table5[[#This Row],[Watts Idle]]*Power_On_Hours_Year/1000)*(100%-Active_Duty_Cycle)))*CostPerKWH -> 4.4135602 | V47: =Table5[Energy$year]/Table5[[#This Row],[SizTB]] -> 2.2067801 | W47: 329.99 | X47: =Table5[[#This Row],[Cost]]/Table5[[#This Row],[SizTB]]*Exchange_Rate -> 164.995 | Y47: =Table5[[#This Row],[Cost]]+((CompareWarrYrs-Table5[[#This Row],[S]])*(Incremental_Warr_Yr*Table5[[#This Row],[Cost]]))*Exchange_Rate -> 329.99 | Z47: =Table5[[#This Row],[$+Warr]]/Table5[[#This Row],[SizTB]] -> 164.995 | AA47: =Table5[[#This Row],[$PerTB]]/CompareWarrYrs -> 32.999
A48: 43027 | B48: Seagate | C48: Exos 7E8 | D48: NAS | E48: 3.5 | F48: 1 | G48: 7200 | H48: 4.16 | J48: =(Table5[[#This Row],[RPM]]/5400-1) -> 0.33333333 | K48: 215 | L48: 5 | N48: 550 | O48: 2000000 | P48: 1e+15 | R48: 5.91 | S48: 4.25 | U48: =(((Table5[[#This Row],[Watts Active]]*Power_On_Hours_Year/1000)*Active_Duty_Cycle)+((Table5[[#This Row],[Watts Idle]]*Power_On_Hours_Year/1000)*(100%-Active_Duty_Cycle)))*CostPerKWH -> 5.020589 | V48: =Table5[Energy$year]/Table5[[#This Row],[SizTB]] -> 5.020589 | W48: 99.99 | X48: =Table5[[#This Row],[Cost]]/Table5[[#This Row],[SizTB]]*Exchange_Rate -> 99.99 | Y48: =Table5[[#This Row],[Cost]]+((CompareWarrYrs-Table5[[#This Row],[S]])*(Incremental_Warr_Yr*Table5[[#This Row],[Cost]]))*Exchange_Rate -> 99.99 | Z48: =Table5[[#This Row],[$+Warr]]/Table5[[#This Row],[SizTB]] -> 99.99 | AA48: =Table5[[#This Row],[$PerTB]]/CompareWarrYrs -> 19.998
A49: 43044 | B49: Seagate | C49: Exos 7E8 | D49: NAS | E49: 3.5 | F49: 2 | G49: 7200 | H49: 4.16 | J49: =(Table5[[#This Row],[RPM]]/5400-1) -> 0.33333333 | K49: 226 | L49: 5 | N49: 550 | O49: 2000000 | P49: 1e+15 | R49: 5.9 | S49: 4.25 | T49: 0.6 | U49: =(((Table5[[#This Row],[Watts Active]]*Power_On_Hours_Year/1000)*Active_Duty_Cycle)+((Table5[[#This Row],[Watts Idle]]*Power_On_Hours_Year/1000)*(100%-Active_Duty_Cycle)))*CostPerKWH -> 5.0183976 | V49: =Table5[Energy$year]/Table5[[#This Row],[SizTB]] -> 2.5091988 | W49: 139.99 | X49: =Table5[[#This Row],[Cost]]/Table5[[#This Row],[SizTB]]*Exchange_Rate -> 69.995 | Y49: =Table5[[#This Row],[Cost]]+((CompareWarrYrs-Table5[[#This Row],[S]])*(Incremental_Warr_Yr*Table5[[#This Row],[Cost]]))*Exchange_Rate -> 139.99 | Z49: =Table5[[#This Row],[$+Warr]]/Table5[[#This Row],[SizTB]] -> 69.995 | AA49: =Table5[[#This Row],[$PerTB]]/CompareWarrYrs -> 13.999
A50: 43044 | B50: Seagate | C50: Exos 7E8 | D50: NAS | E50: 3.5 | F50: 4 | G50: 7200 | H50: 4.16 | J50: =(Table5[[#This Row],[RPM]]/5400-1) -> 0.33333333 | K50: 226 | L50: 5 | N50: 550 | O50: 2000000 | P50: 1e+15 | R50: 6.94 | S50: 5.45 | T50: 0.6 | U50: =(((Table5[[#This Row],[Watts Active]]*Power_On_Hours_Year/1000)*Active_Duty_Cycle)+((Table5[[#This Row],[Watts Idle]]*Power_On_Hours_Year/1000)*(100%-Active_Duty_Cycle)))*CostPerKWH -> 6.2981986 | V50: =Table5[Energy$year]/Table5[[#This Row],[SizTB]] -> 1.5745496 | W50: 189.99 | X50: =Table5[[#This Row],[Cost]]/Table5[[#This Row],[SizTB]]*Exchange_Rate -> 47.4975 | Y50: =Table5[[#This Row],[Cost]]+((CompareWarrYrs-Table5[[#This Row],[S]])*(Incremental_Warr_Yr*Table5[[#This Row],[Cost]]))*Exchange_Rate -> 189.99 | Z50: =Table5[[#This Row],[$+Warr]]/Table5[[#This Row],[SizTB]] -> 47.4975 | AA50: =Table5[[#This Row],[$PerTB]]/CompareWarrYrs -> 9.4995
A51: 43044 | B51: Seagate | C51: Exos 7E8 | D51: NAS | E51: 3.5 | F51: 6 | G51: 7200 | H51: 4.16 | J51: =(Table5[[#This Row],[RPM]]/5400-1) -> 0.33333333 | K51: 226 | L51: 5 | N51: 550 | O51: 2000000 | P51: 1e+15 | R51: 8.59 | S51: 6.26 | T51: 0.6 | U51: =(((Table5[[#This Row],[Watts Active]]*Power_On_Hours_Year/1000)*Active_Duty_Cycle)+((Table5[[#This Row],[Watts Idle]]*Power_On_Hours_Year/1000)*(100%-Active_Duty_Cycle)))*CostPerKWH -> 7.3698127 | V51: =Table5[Energy$year]/Table5[[#This Row],[SizTB]] -> 1.2283021 | W51: 244.99 | X51: =Table5[[#This Row],[Cost]]/Table5[[#This Row],[SizTB]]*Exchange_Rate -> 40.831667 | Y51: =Table5[[#This Row],[Cost]]+((CompareWarrYrs-Table5[[#This Row],[S]])*(Incremental_Warr_Yr*Table5[[#This Row],[Cost]]))*Exchange_Rate -> 244.99 | Z51: =Table5[[#This Row],[$+Warr]]/Table5[[#This Row],[SizTB]] -> 40.831667 | AA51: =Table5[[#This Row],[$PerTB]]/CompareWarrYrs -> 8.1663333
A52: 43044 | B52: Seagate | C52: Exos 7E8 | D52: NAS | E52: 3.5 | F52: 8 | G52: 7200 | H52: 4.16 | J52: =(Table5[[#This Row],[RPM]]/5400-1) -> 0.33333333 | K52: 249 | L52: 5 | N52: 550 | O52: 2000000 | P52: 1e+15 | R52: 11 | S52: 7.6 | T52: 0.6 | U52: =(((Table5[[#This Row],[Watts Active]]*Power_On_Hours_Year/1000)*Active_Duty_Cycle)+((Table5[[#This Row],[Watts Idle]]*Power_On_Hours_Year/1000)*(100%-Active_Duty_Cycle)))*CostPerKWH -> 9.0725616 | V52: =Table5[Energy$year]/Table5[[#This Row],[SizTB]] -> 1.1340702 | W52: 289.99 | X52: =Table5[[#This Row],[Cost]]/Table5[[#This Row],[SizTB]]*Exchange_Rate -> 36.24875 | Y52: =Table5[[#This Row],[Cost]]+((CompareWarrYrs-Table5[[#This Row],[S]])*(Incremental_Warr_Yr*Table5[[#This Row],[Cost]]))*Exchange_Rate -> 289.99 | Z52: =Table5[[#This Row],[$+Warr]]/Table5[[#This Row],[SizTB]] -> 36.24875 | AA52: =Table5[[#This Row],[$PerTB]]/CompareWarrYrs -> 7.24975
A53: 43027 | B53: Seagate | C53: Exos X10 | D53: NAS | E53: 3.5 | F53: 8 | G53: 7200 | H53: 4.16 | J53: =(Table5[[#This Row],[RPM]]/5400-1) -> 0.33333333 | K53: 237 | L53: 5 | M53: 600000 | N53: 550 | O53: 2500000 | P53: 1e+15 | Q53: 26.21 | R53: 7.8 | S53: 5 | T53: 0.8 | U53: =(((Table5[[#This Row],[Watts Active]]*Power_On_Hours_Year/1000)*Active_Duty_Cycle)+((Table5[[#This Row],[Watts Idle]]*Power_On_Hours_Year/1000)*(100%-Active_Duty_Cycle)))*CostPerKWH -> 6.0922032 | V53: =Table5[Energy$year]/Table5[[#This Row],[SizTB]] -> 0.7615254 | W53: 259.99 | X53: =Table5[[#This Row],[Cost]]/Table5[[#This Row],[SizTB]]*Exchange_Rate -> 32.49875 | Y53: =Table5[[#This Row],[Cost]]+((CompareWarrYrs-Table5[[#This Row],[S]])*(Incremental_Warr_Yr*Table5[[#This Row],[Cost]]))*Exchange_Rate -> 259.99 | Z53: =Table5[[#This Row],[$+Warr]]/Table5[[#This Row],[SizTB]] -> 32.49875 | AA53: =Table5[[#This Row],[$PerTB]]/CompareWarrYrs -> 6.49975 | AB53: Helium filled
A54: 43027 | B54: Seagate | C54: Exos X10 | D54: NAS | E54: 3.5 | F54: 10 | G54: 7200 | H54: 4.16 | J54: =(Table5[[#This Row],[RPM]]/5400-1) -> 0.33333333 | K54: 237 | L54: 5 | M54: 600000 | N54: 550 | O54: 2500000 | P54: 1e+15 | Q54: =0.58*5+1.94*12 -> 26.18 | R54: 7.8 | S54: 5 | T54: 0.8 | U54: =(((Table5[[#This Row],[Watts Active]]*Power_On_Hours_Year/1000)*Active_Duty_Cycle)+((Table5[[#This Row],[Watts Idle]]*Power_On_Hours_Year/1000)*(100%-Active_Duty_Cycle)))*CostPerKWH -> 6.0922032 | V54: =Table5[Energy$year]/Table5[[#This Row],[SizTB]] -> 0.60922032 | W54: 364.99 | X54: =Table5[[#This Row],[Cost]]/Table5[[#This Row],[SizTB]]*Exchange_Rate -> 36.499 | Y54: =Table5[[#This Row],[Cost]]+((CompareWarrYrs-Table5[[#This Row],[S]])*(Incremental_Warr_Yr*Table5[[#This Row],[Cost]]))*Exchange_Rate -> 364.99 | Z54: =Table5[[#This Row],[$+Warr]]/Table5[[#This Row],[SizTB]] -> 36.499 | AA54: =Table5[[#This Row],[$PerTB]]/CompareWarrYrs -> 7.2998 | AB54: Helium filled
A55: 43027 | B55: Seagate | C55: Exos X12 | D55: NAS | E55: 3.5 | F55: 12 | G55: 7200 | H55: 4.16 | J55: =(Table5[[#This Row],[RPM]]/5400-1) -> 0.33333333 | K55: 261 | L55: 5 | M55: 600000 | N55: 550 | O55: 2500000 | P55: 1e+15 | Q55: =0.914*5+1.729*12 -> 25.318 | R55: 7.8 | S55: 5 | T55: 1.15 | U55: =(((Table5[[#This Row],[Watts Active]]*Power_On_Hours_Year/1000)*Active_Duty_Cycle)+((Table5[[#This Row],[Watts Idle]]*Power_On_Hours_Year/1000)*(100%-Active_Duty_Cycle)))*CostPerKWH -> 6.0922032 | V55: =Table5[Energy$year]/Table5[[#This Row],[SizTB]] -> 0.5076836 | W55: 489.22 | X55: =Table5[[#This Row],[Cost]]/Table5[[#This Row],[SizTB]]*Exchange_Rate -> 40.768333 | Y55: =Table5[[#This Row],[Cost]]+((CompareWarrYrs-Table5[[#This Row],[S]])*(Incremental_Warr_Yr*Table5[[#This Row],[Cost]]))*Exchange_Rate -> 489.22 | Z55: =Table5[[#This Row],[$+Warr]]/Table5[[#This Row],[SizTB]] -> 40.768333 | AA55: =Table5[[#This Row],[$PerTB]]/CompareWarrYrs -> 8.1536667 | AB55: Helium filled
A56: 43044 | B56: Seagate | C56: FireCuda SSHD | D56: DT | E56: 3.5 | F56: 1 | G56: 7200 | J56: =(Table5[[#This Row],[RPM]]/5400-1) -> 0.33333333 | L56: 5 | Q56: 24 | R56: 5.9 | S56: 4.5 | T56: 0.63 | U56: =(((Table5[[#This Row],[Watts Active]]*Power_On_Hours_Year/1000)*Active_Duty_Cycle)+((Table5[[#This Row],[Watts Idle]]*Power_On_Hours_Year/1000)*(100%-Active_Duty_Cycle)))*CostPerKWH -> 5.2375416 | V56: =Table5[Energy$year]/Table5[[#This Row],[SizTB]] -> 5.2375416 | W56: 87.22 | X56: =Table5[[#This Row],[Cost]]/Table5[[#This Row],[SizTB]]*Exchange_Rate -> 87.22 | Y56: =Table5[[#This Row],[Cost]]+((CompareWarrYrs-Table5[[#This Row],[S]])*(Incremental_Warr_Yr*Table5[[#This Row],[Cost]]))*Exchange_Rate -> 87.22 | Z56: =Table5[[#This Row],[$+Warr]]/Table5[[#This Row],[SizTB]] -> 87.22 | AA56: =Table5[[#This Row],[$PerTB]]/CompareWarrYrs -> 17.444 | AB56: 8GiB NAND
A57: 43044 | B57: Seagate | C57: FireCuda SSHD | D57: DT | E57: 3.5 | F57: 2 | G57: 7200 | J57: =(Table5[[#This Row],[RPM]]/5400-1) -> 0.33333333 | L57: 5 | Q57: 24 | R57: 6.7 | S57: 3.36 | T57: 0.75 | U57: =(((Table5[[#This Row],[Watts Active]]*Power_On_Hours_Year/1000)*Active_Duty_Cycle)+((Table5[[#This Row],[Watts Idle]]*Power_On_Hours_Year/1000)*(100%-Active_Duty_Cycle)))*CostPerKWH -> 4.4135602 | V57: =Table5[Energy$year]/Table5[[#This Row],[SizTB]] -> 2.2067801 | W57: 113.7 | X57: =Table5[[#This Row],[Cost]]/Table5[[#This Row],[SizTB]]*Exchange_Rate -> 56.85 | Y57: =Table5[[#This Row],[Cost]]+((CompareWarrYrs-Table5[[#This Row],[S]])*(Incremental_Warr_Yr*Table5[[#This Row],[Cost]]))*Exchange_Rate -> 113.7 | Z57: =Table5[[#This Row],[$+Warr]]/Table5[[#This Row],[SizTB]] -> 56.85 | AA57: =Table5[[#This Row],[$PerTB]]/CompareWarrYrs -> 11.37 | AB57: 8GiB NAND
A58: 43044 | B58: Seagate | C58: FireCuda SSHD | D58: LT | E58: 2.5 | F58: 1 | G58: 5400 | J58: =(Table5[[#This Row],[RPM]]/5400-1) -> 0 | L58: 5 | Q58: 5 | R58: 1.7 | S58: 1.45 | U58: =(((Table5[[#This Row],[Watts Active]]*Power_On_Hours_Year/1000)*Active_Duty_Cycle)+((Table5[[#This Row],[Watts Idle]]*Power_On_Hours_Year/1000)*(100%-Active_Duty_Cycle)))*CostPerKWH -> 1.64358 | V58: =Table5[Energy$year]/Table5[[#This Row],[SizTB]] -> 1.64358 | W58: 68.32 | X58: =Table5[[#This Row],[Cost]]/Table5[[#This Row],[SizTB]]*Exchange_Rate -> 68.32 | Y58: =Table5[[#This Row],[Cost]]+((CompareWarrYrs-Table5[[#This Row],[S]])*(Incremental_Warr_Yr*Table5[[#This Row],[Cost]]))*Exchange_Rate -> 68.32 | Z58: =Table5[[#This Row],[$+Warr]]/Table5[[#This Row],[SizTB]] -> 68.32 | AA58: =Table5[[#This Row],[$PerTB]]/CompareWarrYrs -> 13.664 | AB58: 8GiB NAND
A59: 43044 | B59: Seagate | C59: FireCuda SSHD | D59: LT | E59: 2.5 | F59: 2 | G59: 5400 | J59: =(Table5[[#This Row],[RPM]]/5400-1) -> 0 | L59: 5 | Q59: 5 | R59: 1.8 | S59: 1.5 | U59: =(((Table5[[#This Row],[Watts Active]]*Power_On_Hours_Year/1000)*Active_Duty_Cycle)+((Table5[[#This Row],[Watts Idle]]*Power_On_Hours_Year/1000)*(100%-Active_Duty_Cycle)))*CostPerKWH -> 1.7093232 | V59: =Table5[Energy$year]/Table5[[#This Row],[SizTB]] -> 0.8546616 | W59: 112.56 | X59: =Table5[[#This Row],[Cost]]/Table5[[#This Row],[SizTB]]*Exchange_Rate -> 56.28 | Y59: =Table5[[#This Row],[Cost]]+((CompareWarrYrs-Table5[[#This Row],[S]])*(Incremental_Warr_Yr*Table5[[#This Row],[Cost]]))*Exchange_Rate -> 112.56 | Z59: =Table5[[#This Row],[$+Warr]]/Table5[[#This Row],[SizTB]] -> 56.28 | AA59: =Table5[[#This Row],[$PerTB]]/CompareWarrYrs -> 11.256 | AB59: 8GiB NAND
A60: 43053 | B60: Seagate | C60: IronWolf | D60: NAS | E60: 3.5 | F60: 1 | G60: 5900 | H60: 5.1 | I60: 11.99 | J60: =(Table5[[#This Row],[RPM]]/5400-1) -> 0.092592593 | K60: 180 | L60: 3 | M60: 600000 | N60: 180 | O60: 1000000 | P60: =10^14 -> 100000000000000 | Q60: =12*1.2 -> 14.4 | R60: 3.76 | S60: 2.5 | T60: 0.8 | U60: =(((Table5[[#This Row],[Watts Active]]*Power_On_Hours_Year/1000)*Active_Duty_Cycle)+((Table5[[#This Row],[Watts Idle]]*Power_On_Hours_Year/1000)*(100%-Active_Duty_Cycle)))*CostPerKWH -> 3.0154214 | V60: =Table5[Energy$year]/Table5[[#This Row],[SizTB]] -> 3.0154214 | W60: 62.71 | X60: =Table5[[#This Row],[Cost]]/Table5[[#This Row],[SizTB]]*Exchange_Rate -> 62.71 | Y60: =Table5[[#This Row],[Cost]]+((CompareWarrYrs-Table5[[#This Row],[S]])*(Incremental_Warr_Yr*Table5[[#This Row],[Cost]]))*Exchange_Rate -> 76.5062 | Z60: =Table5[[#This Row],[$+Warr]]/Table5[[#This Row],[SizTB]] -> 76.5062 | AA60: =Table5[[#This Row],[$PerTB]]/CompareWarrYrs -> 15.30124 | AB60: 8GiB NAND
A61: 43053 | B61: Seagate | C61: IronWolf | D61: NAS | E61: 3.5 | F61: 2 | G61: 5900 | H61: 5.1 | I61: 11.99 | J61: =(Table5[[#This Row],[RPM]]/5400-1) -> 0.092592593 | K61: 180 | L61: 3 | M61: 600000 | N61: 180 | O61: 1000000 | P61: =10^14 -> 100000000000000 | Q61: =12*2 -> 24 | R61: 4.3 | S61: 3.56 | T61: 0.8 | U61: =(((Table5[[#This Row],[Watts Active]]*Power_On_Hours_Year/1000)*Active_Duty_Cycle)+((Table5[[#This Row],[Watts Idle]]*Power_On_Hours_Year/1000)*(100%-Active_Duty_Cycle)))*CostPerKWH -> 4.0629298 | V61: =Table5[Energy$year]/Table5[[#This Row],[SizTB]] -> 2.0314649 | W61: 84.99 | X61: =Table5[[#This Row],[Cost]]/Table5[[#This Row],[SizTB]]*Exchange_Rate -> 42.495 | Y61: =Table5[[#This Row],[Cost]]+((CompareWarrYrs-Table5[[#This Row],[S]])*(Incremental_Warr_Yr*Table5[[#This Row],[Cost]]))*Exchange_Rate -> 103.6878 | Z61: =Table5[[#This Row],[$+Warr]]/Table5[[#This Row],[SizTB]] -> 51.8439 | AA61: =Table5[[#This Row],[$PerTB]]/CompareWarrYrs -> 10.36878
A62: 43053 | B62: Seagate | C62: IronWolf | D62: NAS | E62: 3.5 | F62: 3 | G62: 5900 | H62: 5.1 | I62: 11.99 | J62: =(Table5[[#This Row],[RPM]]/5400-1) -> 0.092592593 | K62: 180 | L62: 3 | M62: 600000 | N62: 180 | O62: 1000000 | P62: =10^14 -> 100000000000000 | Q62: =12*2 -> 24 | R62: 4.8 | S62: 4.8 | T62: 0.6 | U62: =(((Table5[[#This Row],[Watts Active]]*Power_On_Hours_Year/1000)*Active_Duty_Cycle)+((Table5[[#This Row],[Watts Idle]]*Power_On_Hours_Year/1000)*(100%-Active_Duty_Cycle)))*CostPerKWH -> 5.259456 | V62: =Table5[Energy$year]/Table5[[#This Row],[SizTB]] -> 1.753152 | W62: 104.99 | X62: =Table5[[#This Row],[Cost]]/Table5[[#This Row],[SizTB]]*Exchange_Rate -> 34.996667 | Y62: =Table5[[#This Row],[Cost]]+((CompareWarrYrs-Table5[[#This Row],[S]])*(Incremental_Warr_Yr*Table5[[#This Row],[Cost]]))*Exchange_Rate -> 128.0878 | Z62: =Table5[[#This Row],[$+Warr]]/Table5[[#This Row],[SizTB]] -> 42.695933 | AA62: =Table5[[#This Row],[$PerTB]]/CompareWarrYrs -> 8.5391867
A63: 43064 | B63: Seagate | C63: IronWolf | D63: NAS | E63: 3.5 | F63: 4 | G63: 5900 | H63: 5.1 | I63: 9.5 | J63: =(Table5[[#This Row],[RPM]]/5400-1) -> 0.092592593 | K63: 180 | L63: 3 | M63: 600000 | N63: 180 | O63: 1000000 | P63: =10^14 -> 100000000000000 | Q63: =12*1.8 -> 21.6 | R63: 4.8 | S63: 3.95 | T63: 0.5 | U63: =(((Table5[[#This Row],[Watts Active]]*Power_On_Hours_Year/1000)*Active_Duty_Cycle)+((Table5[[#This Row],[Watts Idle]]*Power_On_Hours_Year/1000)*(100%-Active_Duty_Cycle)))*CostPerKWH -> 4.5143664 | V63: =Table5[Energy$year]/Table5[[#This Row],[SizTB]] -> 1.1285916 | W63: 129.99 | X63: =Table5[[#This Row],[Cost]]/Table5[[#This Row],[SizTB]]*Exchange_Rate -> 32.4975 | Y63: =Table5[[#This Row],[Cost]]+((CompareWarrYrs-Table5[[#This Row],[S]])*(Incremental_Warr_Yr*Table5[[#This Row],[Cost]]))*Exchange_Rate -> 158.5878 | Z63: =Table5[[#This Row],[$+Warr]]/Table5[[#This Row],[SizTB]] -> 39.64695 | AA63: =Table5[[#This Row],[$PerTB]]/CompareWarrYrs -> 7.92939
A64: 43064 | B64: Seagate | C64: IronWolf | D64: NAS | E64: 3.5 | F64: 6 | G64: 7200 | H64: 4 | I64: 9.5 | J64: =(Table5[[#This Row],[RPM]]/5400-1) -> 0.33333333 | K64: 210 | L64: 3 | M64: 600000 | N64: 180 | O64: 1000000 | P64: 1e+15 | Q64: =12*1.8 -> 21.6 | R64: 8.1 | S64: 7.2 | T64: 0.6 | U64: =(((Table5[[#This Row],[Watts Active]]*Power_On_Hours_Year/1000)*Active_Duty_Cycle)+((Table5[[#This Row],[Watts Idle]]*Power_On_Hours_Year/1000)*(100%-Active_Duty_Cycle)))*CostPerKWH -> 8.0864136 | V64: =Table5[Energy$year]/Table5[[#This Row],[SizTB]] -> 1.3477356 | W64: 199.99 | X64: =Table5[[#This Row],[Cost]]/Table5[[#This Row],[SizTB]]*Exchange_Rate -> 33.331667 | Y64: =Table5[[#This Row],[Cost]]+((CompareWarrYrs-Table5[[#This Row],[S]])*(Incremental_Warr_Yr*Table5[[#This Row],[Cost]]))*Exchange_Rate -> 243.9878 | Z64: =Table5[[#This Row],[$+Warr]]/Table5[[#This Row],[SizTB]] -> 40.664633 | AA64: =Table5[[#This Row],[$PerTB]]/CompareWarrYrs -> 8.1329267
A65: 43064 | B65: Seagate | C65: IronWolf | D65: NAS | E65: 3.5 | F65: 8 | G65: 7200 | H65: 4 | I65: 9.5 | J65: =(Table5[[#This Row],[RPM]]/5400-1) -> 0.33333333 | K65: 210 | L65: 3 | M65: 600000 | N65: 180 | O65: 1000000 | P65: 1e+15 | Q65: =12*1.8 -> 21.6 | R65: 8.8 | S65: 7.6 | T65: 0.6 | U65: =(((Table5[[#This Row],[Watts Active]]*Power_On_Hours_Year/1000)*Active_Duty_Cycle)+((Table5[[#This Row],[Watts Idle]]*Power_On_Hours_Year/1000)*(100%-Active_Duty_Cycle)))*CostPerKWH -> 8.5904448 | V65: =Table5[Energy$year]/Table5[[#This Row],[SizTB]] -> 1.0738056 | W65: 231.88 | X65: =Table5[[#This Row],[Cost]]/Table5[[#This Row],[SizTB]]*Exchange_Rate -> 28.985 | Y65: =Table5[[#This Row],[Cost]]+((CompareWarrYrs-Table5[[#This Row],[S]])*(Incremental_Warr_Yr*Table5[[#This Row],[Cost]]))*Exchange_Rate -> 282.8936 | Z65: =Table5[[#This Row],[$+Warr]]/Table5[[#This Row],[SizTB]] -> 35.3617 | AA65: =Table5[[#This Row],[$PerTB]]/CompareWarrYrs -> 7.07234
A66: 43064 | B66: Seagate | C66: IronWolf | D66: NAS | E66: 3.5 | F66: 10 | G66: 7200 | J66: =(Table5[[#This Row],[RPM]]/5400-1) -> 0.33333333 | K66: 210 | L66: 3 | M66: 600000 | N66: 180 | O66: 1000000 | P66: 1e+15 | Q66: =12*1.8 -> 21.6 | R66: 7.8 | S66: 5 | T66: 0.8 | U66: =(((Table5[[#This Row],[Watts Active]]*Power_On_Hours_Year/1000)*Active_Duty_Cycle)+((Table5[[#This Row],[Watts Idle]]*Power_On_Hours_Year/1000)*(100%-Active_Duty_Cycle)))*CostPerKWH -> 6.0922032 | V66: =Table5[Energy$year]/Table5[[#This Row],[SizTB]] -> 0.60922032 | W66: 299.99 | X66: =Table5[[#This Row],[Cost]]/Table5[[#This Row],[SizTB]]*Exchange_Rate -> 29.999 | Y66: =Table5[[#This Row],[Cost]]+((CompareWarrYrs-Table5[[#This Row],[S]])*(Incremental_Warr_Yr*Table5[[#This Row],[Cost]]))*Exchange_Rate -> 365.9878 | Z66: =Table5[[#This Row],[$+Warr]]/Table5[[#This Row],[SizTB]] -> 36.59878 | AA66: =Table5[[#This Row],[$PerTB]]/CompareWarrYrs -> 7.319756
A67: 43064 | B67: Seagate | C67: IronWolf | D67: NAS | E67: 3.5 | F67: 12 | G67: 7200 | H67: 4.16 | J67: =(Table5[[#This Row],[RPM]]/5400-1) -> 0.33333333 | K67: 210 | L67: 3 | M67: 600000 | N67: 180 | O67: 1000000 | P67: 1e+15 | Q67: =1.8*12 -> 21.6 | R67: 7.8 | S67: 5 | T67: 0.8 | U67: =(((Table5[[#This Row],[Watts Active]]*Power_On_Hours_Year/1000)*Active_Duty_Cycle)+((Table5[[#This Row],[Watts Idle]]*Power_On_Hours_Year/1000)*(100%-Active_Duty_Cycle)))*CostPerKWH -> 6.0922032 | V67: =Table5[Energy$year]/Table5[[#This Row],[SizTB]] -> 0.5076836 | W67: 396.99 | X67: =Table5[[#This Row],[Cost]]/Table5[[#This Row],[SizTB]]*Exchange_Rate -> 33.0825 | Y67: =Table5[[#This Row],[Cost]]+((CompareWarrYrs-Table5[[#This Row],[S]])*(Incremental_Warr_Yr*Table5[[#This Row],[Cost]]))*Exchange_Rate -> 484.3278 | Z67: =Table5[[#This Row],[$+Warr]]/Table5[[#This Row],[SizTB]] -> 40.36065 | AA67: =Table5[[#This Row],[$PerTB]]/CompareWarrYrs -> 8.07213
A68: 43053 | B68: Seagate | C68: IronWolf Pro | D68: NAS | E68: 3.5 | F68: 2 | G68: 7200 | H68: 4.16 | J68: =(Table5[[#This Row],[RPM]]/5400-1) -> 0.33333333 | K68: 195 | L68: 5 | N68: 300 | O68: 1200000 | P68: 1e+15 | Q68: =12*2 -> 24 | R68: 6.5 | S68: 4.61 | T68: 0.8 | U68: =(((Table5[[#This Row],[Watts Active]]*Power_On_Hours_Year/1000)*Active_Duty_Cycle)+((Table5[[#This Row],[Watts Idle]]*Power_On_Hours_Year/1000)*(100%-Active_Duty_Cycle)))*CostPerKWH -> 5.4654514 | V68: =Table5[Energy$year]/Table5[[#This Row],[SizTB]] -> 2.7327257 | W68: 124.99 | X68: =Table5[[#This Row],[Cost]]/Table5[[#This Row],[SizTB]]*Exchange_Rate -> 62.495 | Y68: =Table5[[#This Row],[Cost]]+((CompareWarrYrs-Table5[[#This Row],[S]])*(Incremental_Warr_Yr*Table5[[#This Row],[Cost]]))*Exchange_Rate -> 124.99 | Z68: =Table5[[#This Row],[$+Warr]]/Table5[[#This Row],[SizTB]] -> 62.495 | AA68: =Table5[[#This Row],[$PerTB]]/CompareWarrYrs -> 12.499
A69: 43053 | B69: Seagate | C69: IronWolf Pro | D69: NAS | E69: 3.5 | F69: 4 | G69: 7200 | H69: 4.16 | J69: =(Table5[[#This Row],[RPM]]/5400-1) -> 0.33333333 | K69: 214 | L69: 5 | N69: 300 | O69: 1200000 | P69: 1e+15 | Q69: =12*2 -> 24 | R69: 8.5 | S69: 5.45 | T69: 0.6 | U69: =(((Table5[[#This Row],[Watts Active]]*Power_On_Hours_Year/1000)*Active_Duty_Cycle)+((Table5[[#This Row],[Watts Idle]]*Power_On_Hours_Year/1000)*(100%-Active_Duty_Cycle)))*CostPerKWH -> 6.6400632 | V69: =Table5[Energy$year]/Table5[[#This Row],[SizTB]] -> 1.6600158 | W69: 189.99 | X69: =Table5[[#This Row],[Cost]]/Table5[[#This Row],[SizTB]]*Exchange_Rate -> 47.4975 | Y69: =Table5[[#This Row],[Cost]]+((CompareWarrYrs-Table5[[#This Row],[S]])*(Incremental_Warr_Yr*Table5[[#This Row],[Cost]]))*Exchange_Rate -> 189.99 | Z69: =Table5[[#This Row],[$+Warr]]/Table5[[#This Row],[SizTB]] -> 47.4975 | AA69: =Table5[[#This Row],[$PerTB]]/CompareWarrYrs -> 9.4995
A70: 43053 | B70: Seagate | C70: IronWolf Pro | D70: NAS | E70: 3.5 | F70: 6 | G70: 7200 | H70: 4.16 | J70: =(Table5[[#This Row],[RPM]]/5400-1) -> 0.33333333 | K70: 214 | L70: 5 | N70: 300 | O70: 1200000 | P70: 1e+15 | Q70: =12*2 -> 24 | R70: 8.1 | S70: 7.5 | T70: 0.6 | U70: =(((Table5[[#This Row],[Watts Active]]*Power_On_Hours_Year/1000)*Active_Duty_Cycle)+((Table5[[#This Row],[Watts Idle]]*Power_On_Hours_Year/1000)*(100%-Active_Duty_Cycle)))*CostPerKWH -> 8.3493864 | V70: =Table5[Energy$year]/Table5[[#This Row],[SizTB]] -> 1.3915644 | W70: 259.99 | X70: =Table5[[#This Row],[Cost]]/Table5[[#This Row],[SizTB]]*Exchange_Rate -> 43.331667 | Y70: =Table5[[#This Row],[Cost]]+((CompareWarrYrs-Table5[[#This Row],[S]])*(Incremental_Warr_Yr*Table5[[#This Row],[Cost]]))*Exchange_Rate -> 259.99 | Z70: =Table5[[#This Row],[$+Warr]]/Table5[[#This Row],[SizTB]] -> 43.331667 | AA70: =Table5[[#This Row],[$PerTB]]/CompareWarrYrs -> 8.6663333
A71: 43053 | B71: Seagate | C71: IronWolf Pro | D71: NAS | E71: 3.5 | F71: 8 | G71: 7200 | H71: 4.16 | J71: =(Table5[[#This Row],[RPM]]/5400-1) -> 0.33333333 | K71: 214 | L71: 5 | N71: 300 | O71: 1200000 | P71: 1e+15 | Q71: =12*2 -> 24 | R71: 7.4 | S71: 4.4 | T71: 0.8 | U71: =(((Table5[[#This Row],[Watts Active]]*Power_On_Hours_Year/1000)*Active_Duty_Cycle)+((Table5[[#This Row],[Watts Idle]]*Power_On_Hours_Year/1000)*(100%-Active_Duty_Cycle)))*CostPerKWH -> 5.4786 | V71: =Table5[Energy$year]/Table5[[#This Row],[SizTB]] -> 0.684825 | W71: 319.99 | X71: =Table5[[#This Row],[Cost]]/Table5[[#This Row],[SizTB]]*Exchange_Rate -> 39.99875 | Y71: =Table5[[#This Row],[Cost]]+((CompareWarrYrs-Table5[[#This Row],[S]])*(Incremental_Warr_Yr*Table5[[#This Row],[Cost]]))*Exchange_Rate -> 319.99 | Z71: =Table5[[#This Row],[$+Warr]]/Table5[[#This Row],[SizTB]] -> 39.99875 | AA71: =Table5[[#This Row],[$PerTB]]/CompareWarrYrs -> 7.99975
A72: 43053 | B72: Seagate | C72: IronWolf Pro | D72: NAS | E72: 3.5 | F72: 10 | G72: 7200 | H72: 4.16 | J72: =(Table5[[#This Row],[RPM]]/5400-1) -> 0.33333333 | K72: 214 | L72: 5 | N72: 300 | O72: 1200000 | P72: 1e+15 | Q72: 24 | R72: 7.4 | S72: 5 | T72: 0.8 | U72: =(((Table5[[#This Row],[Watts Active]]*Power_On_Hours_Year/1000)*Active_Duty_Cycle)+((Table5[[#This Row],[Watts Idle]]*Power_On_Hours_Year/1000)*(100%-Active_Duty_Cycle)))*CostPerKWH -> 6.0045456 | V72: =Table5[Energy$year]/Table5[[#This Row],[SizTB]] -> 0.60045456 | W72: 409.99 | X72: =Table5[[#This Row],[Cost]]/Table5[[#This Row],[SizTB]]*Exchange_Rate -> 40.999 | Y72: =Table5[[#This Row],[Cost]]+((CompareWarrYrs-Table5[[#This Row],[S]])*(Incremental_Warr_Yr*Table5[[#This Row],[Cost]]))*Exchange_Rate -> 409.99 | Z72: =Table5[[#This Row],[$+Warr]]/Table5[[#This Row],[SizTB]] -> 40.999 | AA72: =Table5[[#This Row],[$PerTB]]/CompareWarrYrs -> 8.1998
A73: 43053 | B73: Seagate | C73: IronWolf Pro | D73: NAS | E73: 3.5 | F73: 12 | G73: 7200 | H73: 4.16 | J73: =(Table5[[#This Row],[RPM]]/5400-1) -> 0.33333333 | L73: 5 | N73: 300 | O73: 1200000 | P73: 1e+15 | Q73: 24 | R73: 7.8 | S73: 5 | T73: 0.8 | U73: =(((Table5[[#This Row],[Watts Active]]*Power_On_Hours_Year/1000)*Active_Duty_Cycle)+((Table5[[#This Row],[Watts Idle]]*Power_On_Hours_Year/1000)*(100%-Active_Duty_Cycle)))*CostPerKWH -> 6.0922032 | V73: =Table5[Energy$year]/Table5[[#This Row],[SizTB]] -> 0.5076836 | W73: 509.99 | X73: =Table5[[#This Row],[Cost]]/Table5[[#This Row],[SizTB]]*Exchange_Rate -> 42.499167 | Y73: =Table5[[#This Row],[Cost]]+((CompareWarrYrs-Table5[[#This Row],[S]])*(Incremental_Warr_Yr*Table5[[#This Row],[Cost]]))*Exchange_Rate -> 509.99 | Z73: =Table5[[#This Row],[$+Warr]]/Table5[[#This Row],[SizTB]] -> 42.499167 | AA73: =Table5[[#This Row],[$PerTB]]/CompareWarrYrs -> 8.4998333
A74: 43046 | B74: Seagate | C74: Terascale | D74: NAS | E74: 3.5 | F74: 4 | G74: 5900 | H74: 5.1 | I74: 16 | J74: =(Table5[[#This Row],[RPM]]/5400-1) -> 0.092592593 | K74: 140 | L74: 3 | M74: 300000 | N74: 180 | O74: 800000 | P74: =10^14 -> 100000000000000 | Q74: 24 | R74: 6.49 | S74: 4.59 | T74: 0.77 | U74: =(((Table5[[#This Row],[Watts Active]]*Power_On_Hours_Year/1000)*Active_Duty_Cycle)+((Table5[[#This Row],[Watts Idle]]*Power_On_Hours_Year/1000)*(100%-Active_Duty_Cycle)))*CostPerKWH -> 5.4457284 | V74: =Table5[Energy$year]/Table5[[#This Row],[SizTB]] -> 1.3614321 | W74: 189.99 | X74: =Table5[[#This Row],[Cost]]/Table5[[#This Row],[SizTB]]*Exchange_Rate -> 47.4975 | Y74: =Table5[[#This Row],[Cost]]+((CompareWarrYrs-Table5[[#This Row],[S]])*(Incremental_Warr_Yr*Table5[[#This Row],[Cost]]))*Exchange_Rate -> 231.7878 | Z74: =Table5[[#This Row],[$+Warr]]/Table5[[#This Row],[SizTB]] -> 57.94695 | AA74: =Table5[[#This Row],[$PerTB]]/CompareWarrYrs -> 11.58939
A75: 43044 | B75: Toshiba | C75: Enterprise Capacity | D75: NAS | E75: 3.5 | F75: 6 | G75: 7200 | I75: 8.5 | J75: =(Table5[[#This Row],[RPM]]/5400-1) -> 0.33333333 | K75: 230 | L75: 5 | M75: 600000 | N75: 550 | O75: 2500000 | P75: =10^16 -> 1e+16 | R75: 8.3 | S75: 5.6 | U75: =(((Table5[[#This Row],[Watts Active]]*Power_On_Hours_Year/1000)*Active_Duty_Cycle)+((Table5[[#This Row],[Watts Idle]]*Power_On_Hours_Year/1000)*(100%-Active_Duty_Cycle)))*CostPerKWH -> 6.7277208 | V75: =Table5[Energy$year]/Table5[[#This Row],[SizTB]] -> 1.1212868 | W75: 272.17 | X75: =Table5[[#This Row],[Cost]]/Table5[[#This Row],[SizTB]]*Exchange_Rate -> 45.361667 | Y75: =Table5[[#This Row],[Cost]]+((CompareWarrYrs-Table5[[#This Row],[S]])*(Incremental_Warr_Yr*Table5[[#This Row],[Cost]]))*Exchange_Rate -> 272.17 | Z75: =Table5[[#This Row],[$+Warr]]/Table5[[#This Row],[SizTB]] -> 45.361667 | AA75: =Table5[[#This Row],[$PerTB]]/CompareWarrYrs -> 9.0723333 | AB75: Flash Memory Powerloss
A76: 43044 | B76: Toshiba | C76: Enterprise Capacity | D76: NAS | E76: 3.5 | F76: 8 | G76: 7200 | I76: 8.5 | J76: =(Table5[[#This Row],[RPM]]/5400-1) -> 0.33333333 | K76: 230 | L76: 5 | M76: 600000 | N76: 550 | O76: 2500000 | P76: =10^16 -> 1e+16 | R76: 9.1 | S76: 6.4 | U76: =(((Table5[[#This Row],[Watts Active]]*Power_On_Hours_Year/1000)*Active_Duty_Cycle)+((Table5[[#This Row],[Watts Idle]]*Power_On_Hours_Year/1000)*(100%-Active_Duty_Cycle)))*CostPerKWH -> 7.6042968 | V76: =Table5[Energy$year]/Table5[[#This Row],[SizTB]] -> 0.9505371 | W76: 340.82 | X76: =Table5[[#This Row],[Cost]]/Table5[[#This Row],[SizTB]]*Exchange_Rate -> 42.6025 | Y76: =Table5[[#This Row],[Cost]]+((CompareWarrYrs-Table5[[#This Row],[S]])*(Incremental_Warr_Yr*Table5[[#This Row],[Cost]]))*Exchange_Rate -> 340.82 | Z76: =Table5[[#This Row],[$+Warr]]/Table5[[#This Row],[SizTB]] -> 42.6025 | AA76: =Table5[[#This Row],[$PerTB]]/CompareWarrYrs -> 8.5205 | AB76: Flash Memory Powerloss
A77: 43044 | B77: Toshiba | C77: Enterprise Capacity | D77: NAS | E77: 3.5 | F77: 10 | G77: 7200 | I77: 8.5 | J77: =(Table5[[#This Row],[RPM]]/5400-1) -> 0.33333333 | K77: 237 | L77: 5 | M77: 600000 | N77: 550 | O77: 2500000 | P77: =10^16 -> 1e+16 | R77: 10 | S77: 7.3 | U77: =(((Table5[[#This Row],[Watts Active]]*Power_On_Hours_Year/1000)*Active_Duty_Cycle)+((Table5[[#This Row],[Watts Idle]]*Power_On_Hours_Year/1000)*(100%-Active_Duty_Cycle)))*CostPerKWH -> 8.5904448 | V77: =Table5[Energy$year]/Table5[[#This Row],[SizTB]] -> 0.85904448 | X77: =Table5[[#This Row],[Cost]]/Table5[[#This Row],[SizTB]]*Exchange_Rate -> 0 | Y77: =Table5[[#This Row],[Cost]]+((CompareWarrYrs-Table5[[#This Row],[S]])*(Incremental_Warr_Yr*Table5[[#This Row],[Cost]]))*Exchange_Rate -> 0 | Z77: =Table5[[#This Row],[$+Warr]]/Table5[[#This Row],[SizTB]] -> 0 | AA77: =Table5[[#This Row],[$PerTB]]/CompareWarrYrs -> 0 | AB77: Flash Memory Powerloss
A78: 43044 | B78: Toshiba | C78: Enterprise Performance | D78: NAS | E78: 2.5 | F78: 1.8 | G78: 10500 | H78: 2.86 | I78: 4 | J78: =(Table5[[#This Row],[RPM]]/5400-1) -> 0.94444444 | K78: 226 | L78: 5 | O78: 2000000 | P78: =10^17 -> 1e+17 | R78: 8.7 | S78: 4 | U78: =(((Table5[[#This Row],[Watts Active]]*Power_On_Hours_Year/1000)*Active_Duty_Cycle)+((Table5[[#This Row],[Watts Idle]]*Power_On_Hours_Year/1000)*(100%-Active_Duty_Cycle)))*CostPerKWH -> 5.4128568 | V78: =Table5[Energy$year]/Table5[[#This Row],[SizTB]] -> 3.0071427 | W78: 349 | X78: =Table5[[#This Row],[Cost]]/Table5[[#This Row],[SizTB]]*Exchange_Rate -> 193.88889 | Y78: =Table5[[#This Row],[Cost]]+((CompareWarrYrs-Table5[[#This Row],[S]])*(Incremental_Warr_Yr*Table5[[#This Row],[Cost]]))*Exchange_Rate -> 349 | Z78: =Table5[[#This Row],[$+Warr]]/Table5[[#This Row],[SizTB]] -> 193.88889 | AA78: =Table5[[#This Row],[$PerTB]]/CompareWarrYrs -> 38.777778
A79: 43044 | B79: Toshiba | C79: Enterprise Performance | D79: NAS | E79: 2.5 | F79: 0.9 | G79: 15000 | H79: 2 | I79: 2.9 | J79: =(Table5[[#This Row],[RPM]]/5400-1) -> 1.7777778 | K79: 259 | L79: 5 | M79: 600000 | O79: 2000000 | P79: =10^17 -> 1e+17 | R79: 9 | S79: 5.6 | U79: =(((Table5[[#This Row],[Watts Active]]*Power_On_Hours_Year/1000)*Active_Duty_Cycle)+((Table5[[#This Row],[Watts Idle]]*Power_On_Hours_Year/1000)*(100%-Active_Duty_Cycle)))*CostPerKWH -> 6.8811216 | V79: =Table5[Energy$year]/Table5[[#This Row],[SizTB]] -> 7.6456907 | W79: 194.39 | X79: =Table5[[#This Row],[Cost]]/Table5[[#This Row],[SizTB]]*Exchange_Rate -> 215.98889 | Y79: =Table5[[#This Row],[Cost]]+((CompareWarrYrs-Table5[[#This Row],[S]])*(Incremental_Warr_Yr*Table5[[#This Row],[Cost]]))*Exchange_Rate -> 194.39 | Z79: =Table5[[#This Row],[$+Warr]]/Table5[[#This Row],[SizTB]] -> 215.98889 | AA79: =Table5[[#This Row],[$PerTB]]/CompareWarrYrs -> 43.197778
A80: 43046 | B80: Toshiba | C80: N300 | D80: NAS | E80: 3.5 | F80: 4 | G80: 7200 | H80: 4.17 | J80: =(Table5[[#This Row],[RPM]]/5400-1) -> 0.33333333 | K80: 200 | L80: 3 | N80: 180 | O80: 1000000 | P80: =10^14 -> 100000000000000 | R80: 9.6 | S80: 5.2 | U80: =(((Table5[[#This Row],[Watts Active]]*Power_On_Hours_Year/1000)*Active_Duty_Cycle)+((Table5[[#This Row],[Watts Idle]]*Power_On_Hours_Year/1000)*(100%-Active_Duty_Cycle)))*CostPerKWH -> 6.6619776 | V80: =Table5[Energy$year]/Table5[[#This Row],[SizTB]] -> 1.6654944 | W80: 139.99 | X80: =Table5[[#This Row],[Cost]]/Table5[[#This Row],[SizTB]]*Exchange_Rate -> 34.9975 | Y80: =Table5[[#This Row],[Cost]]+((CompareWarrYrs-Table5[[#This Row],[S]])*(Incremental_Warr_Yr*Table5[[#This Row],[Cost]]))*Exchange_Rate -> 170.7878 | Z80: =Table5[[#This Row],[$+Warr]]/Table5[[#This Row],[SizTB]] -> 42.69695 | AA80: =Table5[[#This Row],[$PerTB]]/CompareWarrYrs -> 8.53939
A81: 43046 | B81: Toshiba | C81: N300 | D81: NAS | E81: 3.5 | F81: 6 | G81: 7200 | H81: 4.17 | J81: =(Table5[[#This Row],[RPM]]/5400-1) -> 0.33333333 | K81: 210 | L81: 3 | N81: 180 | O81: 1000000 | P81: =10^14 -> 100000000000000 | R81: 10.1 | S81: 6.7 | U81: =(((Table5[[#This Row],[Watts Active]]*Power_On_Hours_Year/1000)*Active_Duty_Cycle)+((Table5[[#This Row],[Watts Idle]]*Power_On_Hours_Year/1000)*(100%-Active_Duty_Cycle)))*CostPerKWH -> 8.0864136 | V81: =Table5[Energy$year]/Table5[[#This Row],[SizTB]] -> 1.3477356 | W81: 219.99 | X81: =Table5[[#This Row],[Cost]]/Table5[[#This Row],[SizTB]]*Exchange_Rate -> 36.665 | Y81: =Table5[[#This Row],[Cost]]+((CompareWarrYrs-Table5[[#This Row],[S]])*(Incremental_Warr_Yr*Table5[[#This Row],[Cost]]))*Exchange_Rate -> 268.3878 | Z81: =Table5[[#This Row],[$+Warr]]/Table5[[#This Row],[SizTB]] -> 44.7313 | AA81: =Table5[[#This Row],[$PerTB]]/CompareWarrYrs -> 8.94626
A82: 43046 | B82: Toshiba | C82: N300 | D82: NAS | E82: 3.5 | F82: 8 | G82: 7200 | H82: 4.17 | J82: =(Table5[[#This Row],[RPM]]/5400-1) -> 0.33333333 | K82: 240 | L82: 3 | N82: 180 | O82: 1000000 | P82: =10^14 -> 100000000000000 | R82: 9.2 | S82: 6.2 | U82: =(((Table5[[#This Row],[Watts Active]]*Power_On_Hours_Year/1000)*Active_Duty_Cycle)+((Table5[[#This Row],[Watts Idle]]*Power_On_Hours_Year/1000)*(100%-Active_Duty_Cycle)))*CostPerKWH -> 7.450896 | V82: =Table5[Energy$year]/Table5[[#This Row],[SizTB]] -> 0.931362 | W82: 229.99 | X82: =Table5[[#This Row],[Cost]]/Table5[[#This Row],[SizTB]]*Exchange_Rate -> 28.74875 | Y82: =Table5[[#This Row],[Cost]]+((CompareWarrYrs-Table5[[#This Row],[S]])*(Incremental_Warr_Yr*Table5[[#This Row],[Cost]]))*Exchange_Rate -> 280.5878 | Z82: =Table5[[#This Row],[$+Warr]]/Table5[[#This Row],[SizTB]] -> 35.073475 | AA82: =Table5[[#This Row],[$PerTB]]/CompareWarrYrs -> 7.014695
A83: 43055 | B83: Toshiba | C83: P300 | D83: DT | E83: 3.5 | F83: 1 | G83: 7200 | H83: 4.17 | J83: =(Table5[[#This Row],[RPM]]/5400-1) -> 0.33333333 | L83: 2 | P83: =10^14 -> 100000000000000 | R83: 6.4 | S83: 3.7 | U83: =(((Table5[[#This Row],[Watts Active]]*Power_On_Hours_Year/1000)*Active_Duty_Cycle)+((Table5[[#This Row],[Watts Idle]]*Power_On_Hours_Year/1000)*(100%-Active_Duty_Cycle)))*CostPerKWH -> 4.6458528 | V83: =Table5[Energy$year]/Table5[[#This Row],[SizTB]] -> 4.6458528 | W83: 49.99 | X83: =Table5[[#This Row],[Cost]]/Table5[[#This Row],[SizTB]]*Exchange_Rate -> 49.99 | Y83: =Table5[[#This Row],[Cost]]+((CompareWarrYrs-Table5[[#This Row],[S]])*(Incremental_Warr_Yr*Table5[[#This Row],[Cost]]))*Exchange_Rate -> 66.4867 | Z83: =Table5[[#This Row],[$+Warr]]/Table5[[#This Row],[SizTB]] -> 66.4867 | AA83: =Table5[[#This Row],[$PerTB]]/CompareWarrYrs -> 13.29734
A84: 43055 | B84: Toshiba | C84: P300 | D84: DT | E84: 3.5 | F84: 2 | G84: 7200 | H84: 4.17 | J84: =(Table5[[#This Row],[RPM]]/5400-1) -> 0.33333333 | L84: 2 | P84: =10^14 -> 100000000000000 | R84: 6.4 | S84: 5.2 | U84: =(((Table5[[#This Row],[Watts Active]]*Power_On_Hours_Year/1000)*Active_Duty_Cycle)+((Table5[[#This Row],[Watts Idle]]*Power_On_Hours_Year/1000)*(100%-Active_Duty_Cycle)))*CostPerKWH -> 5.9607168 | V84: =Table5[Energy$year]/Table5[[#This Row],[SizTB]] -> 2.9803584 | W84: 71.99 | X84: =Table5[[#This Row],[Cost]]/Table5[[#This Row],[SizTB]]*Exchange_Rate -> 35.995 | Y84: =Table5[[#This Row],[Cost]]+((CompareWarrYrs-Table5[[#This Row],[S]])*(Incremental_Warr_Yr*Table5[[#This Row],[Cost]]))*Exchange_Rate -> 95.7467 | Z84: =Table5[[#This Row],[$+Warr]]/Table5[[#This Row],[SizTB]] -> 47.87335 | AA84: =Table5[[#This Row],[$PerTB]]/CompareWarrYrs -> 9.57467
A85: 43055 | B85: Toshiba | C85: P300 | D85: DT | E85: 3.5 | F85: 3 | G85: 7200 | H85: 4.17 | J85: =(Table5[[#This Row],[RPM]]/5400-1) -> 0.33333333 | L85: 2 | P85: =10^14 -> 100000000000000 | R85: 6.4 | S85: 5.2 | U85: =(((Table5[[#This Row],[Watts Active]]*Power_On_Hours_Year/1000)*Active_Duty_Cycle)+((Table5[[#This Row],[Watts Idle]]*Power_On_Hours_Year/1000)*(100%-Active_Duty_Cycle)))*CostPerKWH -> 5.9607168 | V85: =Table5[Energy$year]/Table5[[#This Row],[SizTB]] -> 1.9869056 | W85: 69.99 | X85: =Table5[[#This Row],[Cost]]/Table5[[#This Row],[SizTB]]*Exchange_Rate -> 23.33 | Y85: =Table5[[#This Row],[Cost]]+((CompareWarrYrs-Table5[[#This Row],[S]])*(Incremental_Warr_Yr*Table5[[#This Row],[Cost]]))*Exchange_Rate -> 93.0867 | Z85: =Table5[[#This Row],[$+Warr]]/Table5[[#This Row],[SizTB]] -> 31.0289 | AA85: =Table5[[#This Row],[$PerTB]]/CompareWarrYrs -> 6.20578
A86: 43055 | B86: Toshiba | C86: X300 | D86: DT | E86: 3.5 | F86: 4 | G86: 7200 | H86: 4.17 | J86: =(Table5[[#This Row],[RPM]]/5400-1) -> 0.33333333 | L86: 2 | P86: =10^14 -> 100000000000000 | R86: 11.3 | S86: 6 | U86: =(((Table5[[#This Row],[Watts Active]]*Power_On_Hours_Year/1000)*Active_Duty_Cycle)+((Table5[[#This Row],[Watts Idle]]*Power_On_Hours_Year/1000)*(100%-Active_Duty_Cycle)))*CostPerKWH -> 7.7357832 | V86: =Table5[Energy$year]/Table5[[#This Row],[SizTB]] -> 1.9339458 | W86: 119.99 | X86: =Table5[[#This Row],[Cost]]/Table5[[#This Row],[SizTB]]*Exchange_Rate -> 29.9975 | Y86: =Table5[[#This Row],[Cost]]+((CompareWarrYrs-Table5[[#This Row],[S]])*(Incremental_Warr_Yr*Table5[[#This Row],[Cost]]))*Exchange_Rate -> 159.5867 | Z86: =Table5[[#This Row],[$+Warr]]/Table5[[#This Row],[SizTB]] -> 39.896675 | AA86: =Table5[[#This Row],[$PerTB]]/CompareWarrYrs -> 7.979335
A87: 43055 | B87: Toshiba | C87: X300 | D87: DT | E87: 3.5 | F87: 5 | G87: 7200 | H87: 4.17 | J87: =(Table5[[#This Row],[RPM]]/5400-1) -> 0.33333333 | L87: 2 | P87: =10^14 -> 100000000000000 | R87: 11.3 | S87: 6 | U87: =(((Table5[[#This Row],[Watts Active]]*Power_On_Hours_Year/1000)*Active_Duty_Cycle)+((Table5[[#This Row],[Watts Idle]]*Power_On_Hours_Year/1000)*(100%-Active_Duty_Cycle)))*CostPerKWH -> 7.7357832 | V87: =Table5[Energy$year]/Table5[[#This Row],[SizTB]] -> 1.5471566 | W87: 119.99 | X87: =Table5[[#This Row],[Cost]]/Table5[[#This Row],[SizTB]]*Exchange_Rate -> 23.998 | Y87: =Table5[[#This Row],[Cost]]+((CompareWarrYrs-Table5[[#This Row],[S]])*(Incremental_Warr_Yr*Table5[[#This Row],[Cost]]))*Exchange_Rate -> 159.5867 | Z87: =Table5[[#This Row],[$+Warr]]/Table5[[#This Row],[SizTB]] -> 31.91734 | AA87: =Table5[[#This Row],[$PerTB]]/CompareWarrYrs -> 6.383468
A88: 43055 | B88: Toshiba | C88: X300 | D88: DT | E88: 3.5 | F88: 6 | G88: 7200 | H88: 4.17 | J88: =(Table5[[#This Row],[RPM]]/5400-1) -> 0.33333333 | L88: 2 | P88: =10^14 -> 100000000000000 | R88: 11.3 | S88: 6 | U88: =(((Table5[[#This Row],[Watts Active]]*Power_On_Hours_Year/1000)*Active_Duty_Cycle)+((Table5[[#This Row],[Watts Idle]]*Power_On_Hours_Year/1000)*(100%-Active_Duty_Cycle)))*CostPerKWH -> 7.7357832 | V88: =Table5[Energy$year]/Table5[[#This Row],[SizTB]] -> 1.2892972 | W88: 189.99 | X88: =Table5[[#This Row],[Cost]]/Table5[[#This Row],[SizTB]]*Exchange_Rate -> 31.665 | Y88: =Table5[[#This Row],[Cost]]+((CompareWarrYrs-Table5[[#This Row],[S]])*(Incremental_Warr_Yr*Table5[[#This Row],[Cost]]))*Exchange_Rate -> 252.6867 | Z88: =Table5[[#This Row],[$+Warr]]/Table5[[#This Row],[SizTB]] -> 42.11445 | AA88: =Table5[[#This Row],[$PerTB]]/CompareWarrYrs -> 8.42289
A89: 43055 | B89: Toshiba | C89: X300 | D89: DT | E89: 3.5 | F89: 8 | G89: 7200 | H89: 4.17 | J89: =(Table5[[#This Row],[RPM]]/5400-1) -> 0.33333333 | L89: 2 | P89: =10^14 -> 100000000000000 | R89: 11.3 | S89: 6 | U89: =(((Table5[[#This Row],[Watts Active]]*Power_On_Hours_Year/1000)*Active_Duty_Cycle)+((Table5[[#This Row],[Watts Idle]]*Power_On_Hours_Year/1000)*(100%-Active_Duty_Cycle)))*CostPerKWH -> 7.7357832 | V89: =Table5[Energy$year]/Table5[[#This Row],[SizTB]] -> 0.9669729 | W89: 249.99 | X89: =Table5[[#This Row],[Cost]]/Table5[[#This Row],[SizTB]]*Exchange_Rate -> 31.24875 | Y89: =Table5[[#This Row],[Cost]]+((CompareWarrYrs-Table5[[#This Row],[S]])*(Incremental_Warr_Yr*Table5[[#This Row],[Cost]]))*Exchange_Rate -> 332.4867 | Z89: =Table5[[#This Row],[$+Warr]]/Table5[[#This Row],[SizTB]] -> 41.560838 | AA89: =Table5[[#This Row],[$PerTB]]/CompareWarrYrs -> 8.3121675
A90: 43046 | B90: WD | C90: Ae | D90: NAS | E90: 3.5 | F90: 6 | G90: 5760 | J90: =(Table5[[#This Row],[RPM]]/5400-1) -> 0.066666667 | K90: 150 | L90: 3 | M90: 300000 | O90: 500000 | P90: =10^14 -> 100000000000000 | R90: 6.5 | S90: 4.8 | U90: =(((Table5[[#This Row],[Watts Active]]*Power_On_Hours_Year/1000)*Active_Duty_Cycle)+((Table5[[#This Row],[Watts Idle]]*Power_On_Hours_Year/1000)*(100%-Active_Duty_Cycle)))*CostPerKWH -> 5.6320008 | V90: =Table5[Energy$year]/Table5[[#This Row],[SizTB]] -> 0.9386668 | W90: 159.99 | X90: =Table5[[#This Row],[Cost]]/Table5[[#This Row],[SizTB]]*Exchange_Rate -> 26.665 | Y90: =Table5[[#This Row],[Cost]]+((CompareWarrYrs-Table5[[#This Row],[S]])*(Incremental_Warr_Yr*Table5[[#This Row],[Cost]]))*Exchange_Rate -> 195.1878 | Z90: =Table5[[#This Row],[$+Warr]]/Table5[[#This Row],[SizTB]] -> 32.5313 | AA90: =Table5[[#This Row],[$PerTB]]/CompareWarrYrs -> 6.50626
A91: 43041 | B91: WD | C91: Black | D91: DT | E91: 2.5 | F91: 1 | G91: 7200 | J91: =(Table5[[#This Row],[RPM]]/5400-1) -> 0.33333333 | L91: 5 | M91: 600000 | P91: =10^14 -> 100000000000000 | Q91: =1.1*5 -> 5.5 | R91: 1.8 | S91: 0.8 | T91: 0.2 | U91: =(((Table5[[#This Row],[Watts Active]]*Power_On_Hours_Year/1000)*Active_Duty_Cycle)+((Table5[[#This Row],[Watts Idle]]*Power_On_Hours_Year/1000)*(100%-Active_Duty_Cycle)))*CostPerKWH -> 1.09572 | V91: =Table5[Energy$year]/Table5[[#This Row],[SizTB]] -> 1.09572 | W91: 66.99 | X91: =Table5[[#This Row],[Cost]]/Table5[[#This Row],[SizTB]]*Exchange_Rate -> 66.99 | Y91: =Table5[[#This Row],[Cost]]+((CompareWarrYrs-Table5[[#This Row],[S]])*(Incremental_Warr_Yr*Table5[[#This Row],[Cost]]))*Exchange_Rate -> 66.99 | Z91: =Table5[[#This Row],[$+Warr]]/Table5[[#This Row],[SizTB]] -> 66.99 | AA91: =Table5[[#This Row],[$PerTB]]/CompareWarrYrs -> 13.398
A92: 43060 | B92: WD | C92: Black | D92: DT | E92: 3.5 | F92: 1 | G92: 7200 | J92: =(Table5[[#This Row],[RPM]]/5400-1) -> 0.33333333 | K92: 150 | L92: 5 | M92: 300000 | P92: =10^14 -> 100000000000000 | R92: 6.8 | S92: 6.1 | T92: 0.8 | U92: =(((Table5[[#This Row],[Watts Active]]*Power_On_Hours_Year/1000)*Active_Duty_Cycle)+((Table5[[#This Row],[Watts Idle]]*Power_On_Hours_Year/1000)*(100%-Active_Duty_Cycle)))*CostPerKWH -> 6.8372928 | V92: =Table5[Energy$year]/Table5[[#This Row],[SizTB]] -> 6.8372928 | W92: 69.99 | X92: =Table5[[#This Row],[Cost]]/Table5[[#This Row],[SizTB]]*Exchange_Rate -> 69.99 | Y92: =Table5[[#This Row],[Cost]]+((CompareWarrYrs-Table5[[#This Row],[S]])*(Incremental_Warr_Yr*Table5[[#This Row],[Cost]]))*Exchange_Rate -> 69.99 | Z92: =Table5[[#This Row],[$+Warr]]/Table5[[#This Row],[SizTB]] -> 69.99 | AA92: =Table5[[#This Row],[$PerTB]]/CompareWarrYrs -> 13.998
A93: 43053 | B93: WD | C93: Black | D93: DT | E93: 3.5 | F93: 2 | G93: 7200 | J93: =(Table5[[#This Row],[RPM]]/5400-1) -> 0.33333333 | K93: 164 | L93: 5 | M93: 300000 | P93: =10^14 -> 100000000000000 | R93: 9.5 | S93: 8.1 | T93: 1.3 | U93: =(((Table5[[#This Row],[Watts Active]]*Power_On_Hours_Year/1000)*Active_Duty_Cycle)+((Table5[[#This Row],[Watts Idle]]*Power_On_Hours_Year/1000)*(100%-Active_Duty_Cycle)))*CostPerKWH -> 9.1821336 | V93: =Table5[Energy$year]/Table5[[#This Row],[SizTB]] -> 4.5910668 | W93: 124.99 | X93: =Table5[[#This Row],[Cost]]/Table5[[#This Row],[SizTB]]*Exchange_Rate -> 62.495 | Y93: =Table5[[#This Row],[Cost]]+((CompareWarrYrs-Table5[[#This Row],[S]])*(Incremental_Warr_Yr*Table5[[#This Row],[Cost]]))*Exchange_Rate -> 124.99 | Z93: =Table5[[#This Row],[$+Warr]]/Table5[[#This Row],[SizTB]] -> 62.495 | AA93: =Table5[[#This Row],[$PerTB]]/CompareWarrYrs -> 12.499
A94: 43053 | B94: WD | C94: Black | D94: DT | E94: 3.5 | F94: 4 | G94: 7200 | J94: =(Table5[[#This Row],[RPM]]/5400-1) -> 0.33333333 | K94: 202 | L94: 5 | M94: 300000 | P94: =10^14 -> 100000000000000 | R94: 9.1 | S94: 5.8 | T94: 1 | U94: =(((Table5[[#This Row],[Watts Active]]*Power_On_Hours_Year/1000)*Active_Duty_Cycle)+((Table5[[#This Row],[Watts Idle]]*Power_On_Hours_Year/1000)*(100%-Active_Duty_Cycle)))*CostPerKWH -> 7.0783512 | V94: =Table5[Energy$year]/Table5[[#This Row],[SizTB]] -> 1.7695878 | W94: 184.99 | X94: =Table5[[#This Row],[Cost]]/Table5[[#This Row],[SizTB]]*Exchange_Rate -> 46.2475 | Y94: =Table5[[#This Row],[Cost]]+((CompareWarrYrs-Table5[[#This Row],[S]])*(Incremental_Warr_Yr*Table5[[#This Row],[Cost]]))*Exchange_Rate -> 184.99 | Z94: =Table5[[#This Row],[$+Warr]]/Table5[[#This Row],[SizTB]] -> 46.2475 | AA94: =Table5[[#This Row],[$PerTB]]/CompareWarrYrs -> 9.2495
A95: 43053 | B95: WD | C95: Black | D95: DT | E95: 3.5 | F95: 6 | G95: 7200 | J95: =(Table5[[#This Row],[RPM]]/5400-1) -> 0.33333333 | K95: 227 | L95: 5 | M95: 300000 | P95: =10^14 -> 100000000000000 | R95: 9.1 | S95: 7.1 | T95: 1 | U95: =(((Table5[[#This Row],[Watts Active]]*Power_On_Hours_Year/1000)*Active_Duty_Cycle)+((Table5[[#This Row],[Watts Idle]]*Power_On_Hours_Year/1000)*(100%-Active_Duty_Cycle)))*CostPerKWH -> 8.2179 | V95: =Table5[Energy$year]/Table5[[#This Row],[SizTB]] -> 1.36965 | W95: 199.99 | X95: =Table5[[#This Row],[Cost]]/Table5[[#This Row],[SizTB]]*Exchange_Rate -> 33.331667 | Y95: =Table5[[#This Row],[Cost]]+((CompareWarrYrs-Table5[[#This Row],[S]])*(Incremental_Warr_Yr*Table5[[#This Row],[Cost]]))*Exchange_Rate -> 199.99 | Z95: =Table5[[#This Row],[$+Warr]]/Table5[[#This Row],[SizTB]] -> 33.331667 | AA95: =Table5[[#This Row],[$PerTB]]/CompareWarrYrs -> 6.6663333
A96: 43046 | B96: WD | C96: Blue | D96: DT | E96: 3.5 | F96: 1 | G96: 5400 | J96: =(Table5[[#This Row],[RPM]]/5400-1) -> 0 | K96: 150 | L96: 2 | M96: 300000 | P96: =10^14 -> 100000000000000 | W96: 44.99 | X96: =Table5[[#This Row],[Cost]]/Table5[[#This Row],[SizTB]]*Exchange_Rate -> 44.99 | Y96: =Table5[[#This Row],[Cost]]+((CompareWarrYrs-Table5[[#This Row],[S]])*(Incremental_Warr_Yr*Table5[[#This Row],[Cost]]))*Exchange_Rate -> 59.8367 | Z96: =Table5[[#This Row],[$+Warr]]/Table5[[#This Row],[SizTB]] -> 59.8367 | AA96: =Table5[[#This Row],[$PerTB]]/CompareWarrYrs -> 11.96734
A97: 43043 | B97: WD | C97: Blue | D97: DT | E97: 3.5 | F97: 2 | G97: 5400 | J97: =(Table5[[#This Row],[RPM]]/5400-1) -> 0 | K97: 147 | L97: 2 | M97: 300000 | P97: =10^14 -> 100000000000000 | Q97: =12*1.73 -> 20.76 | R97: 4.1 | S97: 3 | T97: 0.4 | U97: =(((Table5[[#This Row],[Watts Active]]*Power_On_Hours_Year/1000)*Active_Duty_Cycle)+((Table5[[#This Row],[Watts Idle]]*Power_On_Hours_Year/1000)*(100%-Active_Duty_Cycle)))*CostPerKWH -> 3.5282184 | V97: =Table5[Energy$year]/Table5[[#This Row],[SizTB]] -> 1.7641092 | W97: 59.99 | X97: =Table5[[#This Row],[Cost]]/Table5[[#This Row],[SizTB]]*Exchange_Rate -> 29.995 | Y97: =Table5[[#This Row],[Cost]]+((CompareWarrYrs-Table5[[#This Row],[S]])*(Incremental_Warr_Yr*Table5[[#This Row],[Cost]]))*Exchange_Rate -> 79.7867 | Z97: =Table5[[#This Row],[$+Warr]]/Table5[[#This Row],[SizTB]] -> 39.89335 | AA97: =Table5[[#This Row],[$PerTB]]/CompareWarrYrs -> 7.97867
A98: 43033 | B98: WD | C98: Blue | D98: DT | E98: 3.5 | F98: 3 | G98: 5400 | J98: =(Table5[[#This Row],[RPM]]/5400-1) -> 0 | K98: 147 | L98: 2 | M98: 300000 | P98: =10^14 -> 100000000000000 | Q98: =12*1.73 -> 20.76 | R98: 4.1 | S98: 3 | T98: 0.4 | U98: =(((Table5[[#This Row],[Watts Active]]*Power_On_Hours_Year/1000)*Active_Duty_Cycle)+((Table5[[#This Row],[Watts Idle]]*Power_On_Hours_Year/1000)*(100%-Active_Duty_Cycle)))*CostPerKWH -> 3.5282184 | V98: =Table5[Energy$year]/Table5[[#This Row],[SizTB]] -> 1.1760728 | W98: 79.99 | X98: =Table5[[#This Row],[Cost]]/Table5[[#This Row],[SizTB]]*Exchange_Rate -> 26.663333 | Y98: =Table5[[#This Row],[Cost]]+((CompareWarrYrs-Table5[[#This Row],[S]])*(Incremental_Warr_Yr*Table5[[#This Row],[Cost]]))*Exchange_Rate -> 106.3867 | Z98: =Table5[[#This Row],[$+Warr]]/Table5[[#This Row],[SizTB]] -> 35.462233 | AA98: =Table5[[#This Row],[$PerTB]]/CompareWarrYrs -> 7.0924467
A99: 43053 | B99: WD | C99: Blue | D99: DT | E99: 3.5 | F99: 4 | G99: 5400 | J99: =(Table5[[#This Row],[RPM]]/5400-1) -> 0 | K99: 150 | L99: 2 | M99: 300000 | P99: =10^14 -> 100000000000000 | Q99: =12*1.75 -> 21 | R99: 5.3 | S99: 3.4 | T99: 0.4 | U99: =(((Table5[[#This Row],[Watts Active]]*Power_On_Hours_Year/1000)*Active_Duty_Cycle)+((Table5[[#This Row],[Watts Idle]]*Power_On_Hours_Year/1000)*(100%-Active_Duty_Cycle)))*CostPerKWH -> 4.1418216 | V99: =Table5[Energy$year]/Table5[[#This Row],[SizTB]] -> 1.0354554 | W99: 99.99 | X99: =Table5[[#This Row],[Cost]]/Table5[[#This Row],[SizTB]]*Exchange_Rate -> 24.9975 | Y99: =Table5[[#This Row],[Cost]]+((CompareWarrYrs-Table5[[#This Row],[S]])*(Incremental_Warr_Yr*Table5[[#This Row],[Cost]]))*Exchange_Rate -> 132.9867 | Z99: =Table5[[#This Row],[$+Warr]]/Table5[[#This Row],[SizTB]] -> 33.246675 | AA99: =Table5[[#This Row],[$PerTB]]/CompareWarrYrs -> 6.649335
A100: 43019 | B100: WD | C100: Blue | D100: DT | E100: 3.5 | F100: 6 | G100: 5400 | J100: =(Table5[[#This Row],[RPM]]/5400-1) -> 0 | K100: 175 | L100: 2 | M100: 300000 | P100: =10^14 -> 100000000000000 | Q100: =12*1.75 -> 21 | R100: 5.3 | S100: 3.4 | T100: 0.4 | U100: =(((Table5[[#This Row],[Watts Active]]*Power_On_Hours_Year/1000)*Active_Duty_Cycle)+((Table5[[#This Row],[Watts Idle]]*Power_On_Hours_Year/1000)*(100%-Active_Duty_Cycle)))*CostPerKWH -> 4.1418216 | V100: =Table5[Energy$year]/Table5[[#This Row],[SizTB]] -> 0.6903036 | W100: 196.99 | X100: =Table5[[#This Row],[Cost]]/Table5[[#This Row],[SizTB]]*Exchange_Rate -> 32.831667 | Y100: =Table5[[#This Row],[Cost]]+((CompareWarrYrs-Table5[[#This Row],[S]])*(Incremental_Warr_Yr*Table5[[#This Row],[Cost]]))*Exchange_Rate -> 261.9967 | Z100: =Table5[[#This Row],[$+Warr]]/Table5[[#This Row],[SizTB]] -> 43.666117 | AA100: =Table5[[#This Row],[$PerTB]]/CompareWarrYrs -> 8.7332233
...

Sheet Tables
A2: Type | B2: NAS
A3: FormFactor | B3: 3.5
A4: NAS Drives Avg Cost By Size Per Year
A5: Row Labels | B5: Average of $ TB/year
A6: 0.9 | B6: 0
A7: 1 | B7: 13.38696
A8: 2 | B8: 14.578945
A9: 3 | B9: 7.9291867
A10: 4 | B10: 8.8935839
A11: 5 | B11: 12.032
A12: 6 | B12: 7.7857242
A13: 8 | B13: 7.4468315
A14: 10 | B14: 6.7123085
A15: 12 | B15: 8.8520593
A16: Avg By Size | B16: 9.2065743
A20: Type | B20: NAS
A21: FormFactor | B21: 3.5
A22: Avg Energy Cost by Size per TB per Year
A23: Row Labels | B23: Cost per TB per year
A24: 0.9 | B24: 7.4021973
A25: 1 | B25: 3.5444351
A26: 2 | B26: 2.496598
A27: 3 | B27: 1.789676
A28: 4 | B28: 1.6106475
A29: 5 | B29: 1.2359722
A30: 6 | B30: 1.199747
A31: 8 | B31: 0.85959234
A32: 10 | B32: 0.57497907
A33: 12 | B33: 0.50695312
A34: Average | B34: 1.5542209
A38: Type | B38: NAS
A39: FormFactor | B39: 3.5
A40: Avg Energy Cost by Size per Year
A41: Row Labels | B41: Average of Energy$year
A42: 0.9 | B42: 6.6619776
A43: 1 | B43: 3.5444351
A44: 2 | B44: 4.993196
A45: 3 | B45: 5.369028
A46: 4 | B46: 6.4425901
A47: 5 | B47: 6.1798608
A48: 6 | B48: 7.198482
A49: 8 | B49: 6.8767387
A50: 10 | B50: 5.7497907
A51: 12 | B51: 6.0834374
A52: Average | B52: 6.0507426
A57: Type | B57: NAS
A58: FormFactor | B58: 3.5
A59: 3.5" NAS Drives Avg Cost by RPM by Manu
A60: Row Labels | B60: Average of $PerTB
A61: 5400 | B61: 48.425142
A62: WD | B62: 48.425142
A63: 5760 | B63: 32.5313
A64: WD | B64: 32.5313
A65: 5900 | B65: 53.727987
A66: Seagate | B66: 53.727987
A67: 7200 | B67: 46.207594
A68: HGST | B68: 42.466989
A69: Seagate | B69: 50.258682
A70: Toshiba | B70: 35.077649
A71: WD | B71: 48.564917
A72: 15000 | B72: 0
A73: Seagate | B73: 0
A74: Grand Total | B74: 46.138783
A77: Type | B77: NAS
A78: FormFactor | B78: 3.5
A79: Manu | B79: (All)
A80: MTBF | B80: (Multiple Items)
A82: Row Labels | B82: Average of MaxStartupWatts
A83: 1 | B83: 14.4
A84: 5400 | B84: 14.4
A85: 5900 | B85: 14.4
A86: 2 | B86: 22.89
A87: 5400 | B87: 20.76
A88: 5900 | B88: 24
A89: 7200 | B89: 23.4
A90: 3 | B90: 22.52
A91: 5400 | B91: 20.76
A92: 5900 | B92: 24
A93: 7200 | B93: 22.8
A94: 4 | B94: 23.68
... A101: 5400 | B101: 21
A102: 5760
A103: 7200 | B103: 24.27
A104: 8 | B104: 23.712
A105: 5400 | B105: 21.48
A106: 7200 | B106: 24.27
A107: 10 | B107: 23.736
A108: 5400 | B108: 21.48
A109: 7200 | B109: 24.3
A110: 12 | B110: 22.8
A111: 7200 | B111: 22.8
A112: Grand Total | B112: 22.785455

Sheet Charts
A1: These are incomplete at this time…

Sheet Database
A1: Date | B1: Manu | C1: Model | D1: Type | E1: SizTB | F1: RPM | G1: AvgLatency | H1: SeekT | I1: PerfCmp | J1: XferRate | K1: Warnty | L1: CycleCnt | M1: WorkLoad | N1: MTBF | O1: RErrRate | P1: MaxStartupWatts | Q1: Watts Active | R1: Watts Idle | S1: WattsStandby | T1: Cost | U1: $ TB | V1: $+Warr | W1: $PerTB | X1: $ TB/year | Y1: Comp $/Perf/Size | Z1: Energy$year | AA1: Energy$yearPerTB | AB1: Notes
D2: NAS | E2: 10 | T2: >100
A4: =DVAR('Drive Table'!$A$2:$AB$125,"Cost",$A$1:$AB$2) -> 2396.7261 | B4: Mean
A5: =DAVERAGE('Drive Table'!$A$2:$AB$125,"Cost",$A$1:$AB$2) -> 356.9625 | B5: Avg
A6: =DMIN('Drive Table'!$A$2:$AB$125,"Cost",$A$1:$AB$2) -> 299.99 | B6: Min
A7: =DMAX('Drive Table'!$A$2:$AB$125,"Cost",$A$1:$AB$2) -> 440.77 | B7: Max
A8: =DCOUNTA('Drive Table'!$A$2:$AB$125,"Cost",$A$1:$AB$2) -> 8 | B8: Qty
